Felt | Verdi |
-1
0
0.5
2
2009-04-24T22:02:40+02:00 File _MG_8753_krokus_.psd saved
2009-04-24T22:04:33+02:00 File _MG_8753_krokus_.psd closed
2009-04-24T22:04:33+02:00 File _MG_8753_krokus_.psd saved
2009-04-24T23:24:51+02:00 File _MG_8753_krokus_.psd opened
2009-04-24T23:29+02:00 File _MG_8753_krokus_.psd saved
2009-04-24T23:29:38+02:00 File _MG_8753_krokus_.psd opened
2009-04-24T23:30:24+02:00 File _MG_8753_krokus_.jpg saved
A: 23.24
A: 7.77
Adjustment: curves adjustment list
Alignment: left
AlreadyApplied | True |
Angle: 0°
Angle: 14.3°
Anti-alias: sharp
Aperture | 13.0 |
ApertureValue | 13.0 |
Artist | Geir Ellingsrud |
AuthorsPosition | Professor |
Auto Justify
Auto Kern: manual
Auto Kern: metrics
Auto Leading Percentage: 1.2
AutoTCY: 1
Axis: horizontal
B: 11.08
B: 26.37
Base: 0, 0
Baseline Direction: rotated
Baseline Direction: with stream
Baseline Position: normal
Baseline Shift: 0 points
Bend: 0
BitsPerSample | 8 |
BlueHue | 0 |
BlueSaturation | 0 |
Bottom: 13.89 cm
Bottom: 17.2 cm
Bottom: 24.55 cm
Bottom: 6.48
Bounds: rectangle
Brightness | +29 |
Brightness/Contrast 1 Layer
Brightness: -18
Burasagari: None
By-line | Geir Ellingsrud |
By-lineTitle | Professor |
CameraProfile | Adobe Standard |
Canvas Size
Canvas Size With Relative
CaptionWriter | Ge |
Channel: a channel
Channel: b channel
Channel: lightness channel
ChromaticAberrationB | 0 |
ChromaticAberrationR | 0 |
CircleOfConfusion | 0.019 mm |
Clarity | +65 |
Color: Lab color
ColorComponents | 3 |
ColorMode | RGB |
ColorNoiseReduction | 25 |
ColorSpace | sRGB |
ColorTemperature | 4600 |
Column Count: 1
Column Gutter: 0 points
Column Spacing: 0 points
Contrast | +64 |
Contrast: -19
Convert Mode To: Lab color mode
Convert Mode To: RGB color mode
ConvertToGrayscale | False |
CreateDate (1) | 2009:04:24 15:18:11.02+02:00 |
CreateDate | 2009:04:24 15:18:11 |
Creator | Geir Ellingsrud |
CreatorAddress | Ekebergveien 224c |
CreatorCity | Oslo |
CreatorCountry | Norway |
CreatorPostalCode | N-1162 |
Crop
Crop To: rectangle
Curve: point list
Curves 1 Layer
curves adjustment
CustomRendered | Normal |
DateTimeDigitized | 2009:04:24 15:18:11.02+02:00 |
DateTimeOriginal (1) | 2009:04:24 15:18:11.02+02:00 |
DateTimeOriginal | 2009:04:24 15:18:11 |
Default Character Style: text style
Default Tab Width: 36
Defringe | 0 |
Delete current layer
Delete Layer
Desired Glyph Scaling Percent: 1
Desired Letter Spacing Percent: 0
Desired Word Spacing Percent: 1
Drop Cap Multiplier: 1
Edit Type Layer
End Indent: 0 points
ExifImageHeight | 1569 |
ExifImageWidth | 1261 |
Exposure | -0.65 |
ExposureCompensation | +1/3 |
ExposureMode | Auto |
ExposureProgram | Aperture-priority AE |
ExposureTime | 1/125 |
Extension Color: color
false
Figure Style: normal
FillLight | 35 |
Firmware | 1.0.4 |
First Line Alignment: Ascent
First Line Indent: 0 points
First Line Minimum Height: 0 points
Flash | Off, Did not fire |
FlashCompensation | 0 |
FlashFired | False |
FlashFunction | False |
FlashMode | Off |
FlashRedEyeMode | False |
FlashReturn | No return detection |
Flatten Image
FNumber | 13.0 |
FocalLength | 200.0 mm |
FocalLength35efl | 200.0 mm (35 mm equivalent: 323.1 mm) |
Font Caps Option: normal
Font Name: “Didot”
Font Name: “Myriad Pro”
Font Style: “Italic”
Font Style: “Regular”
Font Technology: 0
Font Technology: 1
Format | image/jpeg |
FOV | 6.4 deg |
From: 0
GreenHue | 0 |
GreenSaturation | 0 |
Grid Alignment: Roman Baseline
HasCrop | False |
HasSettings | True |
Height: 0.8%
Hide current layer
Hide layer “Brightness/Contrast 1”
Hide layer “Curves 1”
Hide layer “Tulipan - Tyslevseter 2009”
HighlightRecovery | 11 |
Horizontal Distortion: 0
Horizontal Scale: 100
Horizontal: center
HueAdjustmentAqua | 0 |
HueAdjustmentBlue | 0 |
HueAdjustmentGreen | 0 |
HueAdjustmentMagenta | 0 |
HueAdjustmentOrange | 0 |
HueAdjustmentPurple | 0 |
HueAdjustmentRed | 0 |
HueAdjustmentYellow | 0 |
HyperfocalDistance | 165.43 m |
Hyphenate After Length: 2
Hyphenate Before Length: 2
Hyphenation Minimum Word Length: 6
Hyphenation Preference: 0.5
Hyphenation Zone: 36
ICCProfileName | sRGB IEC61966-2.1 |
ImageHeight (1) | 3413 |
ImageHeight | 1569 |
ImageNumber | 0 |
ImageSize | 1261x1569 |
ImageWidth (1) | 5120 |
ImageWidth | 1261 |
ISO | 200 |
Japanese Alternate: Default Form
Kerning Style Range: none
Kinsoku Order: Push In First
Lab Color
Label | Select |
Layer Order
Layer Via Copy
Leading Type: bottom-to-bottom leading
Left: 0
Left: 0 cm
Left: 10.58 cm
Left: 5.65 cm
Lens | 18-200mm |
LensInfo | 18-200mm f/? |
LightValue | 13.4 |
Line Cap: Butt
Line Join: Miter
Line Width: 0 points
Line Width: 0.2 points
Luminance: 22.13
Luminance: 32.34
LuminanceAdjustmentAqua | 0 |
LuminanceAdjustmentBlue | 0 |
LuminanceAdjustmentGreen | 0 |
LuminanceAdjustmentMagenta | 0 |
LuminanceAdjustmentOrange | 0 |
LuminanceAdjustmentPurple | 0 |
LuminanceAdjustmentRed | 0 |
LuminanceAdjustmentYellow | 0 |
LuminanceSmoothing | 0 |
Make adjustment layer Using: adjustment layer
Make text layer Using: text layer
Make | Canon |
Master Opacity Change
MaxApertureValue | 6.2 |
Maximum Consecutive Hyphens: 0
Maximum Glyph Scaling Percent: 1
Maximum Letter Spacing Percent: 0
Maximum Word Spacing Percent: 1.33
Megapixels | 2.0 |
Merge Down
Merge Layers
MeteringMode | Partial |
Minimum Glyph Scaling Percent: 1
Minimum Letter Spacing Percent: 0
Minimum Word Spacing Percent: 0.8
Miter Limit: 0 points
Miter Limit: 1 points
Model | Canon EOS 450D |
Modify Brightness/Contrast Layer
Modify Curves Layer
ModifyDate (1) | 2009:04:24 23:30:24+02:00 |
ModifyDate | 2009:04:24 23:30:24 |
Move current layer To: layer 4
Opacity: 24%
Opacity: 38%
Opacity: 7%
Open Macintosh HD:Users:geirellingsrud:Pictures:20090424:_MG_8753_krokus_.psd
Open Type Baseline Position: normal
Orientation | Horizontal (normal) |
Orientation: horizontal
paragraph style range
Paragraph Style Range: paragraph style range list
paragraph style: paragraph style
ParametricDarks | 0 |
ParametricHighlights | 0 |
ParametricHighlightSplit | 75 |
ParametricLights | 0 |
ParametricMidtoneSplit | 50 |
ParametricShadows | 0 |
ParametricShadowSplit | 25 |
point: 0, 0
point: 117, 138
point: 123, 120
point: 128, 126
point: 128, 128
point: 16, 0
point: 163, 175
point: 227, 255
point: 229, 255
point: 23, 0
point: 255, 255
point: 37, 0
point: 60, 58
point: 96, 91
PostCropVignetteAmount | 0 |
PostScript Name: “Didot-Italic”
PostScript Name: “MyriadPro-Regular”
Preset Kind: Custom
Preset Kind: Default
ProfileDescription | sRGB IEC61966-2.1 |
Radius: 1.1 pixels
Rating | 5 |
RawFileName | _MG_8753.CR2 |
RedHue | 0 |
RedSaturation | 0 |
RGB Color
Right: 1.438
Right: 10.68 cm
Right: 16.24 cm
Right: 31.42 cm
Row Count: 1
Row Gutter: 0 points
Saturation | 0 |
SaturationAdjustmentAqua | 0 |
SaturationAdjustmentBlue | 0 |
SaturationAdjustmentGreen | 0 |
SaturationAdjustmentMagenta | 0 |
SaturationAdjustmentOrange | 0 |
SaturationAdjustmentPurple | 0 |
SaturationAdjustmentRed | 0 |
SaturationAdjustmentYellow | 0 |
ScaleFactor35efl | 1.6 |
SceneCaptureType | Standard |
Script: 0
Select a channel
Select b channel
Select current layer Without Make Visible
Select Lab channel
Select layer “Background copy” Without Make Visible
Select layer “Background” Without Make Visible
Select layer “Brightness/Contrast 1” Without Make Visible
Select layer “Curves 1” Without Make Visible
Select layer “Tulipan - Tyslevseter 2009” Without Make Visible
Select layer “Tulipan III - Tyslevseter 2009” Without Make Visible
Select lightness channel
SerialNumber | 680121782 |
Set current adjustment layer To: brightness/contrast
Set current adjustment layer To: curves
Set current layer To: layer
Set current text layer To: text layer
Shadows | 11 |
ShadowTint | 0 |
SharpenDetail | 30 |
SharpenEdgeMasking | 0 |
SharpenRadius | +1.2 |
Sharpness | 99 |
Show current layer
Show layer “Brightness/Contrast 1”
Show layer “Curves 1”
Show layer “Tulipan - Tyslevseter 2009”
ShutterSpeed | 1/125 |
ShutterSpeedValue | 1/125 |
Single Word Justification: justify all
Size: 11 points
Size: 2.9 points
Size: 9 points
Software | Adobe Photoshop CS4 Macintosh |
Space After: 0 points
Space Before: 0 points
SplitToningBalance | 0 |
SplitToningHighlightHue | 0 |
SplitToningHighlightSaturation | 0 |
SplitToningShadowHue | 0 |
SplitToningShadowSaturation | 0 |
Start Indent: 0 points
Strikethrough: Strikethrough Off
Stroke Color: Lab color
style range
Style Range: none
Style Range: style range list
Style: None
style: text style
Target Height: 0 pixels
Target Resolution: 0 per cm
Target Width: 0 pixels
Text Click Point: -85%, 0%
Text Click Point: 3.3%, 98.1%
Text Gridding: none
Text Language: English: USA
Text Orientation: horizontal
Text Shape
Text Shape Type: box
Text Shape Type: point
Text Shape: Text Shape list
Text: “Tulipan - Tyslevseter 2009”
Text: “Tulipan III - Tyslevseter 2009”
Text: “”
Threshold: 8
Tint | +4 |
To: 28
To: 31
ToneCurve | 0, 0, 32, 22, 64, 56, 128, 128, 192, 196, 255, 255 |
ToneCurveName | Medium Contrast |
Top: 0
Top: 0.6 cm
Top: 2.49 cm
Top: 3.43 cm
Tracking: 0
Transform: transform
true
Tsume: 0
tx: 0
ty: 0
Type Tool
Type: brightness/contrast
Type: curves
Underline Offset: 0 points
Underline: Underline Off
Undo
Unsharp Mask
Unsharp Mask Amount: 273%
URL_List | |
Version | 5.3 |
Vertical Distortion: 0
Vertical Scale: 100
Vertical: center
Vibrance | -9 |
VignetteAmount | 0 |
Warp: Warp
WhiteBalance (2) | As Shot |
WhiteBalance | Auto |
Width: 0.8%
With Auto Hyphenate
With Auto-Leading
With Fill
With Fill First
With Hide
With Hyphenate Capitalized Words
With Use Contextual Alternates
With Use Keep Together
With Use Ligatures
With Use Row Major Order
Without Adjust Selection
Without Every Line Composer
Without Faux Bold
Without Faux Italic
Without Fill First
Without Flatten
Without No Break
Without Rasterize
Without Roman Hanging Punctuation
Without Stroke
Without Use Alternate Ligatures
Without Use Contextual Alternates
Without Use Fill OverPrint
Without Use Fractions
Without Use Italics
Without Use Kana
Without Use Moji Shori
Without Use Oldstyle
Without Use Ordinals
Without Use Ornaments
Without Use Proportional Metrics
Without Use Stroke OverPrint
Without Use Stylistic Alternates
Without Use Swash Characters
Without Use Titling Characters
Writer-Editor | Ge |
xx: 1
xy: 0
yx: 0
yy: 1