Felt | Verdi |
AlreadyApplied | True |
Aperture | 4.5 |
ApertureValue | 4.5 |
Artist | unknown |
BitsPerSample | 8 |
BlueHue | 0 |
BlueSaturation | 0 |
Brightness | +23 |
By-line | unknown |
CameraProfile | ACR 2.4 |
ChromaticAberrationB | 0 |
ChromaticAberrationR | 0 |
CircleOfConfusion | 0.019 mm |
Clarity | 54 |
ColorComponents | 1 |
ColorMode | Grayscale |
ColorNoiseReduction | 25 |
ColorSpace (1) | Unknown (-1) |
ColorSpace | Uncalibrated |
ColorTemperature | 5750 |
Contrast | +67 |
ConvertToGrayscale | True |
CopyrightFlag | False |
CreateDate (1) | 2009:04:02 14:28:30+02:00 |
CreateDate | 2008:05:25 18:32:38 |
Creator | unknown |
CreatorTool | Adobe Photoshop CS3 Windows |
CropAngle | 0 |
CropBottom | 0.907638 |
CropLeft | 0.149289 |
CropRight | 0.882701 |
CropTop | 0.207815 |
CustomRendered | Normal |
DateTimeDigitized | 2008:05:25 18:32:38+02:00 |
DateTimeOriginal (1) | 2008:05:25 18:32:38+02:00 |
DateTimeOriginal | 2008:05:25 18:32:38 |
Defringe | 0 |
ExifImageHeight | 1635 |
ExifImageWidth | 2570 |
Exposure | +0.85 |
ExposureCompensation | 0 |
ExposureMode | Manual |
ExposureProgram | Manual |
ExposureTime | 1/800 |
FillLight | 20 |
Firmware | 2.0.3 |
Flash | Off, Did not fire |
FlashCompensation | 0 |
FlashFired | False |
FlashFunction | False |
FlashMode | Off |
FlashRedEyeMode | False |
FlashReturn | No return detection |
FNumber | 4.5 |
FocalLength | 80.0 mm |
FocalLength35efl | 80.0 mm (35 mm equivalent: 128.1 mm) |
Format | image/jpeg |
FOV | 16.0 deg |
GrayMixerAqua | -49 |
GrayMixerBlue | -63 |
GrayMixerGreen | -35 |
GrayMixerMagenta | -77 |
GrayMixerOrange | -20 |
GrayMixerPurple | -81 |
GrayMixerRed | -79 |
GrayMixerYellow | -66 |
GreenHue | 0 |
GreenSaturation | 0 |
HasCrop | True |
HasSettings | True |
HighlightRecovery | 58 |
HyperfocalDistance | 75.81 m |
ICCProfileName | Gray Gamma 2.2 |
ImageHeight | 1635 |
ImageNumber | 76 |
ImageSize | 2570x1635 |
ImageWidth | 2570 |
ISO | 100 |
Lens | 80.0-200.0 mm |
LensInfo | 80-200mm f/? |
LightValue | 14.0 |
LuminanceSmoothing | 0 |
Make | Canon |
MaxApertureValue | 4.5 |
Megapixels | 4.2 |
MeteringMode | Partial |
Model | Canon EOS 20D |
ModifyDate (1) | 2009:04:02 14:28:30+02:00 |
ModifyDate | 2009:04:02 14:28:30 |
Orientation | Horizontal (normal) |
OwnerName | unknown |
ParametricDarks | 0 |
ParametricHighlights | 0 |
ParametricHighlightSplit | 75 |
ParametricLights | 0 |
ParametricMidtoneSplit | 50 |
ParametricShadows | 0 |
ParametricShadowSplit | 25 |
ProfileDescription | Gray Gamma 2.2 |
Rating | 0 |
RawFileName | IMG_5196.CR2 |
RedHue | 0 |
RedSaturation | 0 |
ScaleFactor35efl | 1.6 |
SceneCaptureType | Standard |
SerialNumber | 830417561 |
Shadows | 11 |
ShadowTint | 0 |
SharpenDetail | 25 |
SharpenEdgeMasking | 0 |
SharpenRadius | +1.0 |
Sharpness | 25 |
ShutterSpeed | 1/800 |
ShutterSpeedValue | 1/800 |
SidecarForExtension | CR2 |
Software | Adobe Photoshop CS3 Windows |
SplitToningBalance | 0 |
SplitToningHighlightHue | 0 |
SplitToningHighlightSaturation | 0 |
SplitToningShadowHue | 0 |
SplitToningShadowSaturation | 0 |
Tint | +8 |
ToneCurve | 0, 0, 32, 22, 64, 56, 128, 128, 192, 196, 255, 255 |
ToneCurveName | Medium Contrast |
URL_List | |
Version | 4.4.1 |
VignetteAmount | 0 |
WhiteBalance (2) | Custom |
WhiteBalance | Auto |