Felt | Verdi |
AlreadyApplied | True |
Aperture | 5.6 |
ApertureValue | 5.6 |
Artist | Jan Erik Arud |
BitsPerSample (1) | 16, 16, 16 |
BitsPerSample (2) | 16 16 16 |
BitsPerSample | 8 |
BlackClip | 0.668950 |
BlueHue | 0 |
BlueSaturation | 0 |
Brightness | 0 |
By-line | Jan Erik Arud |
CameraProfile | Embedded |
ChromaticAberrationB | 0 |
ChromaticAberrationR | 0 |
Clarity | +1 |
ColorComponents | 3 |
ColorMode | RGB |
ColorNoiseReduction | 37 |
ColorNoiseReductionDetail | 50 |
ColorSaturation | 46 |
ColorSpace | sRGB |
ColorTemperature | 0 |
Contrast | +2 |
ConvertToGrayscale | False |
Copyright | Jan Erik Arud |
CopyrightFlag | True |
CopyrightNotice | Jan Erik Arud |
CreateDate | 2009:10:23 20:25:35+02:00 |
Creator | Jan Erik Arud |
CreatorTool | Adobe Photoshop Lightroom |
CreatorWorkEmail | arud@bluezone.no |
CreatorWorkURL | http://www.flickr.com/photos/jarud/ |
CropAngle | -1.53795 |
CropBottom | 0.830763 |
CropHeight | 719 |
CropLeft | 0.002316 |
CropRight | 0.999081 |
CropTop | 0.042855 |
CropUnit | pixels |
CropWidth | 1280 |
DateTimeOriginal (1) | 2009:10:23 20:25:35+02:00 |
DateTimeOriginal | 2009:10:23 20:25:35 |
Defringe | 1 |
ExifImageHeight | 734 |
ExifImageWidth | 1296 |
Exposure | +0.05 |
ExposureTime | 2.5 |
FillLight | 0 |
FNumber | 5.6 |
FocalLength | 24.0 mm |
FocalLength35efl | 24.0 mm |
Format | image/jpeg |
Gamma | 1.000000 |
GradientBasedCorrActive | true |
GradientBasedCorrAmount | 1.000000 |
GradientBasedCorrBrightness | 0.025000 |
GradientBasedCorrClarity | -0.655172 |
GradientBasedCorrContrast | -0.149425 |
GradientBasedCorrExposure | -0.241379 |
GradientBasedCorrHue (1) | 231.000000 |
GradientBasedCorrHue | 232.000000 |
GradientBasedCorrMaskFullX (1) | 0.483515 |
GradientBasedCorrMaskFullX | 0.561442 |
GradientBasedCorrMaskFullY (1) | 0.187625 |
GradientBasedCorrMaskFullY | 0.928466 |
GradientBasedCorrMaskValue | 1.000000 |
GradientBasedCorrMaskWhat | Mask/Gradient |
GradientBasedCorrMaskZeroX (1) | 0.498805 |
GradientBasedCorrMaskZeroX | 0.555774 |
GradientBasedCorrMaskZeroY (1) | 0.987595 |
GradientBasedCorrMaskZeroY | 0.552881 |
GradientBasedCorrSaturation (1) | -0.234000 |
GradientBasedCorrSaturation (2) | 0.560000 |
GradientBasedCorrSaturation (3) | -0.629000 |
GradientBasedCorrSaturation | 0.350000 |
GradientBasedCorrSharpness | -0.150000 |
GradientBasedCorrWhat | Correction |
GrainAmount | 0 |
GreenHue | 0 |
GreenSaturation | 0 |
HasCrop | True |
HasSettings | True |
HighlightRecovery | 6 |
HighlightsSmoothing | 0 |
HueAdjustmentAqua | 0 |
HueAdjustmentBlue | 0 |
HueAdjustmentGreen | 0 |
HueAdjustmentMagenta | 0 |
HueAdjustmentOrange | 0 |
HueAdjustmentPurple | 0 |
HueAdjustmentRed | 0 |
HueAdjustmentYellow | 0 |
ICCProfileName | sRGB IEC61966-2.1 |
ImageHeight (2) | 719 |
ImageHeight | 734 |
ImageSize | 1296x734 |
ImageWidth (2) | 1280 |
ImageWidth | 1296 |
IncrementalTemperature | 0 |
IncrementalTint | +20 |
ISO | 100 |
Label | Yellow |
LightValue | 3.6 |
LuminanceAdjustmentAqua | 0 |
LuminanceAdjustmentBlue | 0 |
LuminanceAdjustmentGreen | 0 |
LuminanceAdjustmentMagenta | 0 |
LuminanceAdjustmentOrange | 0 |
LuminanceAdjustmentPurple | 0 |
LuminanceAdjustmentRed | 0 |
LuminanceAdjustmentYellow | 0 |
Luminosity | -3 |
Marked | True |
Megapixels | 0.951 |
Method | Details Enhancer |
Microcontrast | 6 |
Microsmoothing | 2 |
Model | Canon EOS-1D Mark III |
ModifyDate (1) | 2009:10:25 20:02:23+01:00 |
ModifyDate | 2009:10:25 20:02:23 |
NoiseReductionContrast | 0 |
Orientation | Horizontal (normal) |
ParametricDarks | -1 |
ParametricHighlights | 0 |
ParametricHighlightSplit | 75 |
ParametricLights | +95 |
ParametricMidtoneSplit | 50 |
ParametricShadows | 0 |
ParametricShadowSplit | 25 |
PhotometricInterpretation | RGB |
PlanarConfiguration | Chunky |
PostCropVignetteAmount | 0 |
ProfileDescription | sRGB IEC61966-2.1 |
Rating | 1 |
RedHue | 0 |
RedSaturation | 0 |
RenderVersion | 5.7 |
Rights | Jan Erik Arud |
SamplesPerPixel | 3 |
Saturation | +13 |
SaturationAdjustmentAqua | 0 |
SaturationAdjustmentBlue | 0 |
SaturationAdjustmentGreen | 0 |
SaturationAdjustmentMagenta | 0 |
SaturationAdjustmentOrange | 0 |
SaturationAdjustmentPurple | 0 |
SaturationAdjustmentRed | 0 |
SaturationAdjustmentYellow | 0 |
SaturationHighlights | 0 |
SaturationShadows | 0 |
Shadows | 0 |
ShadowsClipping | 0 |
ShadowsSmoothing | 0 |
ShadowTint | 0 |
SharpenDetail | 84 |
SharpenEdgeMasking | 0 |
SharpenRadius | +0.9 |
Sharpness | 34 |
ShutterSpeed | 2.5 |
ShutterSpeedValue | 2.5 |
Smoothing | Very High |
Software | Adobe Photoshop CS4 Windows |
SplitToningBalance | 0 |
SplitToningHighlightHue | 0 |
SplitToningHighlightSaturation | 0 |
SplitToningShadowHue | 0 |
SplitToningShadowSaturation | 0 |
Strength | 87 |
ToneCurve | 0, 0, 255, 255 |
ToneCurveName | Linear |
URL_List | |
Version (1) | 3.1 |
Version | 6.0 |
Vibrance | +10 |
VignetteAmount | 0 |
WhiteBalance | Custom |
WhiteClip | 0.249450 |