Felt | Verdi |
AlreadyApplied | True |
Aperture | 11.0 |
ApertureValue | 11.0 |
Artist | Ole-Petter Hoel |
BitsPerSample | 8 |
BlueHue | 0 |
BlueSaturation | 0 |
Brightness | +50 |
By-line | Ole-Petter Hoel |
CameraProfile | ACR 2.4 |
ChromaticAberrationB | 0 |
ChromaticAberrationR | 0 |
CircleOfConfusion | 0.019 mm |
Clarity | +20 |
ColorComponents | 1 |
ColorNoiseReduction | 25 |
ColorTemperature | 5650 |
Contrast | +25 |
ConvertToGrayscale | True |
Copyright | Ole-Petter Hoel |
CopyrightFlag | True |
CopyrightNotice | Ole-Petter Hoel |
CreateDate (1) | 2006:07:13 13:25:12+02:00 |
CreateDate | 2006:07:13 13:25:12 |
Creator | Ole-Petter Hoel |
CreatorAddress | Ekelyveien 5A |
CreatorCity | 0374 Oslo |
CreatorTool | Adobe Photoshop Lightroom |
CropAngle | -2.47253 |
CropBottom | 0.958607 |
CropHeight | 650 |
CropLeft | 0.176527 |
CropRight | 0.843191 |
CropTop | 0.041393 |
CropUnit | pixels |
CropWidth | 650 |
CustomRendered | Normal |
DateTimeDigitized | 2006:07:13 13:25:12+02:00 |
DateTimeOriginal (1) | 2006:07:13 13:25:12+02:00 |
DateTimeOriginal | 2006:07:13 13:25:12 |
Defringe | 0 |
ExifImageHeight | 650 |
ExifImageWidth | 650 |
Exposure | +0.60 |
ExposureCompensation | -1 |
ExposureMode | Auto |
ExposureProgram | Program AE |
ExposureTime | 1/250 |
FillLight | 0 |
Firmware | 2.0.0 |
Flash | Off, Did not fire |
FlashCompensation | 0 |
FlashFired | False |
FlashFunction | False |
FlashMode | Off |
FlashRedEyeMode | False |
FlashReturn | No return detection |
FNumber | 11.0 |
FocalLength | 15.0 mm |
FocalLength35efl | 15.0 mm (35 mm equivalent: 24.0 mm) |
FOV | 73.7 deg |
GrayMixerAqua | +100 |
GrayMixerBlue | +3 |
GrayMixerGreen | -55 |
GrayMixerMagenta | +4 |
GrayMixerOrange | -19 |
GrayMixerPurple | +16 |
GrayMixerRed | 0 |
GrayMixerYellow | -23 |
GreenHue | 0 |
GreenSaturation | 0 |
HasCrop | True |
HasSettings | True |
HighlightRecovery | 0 |
HyperfocalDistance | 1.09 m |
ImageHeight | 650 |
ImageNumber | 253 |
ImageSize | 650x650 |
ImageWidth | 650 |
ISO | 200 |
Keywords | Danmark, Ferie |
Lens | 10.0-22.0 mm |
LensInfo | 10-22mm f/? |
LightValue | 13.9 |
LuminanceSmoothing | 0 |
Make | Canon |
Marked | True |
MaxApertureValue | 4.0 |
Megapixels | 0.422 |
MeteringMode | Partial |
Model | Canon EOS 20D |
ModifyDate (1) | 2009:12:17 18:33:53+01:00 |
ModifyDate | 2009:12:17 18:33:53 |
OwnerName | unknown |
ParametricDarks | +5 |
ParametricHighlights | +1 |
ParametricHighlightSplit | 75 |
ParametricLights | 0 |
ParametricMidtoneSplit | 50 |
ParametricShadows | 0 |
ParametricShadowSplit | 25 |
PostCropVignetteAmount | 0 |
ProfileDescription | sRGB IEC61966-2.1 |
Rating | 4 |
RedHue | 0 |
RedSaturation | 0 |
Rights | Ole-Petter Hoel |
ScaleFactor35efl | 1.6 |
SceneCaptureType | Standard |
SerialNumber | 1230607349 |
Shadows | 5 |
ShadowTint | 0 |
SharpenDetail | 25 |
SharpenEdgeMasking | 0 |
SharpenRadius | +1.0 |
Sharpness | 25 |
ShutterSpeed | 1/250 |
ShutterSpeedValue | 1/250 |
SplitToningBalance | 0 |
SplitToningHighlightHue | 0 |
SplitToningHighlightSaturation | 0 |
SplitToningShadowHue | 0 |
SplitToningShadowSaturation | 0 |
Subject | Danmark, Ferie |
Tint | +16 |
ToneCurve | 0, 0, 32, 22, 64, 56, 128, 128, 192, 196, 255, 255 |
ToneCurveName | Medium Contrast |
Version | 5.5 |
VignetteAmount | -45 |
VignetteMidpoint | 29 |
WhiteBalance (2) | As Shot |
WhiteBalance | Auto |