Felt | Verdi |
AlreadyApplied | True |
Aperture | 5.6 |
ApertureValue | 5.6 |
BitsPerSample | 8 |
BlueHue | 0 |
BlueSaturation | 0 |
Brightness | +50 |
CameraProfile | ACR 3.6 |
CFAPattern | [Green,Blue][Red,Green] |
ChromaticAberrationB | 0 |
ChromaticAberrationR | 0 |
CircleOfConfusion | 0.020 mm |
Clarity | 19 |
ColorComponents | 3 |
ColorMode | RGB |
ColorNoiseReduction | 25 |
ColorSpace | Uncalibrated |
ColorTemperature | 5300 |
Contrast (2) | +53 |
Contrast | Normal |
ConvertToGrayscale | False |
CopyrightFlag | False |
CreateDate (1) | 2010:01:19 18:11:42+01:00 |
CreateDate | 2009:12:20 15:40:52 |
CreatorTool | Adobe Photoshop CS4 (11.0x20071101 [20071101.m.190 2007/11/01:02:00:00 cutoff; m branch]) Windows |
CropAngle | 0 |
CropBottom | 0.936886 |
CropHeight | 3 |
CropLeft | 0 |
CropRight | 0.874408 |
CropTop | 0.066077 |
CropUnit | Unknown (3) |
CropWidth | 2 |
CustomRendered | Normal |
DateTimeDigitized | 2009:12:20 15:40:52.00+01:00 |
DateTimeOriginal (1) | 2009:12:20 15:40:52.00+01:00 |
DateTimeOriginal | 2009:12:20 15:40:52 |
Defringe | 0 |
DerivedFrom | |
DigitalZoomRatio | 1 |
ExifImageHeight | 2257 |
ExifImageWidth | 3191 |
Exposure | -1.15 |
ExposureCompensation | 0 |
ExposureMode | Auto |
ExposureProgram | Aperture-priority AE |
ExposureTime | 1/200 |
FillLight | 0 |
Flash | No Flash |
FlashFired | False |
FlashFunction | False |
FlashMode | Unknown |
FlashRedEyeMode | False |
FlashReturn | No return detection |
FNumber | 5.6 |
FocalLength | 135.0 mm |
FocalLength35efl | 135.0 mm (35 mm equivalent: 202.0 mm) |
FocalLengthIn35mmFormat | 202 mm |
Format | image/jpeg |
FOV | 10.2 deg |
GainControl | None |
GreenHue | 0 |
GreenSaturation | 0 |
HasCrop | True |
HasSettings | True |
HighlightRecovery | 18 |
HueAdjustmentAqua | 0 |
HueAdjustmentBlue | 0 |
HueAdjustmentGreen | 0 |
HueAdjustmentMagenta | 0 |
HueAdjustmentOrange | 0 |
HueAdjustmentPurple | 0 |
HueAdjustmentRed | 0 |
HueAdjustmentYellow | 0 |
HyperfocalDistance | 162.07 m |
ICCProfileName | Adobe RGB (1998) |
ImageHeight | 2257 |
ImageNumber | 9256 |
ImageSize | 3191x2257 |
ImageWidth | 3191 |
ISO | 100 |
Lens | 18.0-135.0 mm f/3.5-5.6 |
LensInfo | 18-135mm f/3.5-5.6 |
LightSource | Unknown |
LightValue | 12.6 |
LuminanceAdjustmentAqua | 0 |
LuminanceAdjustmentBlue | 0 |
LuminanceAdjustmentGreen | 0 |
LuminanceAdjustmentMagenta | 0 |
LuminanceAdjustmentOrange | 0 |
LuminanceAdjustmentPurple | 0 |
LuminanceAdjustmentRed | 0 |
LuminanceAdjustmentYellow | 0 |
LuminanceSmoothing | 0 |
Make | NIKON CORPORATION |
MaxApertureValue | 5.7 |
Megapixels | 7.2 |
MeteringMode | Center-weighted average |
Model | NIKON D80 |
ModifyDate (1) | 2010:01:19 18:27:37+01:00 |
ModifyDate | 2010:01:19 18:27:37 |
Orientation | Horizontal (normal) |
ParametricDarks | 0 |
ParametricHighlights | 0 |
ParametricHighlightSplit | 75 |
ParametricLights | 0 |
ParametricMidtoneSplit | 50 |
ParametricShadows | 0 |
ParametricShadowSplit | 25 |
ProfileDescription | Adobe RGB (1998) |
Rating | 0 |
RawFileName | DSC_3735.NEF |
RedHue | 0 |
RedSaturation | 0 |
Saturation (2) | 0 |
Saturation | High |
SaturationAdjustmentAqua | 0 |
SaturationAdjustmentBlue | 0 |
SaturationAdjustmentGreen | 0 |
SaturationAdjustmentMagenta | 0 |
SaturationAdjustmentOrange | 0 |
SaturationAdjustmentPurple | 0 |
SaturationAdjustmentRed | 0 |
SaturationAdjustmentYellow | 0 |
ScaleFactor35efl | 1.5 |
SceneCaptureType | Standard |
SceneType | Directly photographed |
SensingMethod | One-chip color area |
Shadows | 10 |
ShadowTint | 0 |
SharpenDetail | 25 |
SharpenEdgeMasking | 0 |
SharpenRadius | +1.0 |
Sharpness (2) | 25 |
Sharpness | Hard |
ShutterSpeed | 1/200 |
ShutterSpeedValue | 1/200 |
SidecarForExtension | NEF |
Software | Adobe Photoshop CS4 (11.0x20071101 [20071101.m.190 2007/11/01:02:00:00 cutoff; m branch]) Windows |
SplitToningBalance | 0 |
SplitToningHighlightHue | 0 |
SplitToningHighlightSaturation | 0 |
SplitToningShadowHue | 0 |
SplitToningShadowSaturation | 0 |
SubjectDistanceRange | Unknown |
Tint | 0 |
ToneCurve | 0, 0, 32, 22, 64, 56, 128, 128, 192, 196, 255, 255 |
ToneCurveName | Medium Contrast |
URL_List | |
Version | 5.0x27 |
Vibrance | +10 |
VignetteAmount | 0 |
WhiteBalance (2) | Custom |
WhiteBalance | Manual |