Felt | Verdi |
AlreadyApplied | True |
Aperture | 10.0 |
ApertureValue | 10.0 |
Artist | Thomas Borgen Ha |
AuthorsPosition | Photographer |
BitsPerSample | 8 |
BlueHue | 0 |
BlueSaturation | 0 |
Brightness | +50 |
By-line | Thomas Borgen Ha |
By-lineTitle | Photographer |
CameraProfile | ACR 4.4 |
CFAPattern | [Red,Green][Green,Blue] |
ChromaticAberrationB | 0 |
ChromaticAberrationR | 0 |
CircleOfConfusion | 0.020 mm |
Clarity | +100 |
ColorComponents | 1 |
ColorNoiseReduction | 25 |
ColorTemperature | 7000 |
Contrast (2) | +100 |
Contrast | Normal |
ConvertToGrayscale | True |
Copyright | Thomas Borgen Ha |
CopyrightFlag | True |
CopyrightNotice | Thomas Borgen Ha |
CreateDate (1) | 2010:01:08 13:47:16.33+01:00 |
CreateDate | 2010:01:08 13:47:16 |
Creator | Thomas Borgen Ha |
CreatorAddress | Christian Sindings vei 26 |
CreatorCity | Kolbotn |
CreatorCountry | Norway |
CreatorPostalCode | 1410 |
CreatorRegion | Oslo |
CreatorTool | Adobe Photoshop Lightroom |
CreatorWorkEmail | thomasbha@gmail.com |
CreatorWorkTelephone | +4791700841 |
CreatorWorkURL | www.thomasha.net |
CropAngle | 0 |
CropBottom | 1 |
CropHeight | 767 |
CropLeft | 0 |
CropRight | 1 |
CropTop | 0.038217 |
CropUnit | pixels |
CropWidth | 1200 |
CustomRendered | Normal |
DateTimeDigitized | 2010:01:08 13:47:16.33+01:00 |
DateTimeOriginal (1) | 2010:01:08 13:47:16.33+01:00 |
DateTimeOriginal | 2010:01:08 13:47:16 |
Defringe | 0 |
DigitalZoomRatio | 1 |
ExifImageHeight | 767 |
ExifImageWidth | 1200 |
Exposure | -0.29 |
ExposureCompensation | +2/3 |
ExposureMode | Auto |
ExposureProgram | Aperture-priority AE |
ExposureTime | 1/250 |
FillLight | 0 |
Flash | No Flash |
FlashFired | False |
FlashFunction | False |
FlashMode | Unknown |
FlashRedEyeMode | False |
FlashReturn | No return detection |
FNumber | 10.0 |
FocalLength | 22.0 mm |
FocalLength35efl | 22.0 mm (35 mm equivalent: 33.0 mm) |
FocalLengthIn35mmFormat | 33 mm |
FOV | 57.2 deg |
GainControl | None |
GradientBasedCorrActive | true |
GradientBasedCorrAmount | 1.000000 |
GradientBasedCorrBrightness | 0.000000 |
GradientBasedCorrClarity | 0.000000 |
GradientBasedCorrContrast | 0.000000 |
GradientBasedCorrExposure | -0.100000 |
GradientBasedCorrHue | 240.000000 |
GradientBasedCorrMaskFullX | 0.506878 |
GradientBasedCorrMaskFullY | 0.023886 |
GradientBasedCorrMaskValue | 1.000000 |
GradientBasedCorrMaskWhat | Mask/Gradient |
GradientBasedCorrMaskZeroX | 0.507937 |
GradientBasedCorrMaskZeroY | 0.292994 |
GradientBasedCorrSaturation | 0.000000 |
GradientBasedCorrSharpness | 0.000000 |
GradientBasedCorrWhat | Correction |
GrayMixerAqua | -19 |
GrayMixerBlue | +7 |
GrayMixerGreen | -25 |
GrayMixerMagenta | +4 |
GrayMixerOrange | -16 |
GrayMixerPurple | +13 |
GrayMixerRed | -7 |
GrayMixerYellow | -19 |
GreenHue | 0 |
GreenSaturation | 0 |
HasCrop | True |
HasSettings | True |
HighlightRecovery | 75 |
HyperfocalDistance | 2.42 m |
ImageHeight | 767 |
ImageNumber | 10870 |
ImageSize | 1200x767 |
ImageWidth | 1200 |
ISO | 200 |
Keywords | Chanomix, Ferie, Fjell, Frankrike, Landskap, Mont Blanc, NHH, Ski, Skole, Snowboard, Snø, Tur |
Label | Green |
Lens | 17.0-50.0 mm f/2.8 |
LensInfo | 17-50mm f/2.8 |
LightSource | Unknown |
LightValue | 13.6 |
LuminanceSmoothing | 0 |
Make | NIKON CORPORATION |
Marked | True |
MaxApertureValue | 2.8 |
Megapixels | 0.920 |
MeteringMode | Multi-segment |
Model | NIKON D300 |
ModifyDate (1) | 2010:01:15 11:56:45+01:00 |
ModifyDate | 2010:01:15 11:56:45 |
PaintCorrectionActive | true |
PaintCorrectionAmount | 1.000000 |
PaintCorrectionBrightness | 0.000000 |
PaintCorrectionClarity | 0.000000 |
PaintCorrectionContrast | 0.000000 |
PaintCorrectionExposure | 0.050000 |
PaintCorrectionHue | 240.000000 |
PaintCorrectionMaskCenterWeight | 0.111493 |
PaintCorrectionMaskFlow | 1.000000 |
PaintCorrectionMaskRadius | 0.050400 |
PaintCorrectionMaskValue | 1.000000 |
PaintCorrectionMaskWhat | Mask/Paint |
PaintCorrectionSaturation | 0.000000 |
PaintCorrectionSharpness | 0.000000 |
PaintCorrectionWhat | Correction |
ParametricDarks | -24 |
ParametricHighlights | +14 |
ParametricHighlightSplit | 75 |
ParametricLights | +10 |
ParametricMidtoneSplit | 50 |
ParametricShadows | -60 |
ParametricShadowSplit | 25 |
PostCropVignetteAmount | 0 |
ProfileDescription | sRGB IEC61966-2.1 |
Rating | 5 |
RedHue | 0 |
RedSaturation | 0 |
Rights | Thomas Borgen Ha |
Saturation | Normal |
ScaleFactor35efl | 1.5 |
SceneCaptureType | Standard |
SceneType | Directly photographed |
SensingMethod | One-chip color area |
SerialNumber | 2081474 |
Shadows | 12 |
ShadowTint | 0 |
SharpenDetail | 25 |
SharpenEdgeMasking | 24 |
SharpenRadius | +0.6 |
Sharpness (2) | 150 |
Sharpness | Normal |
ShutterSpeed | 1/250 |
ShutterSpeedValue | 1/250 |
Software | Ver.1.10 |
SplitToningBalance | 0 |
SplitToningHighlightHue | 0 |
SplitToningHighlightSaturation | 0 |
SplitToningShadowHue | 0 |
SplitToningShadowSaturation | 0 |
Subject | Chanomix, Ferie, Fjell, Frankrike, Landskap, Mont Blanc, NHH, Ski, Skole, Snowboard, Snø, Tur |
SubjectDistanceRange | Unknown |
Tint | -1 |
ToneCurve | 0, 0, 32, 22, 64, 56, 128, 128, 192, 196, 255, 255 |
ToneCurveName | Medium Contrast |
URL | www.thomasha.net |
UsageTerms | Ask first |
Version | 5.6 |
VignetteAmount | 0 |
WebStatement | www.thomasha.net |
WhiteBalance (2) | As Shot |
WhiteBalance | Auto |