Felt | Verdi |
AlreadyApplied | True |
Aperture | 4.0 |
ApertureValue | 4.0 |
Artist | www.MartinePetra.com |
AuthorsPosition | www.MartinePetra.com |
BitsPerSample | 8 |
BlueHue | 0 |
BlueSaturation | 0 |
Brightness | +50 |
By-line | www.MartinePetra.com |
By-lineTitle | www.MartinePetra.com |
CameraProfile | ACR 4.4 |
ChromaticAberrationB | 0 |
ChromaticAberrationR | 0 |
CircleOfConfusion | 0.030 mm |
Clarity | +100 |
ColorComponents | 3 |
ColorMode | RGB |
ColorNoiseReduction | 25 |
ColorSpace | Uncalibrated |
ColorTemperature | 6550 |
Contrast | +100 |
ConvertToGrayscale | False |
Copyright | Do not use without authorization from www.MartinePetra.com |
CopyrightFlag | True |
CopyrightNotice | Do not use without authorization from www.MartinePetra.com |
CreateDate (1) | 2010:03:27 21:22:33+01:00 |
CreateDate | 2010:03:27 20:04:38 |
Creator | www.MartinePetra.com |
CreatorTool | Adobe Photoshop CS4 (11.0x20071101 [20071101.m.190 2007/11/01:02:00:00 cutoff; m branch]) Windows |
CustomRendered | Normal |
DateTimeDigitized | 2010:03:27 20:04:38+01:00 |
DateTimeOriginal (1) | 2010:03:27 20:04:38+01:00 |
DateTimeOriginal | 2010:03:27 20:04:38 |
Defringe | 0 |
ExifImageHeight | 445 |
ExifImageWidth | 667 |
Exposure | 0.00 |
ExposureCompensation | 0 |
ExposureMode | Manual |
ExposureProgram | Manual |
ExposureTime | 1/200 |
FillLight | 0 |
Firmware | 1.0.3 |
Flash | On, Fired |
FlashCompensation | 0 |
FlashFired | True |
FlashFunction | False |
FlashMode | On |
FlashRedEyeMode | False |
FlashReturn | No return detection |
FNumber | 4.0 |
FocalLength | 17.0 mm |
FocalLength35efl | 17.0 mm (35 mm equivalent: 17.0 mm) |
Format | image/jpeg |
FOV | 93.2 deg |
GreenHue | 0 |
GreenSaturation | 0 |
HasCrop | False |
HasSettings | True |
HighlightRecovery | 0 |
HueAdjustmentAqua | 0 |
HueAdjustmentBlue | 0 |
HueAdjustmentGreen | 0 |
HueAdjustmentMagenta | 0 |
HueAdjustmentOrange | 0 |
HueAdjustmentPurple | 0 |
HueAdjustmentRed | 0 |
HueAdjustmentYellow | 0 |
HyperfocalDistance | 2.41 m |
ICCProfileName | Adobe RGB (1998) |
ImageHeight (1) | 2912 |
ImageHeight | 445 |
ImageNumber | 40 |
ImageSize | 667x445 |
ImageWidth (1) | 4368 |
ImageWidth | 667 |
ISO | 400 |
Lens | EF17-40mm f/4L USM |
LensInfo | 17-40mm f/? |
LightValue | 9.6 |
LuminanceAdjustmentAqua | 0 |
LuminanceAdjustmentBlue | 0 |
LuminanceAdjustmentGreen | 0 |
LuminanceAdjustmentMagenta | 0 |
LuminanceAdjustmentOrange | 0 |
LuminanceAdjustmentPurple | 0 |
LuminanceAdjustmentRed | 0 |
LuminanceAdjustmentYellow | 0 |
LuminanceSmoothing | 0 |
Make | Canon |
Marked | True |
MaxApertureValue | 4.0 |
Megapixels | 0.297 |
MeteringMode | Unknown |
Model | Canon EOS 5D |
ModifyDate (1) | 2010:03:27 21:22:33+01:00 |
ModifyDate | 2010:03:27 21:22:33 |
Orientation | Horizontal (normal) |
ParametricDarks | 0 |
ParametricHighlights | 0 |
ParametricHighlightSplit | 75 |
ParametricLights | 0 |
ParametricMidtoneSplit | 50 |
ParametricShadows | 0 |
ParametricShadowSplit | 25 |
PostCropVignetteAmount | 0 |
ProfileDescription | Adobe RGB (1998) |
RawFileName | _MG_8421.CR2 |
RedHue | 0 |
RedSaturation | 0 |
Rights | Do not use without authorization from www.MartinePetra.com |
Saturation | +100 |
SaturationAdjustmentAqua | 0 |
SaturationAdjustmentBlue | 0 |
SaturationAdjustmentGreen | 0 |
SaturationAdjustmentMagenta | 0 |
SaturationAdjustmentOrange | 0 |
SaturationAdjustmentPurple | 0 |
SaturationAdjustmentRed | 0 |
SaturationAdjustmentYellow | 0 |
ScaleFactor35efl | 1.0 |
SceneCaptureType | Standard |
SerialNumber | 530206121 |
Shadows | 38 |
ShadowTint | 0 |
SharpenDetail | 25 |
SharpenEdgeMasking | 0 |
SharpenRadius | +1.0 |
Sharpness | 25 |
ShutterSpeed | 1/200 |
ShutterSpeedValue | 1/200 |
Software | Adobe Photoshop CS4 (11.0x20071101 [20071101.m.190 2007/11/01:02:00:00 cutoff; m branch]) Windows |
SplitToningBalance | 0 |
SplitToningHighlightHue | 0 |
SplitToningHighlightSaturation | 0 |
SplitToningShadowHue | 0 |
SplitToningShadowSaturation | 0 |
Tint | -12 |
ToneCurve | 0, 0, 32, 22, 64, 56, 128, 128, 192, 196, 255, 255 |
ToneCurveName | Medium Contrast |
URL | http://www.martinepetra.com |
URL_List | |
UsageTerms | |
Version | 5.0 |
Vibrance | +70 |
VignetteAmount | +50 |
VignetteMidpoint | 50 |
WebStatement | http://www.martinepetra.com |
WhiteBalance (2) | Custom |
WhiteBalance | Auto |