Felt | Verdi |
AlreadyApplied | True |
Aperture | 4.5 |
ApertureValue | 4.5 |
BitsPerSample | 8 |
BlueHue | +8 |
BlueSaturation | 0 |
Brightness | +13 |
CameraProfile | ACR 4.4 |
CFAPattern | [Green,Red][Blue,Green] |
ChromaticAberrationB | 0 |
ChromaticAberrationR | 0 |
CircleOfConfusion | 0.020 mm |
Clarity | 10 |
ColorComponents | 3 |
ColorNoiseReduction | 25 |
ColorTemperature | 4950 |
Contrast (2) | +100 |
Contrast | Normal |
ConvertToGrayscale | False |
CreateDate (1) | 2009:08:02 21:12:18.16+02:00 |
CreateDate | 2009:08:02 21:12:18 |
CreatorTool | Adobe Photoshop Lightroom |
CropAngle | 1.81235 |
CropBottom | 1 |
CropHeight | 502 |
CropLeft | 0.032681 |
CropRight | 0.967319 |
CropTop | 0 |
CropUnit | pixels |
CropWidth | 750 |
CustomRendered | Normal |
DateTimeDigitized | 2009:08:02 21:12:18.16+02:00 |
DateTimeOriginal (1) | 2009:08:02 21:12:18.16+02:00 |
DateTimeOriginal | 2009:08:02 21:12:18 |
Defringe | 0 |
DigitalZoomRatio | 1 |
Exposure | +0.15 |
ExposureCompensation | -2 |
ExposureMode | Manual |
ExposureProgram | Manual |
ExposureTime | 1/8 |
FillLight | 28 |
Flash | Fired, Return not detected |
FlashFired | True |
FlashFunction | False |
FlashMode | Unknown |
FlashRedEyeMode | False |
FlashReturn | Return not detected |
FNumber | 4.5 |
FocalLength | 26.0 mm |
FocalLength35efl | 26.0 mm (35 mm equivalent: 39.0 mm) |
FocalLengthIn35mmFormat | 39 mm |
FOV | 49.6 deg |
GainControl | None |
GreenHue | 0 |
GreenSaturation | 0 |
HasCrop | True |
HasSettings | True |
HighlightRecovery | 0 |
HueAdjustmentAqua | 0 |
HueAdjustmentBlue | 0 |
HueAdjustmentGreen | 0 |
HueAdjustmentMagenta | 0 |
HueAdjustmentOrange | +6 |
HueAdjustmentPurple | 0 |
HueAdjustmentRed | 0 |
HueAdjustmentYellow | -2 |
HyperfocalDistance | 7.50 m |
ImageHeight | 750 |
ImageNumber | 16045 |
ImageSize | 502x750 |
ImageWidth | 502 |
ISO | 200 |
Lens | 18.0-135.0 mm f/3.5-5.6 |
LensInfo | 18-135mm f/3.5-5.6 |
LightSource | Unknown |
LightValue | 6.3 |
LuminanceAdjustmentAqua | 0 |
LuminanceAdjustmentBlue | 0 |
LuminanceAdjustmentGreen | 0 |
LuminanceAdjustmentMagenta | 0 |
LuminanceAdjustmentOrange | -8 |
LuminanceAdjustmentPurple | 0 |
LuminanceAdjustmentRed | -6 |
LuminanceAdjustmentYellow | -40 |
LuminanceSmoothing | 0 |
Make | NIKON CORPORATION |
MaxApertureValue | 3.9 |
Megapixels | 0.377 |
MeteringMode | Multi-segment |
Model | NIKON D200 |
ModifyDate (1) | 2009:09:28 20:18:08+02:00 |
ModifyDate | 2009:09:28 20:18:08 |
ParametricDarks | -15 |
ParametricHighlights | 0 |
ParametricHighlightSplit | 75 |
ParametricLights | +13 |
ParametricMidtoneSplit | 50 |
ParametricShadows | -35 |
ParametricShadowSplit | 25 |
ProfileDescription | Adobe RGB (1998) |
RedHue | -8 |
RedSaturation | +44 |
Saturation (2) | -48 |
Saturation | High |
SaturationAdjustmentAqua | 0 |
SaturationAdjustmentBlue | 0 |
SaturationAdjustmentGreen | 0 |
SaturationAdjustmentMagenta | 0 |
SaturationAdjustmentOrange | +44 |
SaturationAdjustmentPurple | 0 |
SaturationAdjustmentRed | +35 |
SaturationAdjustmentYellow | -6 |
ScaleFactor35efl | 1.5 |
SceneCaptureType | Standard |
SceneType | Directly photographed |
SensingMethod | One-chip color area |
Shadows | 16 |
ShadowTint | 0 |
SharpenDetail | 25 |
SharpenEdgeMasking | 0 |
SharpenRadius | +1.0 |
Sharpness (2) | 25 |
Sharpness | Hard |
ShutterSpeed | 1/8 |
ShutterSpeedValue | 1/8 |
Software | Ver.1.00 |
SplitToningBalance | 0 |
SplitToningHighlightHue | 0 |
SplitToningHighlightSaturation | 0 |
SplitToningShadowHue | 0 |
SplitToningShadowSaturation | 0 |
SubjectDistanceRange | Unknown |
Tint | 0 |
ToneCurve | 0, 0, 32, 22, 64, 56, 128, 128, 192, 196, 255, 255 |
ToneCurveName | Medium Contrast |
Version | 4.4.1 |
Vibrance | +78 |
VignetteAmount | 0 |
WhiteBalance (2) | Custom |
WhiteBalance | Auto |