Felt | Verdi |
AlreadyApplied | True |
Aperture | 4.0 |
ApertureValue | 4.0 |
AuthorsPosition | Photographer |
BitsPerSample | 8 |
BlueHue | 0 |
BlueSaturation | 0 |
Brightness | +17 |
By-line | Joakim Fjeldli |
By-lineTitle | Photographer |
CameraProfile | Adobe Standard |
ChromaticAberrationB | 0 |
ChromaticAberrationR | 0 |
CircleOfConfusion | 0.019 mm |
Clarity | +64 |
ColorComponents | 3 |
ColorNoiseReduction | 25 |
ColorTemperature | 6150 |
Contrast | +100 |
ConvertToGrayscale | False |
Copyright | Joakim Fjeldli |
CopyrightFlag | True |
CopyrightNotice | Joakim Fjeldli |
CreateDate (1) | 2010:04:30 15:15:42.11+02:00 |
CreateDate | 2010:04:30 15:15:42 |
Creator | Joakim Fjeldli |
CreatorCountry | Norway |
CreatorTool | Adobe Photoshop Lightroom |
CreatorWorkEmail | mail@fjeldli.com |
CreatorWorkURL | http://www.fjeldli.com |
CropAngle | 0 |
CropBottom | 1 |
CropHeight | 2482 |
CropLeft | 0.381575 |
CropRight | 0.807193 |
CropTop | 0.042353 |
CropUnit | pixels |
CropWidth | 1655 |
CustomRendered | Normal |
DateTimeDigitized | 2010:04:30 15:15:42.11+02:00 |
DateTimeOriginal (1) | 2010:04:30 15:15:42.11+02:00 |
DateTimeOriginal | 2010:04:30 15:15:42 |
Defringe | 2 |
ExifImageHeight | 1655 |
ExifImageWidth | 2482 |
Exposure | +0.67 |
ExposureCompensation | 0 |
ExposureMode | Auto |
ExposureProgram | Aperture-priority AE |
ExposureTime | 1/500 |
FillLight | 40 |
Firmware | 1.1.1 |
Flash | Off, Did not fire |
FlashCompensation | 0 |
FlashFired | False |
FlashFunction | False |
FlashMode | Off |
FlashRedEyeMode | False |
FlashReturn | No return detection |
FNumber | 4.0 |
FocalLength | 17.0 mm |
FocalLength35efl | 17.0 mm (35 mm equivalent: 27.5 mm) |
FOV | 66.4 deg |
GreenHue | 0 |
GreenSaturation | 0 |
HasCrop | True |
HasSettings | True |
HighlightRecovery | 20 |
HueAdjustmentAqua | 0 |
HueAdjustmentBlue | -7 |
HueAdjustmentGreen | 0 |
HueAdjustmentMagenta | 0 |
HueAdjustmentOrange | +12 |
HueAdjustmentPurple | 0 |
HueAdjustmentRed | -7 |
HueAdjustmentYellow | -29 |
HyperfocalDistance | 3.89 m |
ImageHeight | 1655 |
ImageNumber | 0 |
ImageSize | 2482x1655 |
ImageWidth | 2482 |
ISO | 100 |
Label | Purple |
Lens | EF-S17-85mm f/4-5.6 IS USM |
LensInfo | 17-85mm f/? |
LightValue | 13.0 |
LuminanceAdjustmentAqua | 0 |
LuminanceAdjustmentBlue | 0 |
LuminanceAdjustmentGreen | 0 |
LuminanceAdjustmentMagenta | 0 |
LuminanceAdjustmentOrange | 0 |
LuminanceAdjustmentPurple | 0 |
LuminanceAdjustmentRed | 0 |
LuminanceAdjustmentYellow | 0 |
LuminanceSmoothing | 0 |
Make | Canon |
Marked | True |
MaxApertureValue | 4.0 |
Megapixels | 4.1 |
MeteringMode | Center-weighted average |
Model | Canon EOS 40D |
ModifyDate (1) | 2010:06:15 23:10:18+02:00 |
ModifyDate | 2010:06:15 23:10:18 |
ParametricDarks | 0 |
ParametricHighlights | +29 |
ParametricHighlightSplit | 75 |
ParametricLights | +43 |
ParametricMidtoneSplit | 50 |
ParametricShadows | 0 |
ParametricShadowSplit | 25 |
PostCropVignetteAmount | -36 |
PostCropVignetteFeather | 50 |
PostCropVignetteMidpoint | 43 |
PostCropVignetteRoundness | 0 |
ProfileDescription | Adobe RGB (1998) |
RedHue | 0 |
RedSaturation | 0 |
Rights | Joakim Fjeldli |
Saturation | -2 |
SaturationAdjustmentAqua | -64 |
SaturationAdjustmentBlue | -33 |
SaturationAdjustmentGreen | -29 |
SaturationAdjustmentMagenta | -33 |
SaturationAdjustmentOrange | -64 |
SaturationAdjustmentPurple | -31 |
SaturationAdjustmentRed | -40 |
SaturationAdjustmentYellow | -33 |
ScaleFactor35efl | 1.6 |
SceneCaptureType | Standard |
SerialNumber | 930539741 |
Shadows | 32 |
ShadowTint | 0 |
SharpenDetail | 25 |
SharpenEdgeMasking | 0 |
SharpenRadius | +1.0 |
Sharpness | 0 |
ShutterSpeed | 1/500 |
ShutterSpeedValue | 1/500 |
SplitToningBalance | +60 |
SplitToningHighlightHue | 54 |
SplitToningHighlightSaturation | 7 |
SplitToningShadowHue | 349 |
SplitToningShadowSaturation | 14 |
Tint | 0 |
ToneCurve | 0, 0, 32, 22, 64, 56, 128, 128, 192, 196, 255, 255 |
ToneCurveName | Medium Contrast |
Version | 5.5 |
Vibrance | -5 |
VignetteAmount | -88 |
VignetteMidpoint | 50 |
WhiteBalance | Auto |