Felt | Verdi |
AlreadyApplied | True |
Aperture | 14.0 |
ApertureValue | 14.0 |
Artist | Anders Sorensen |
AuthorsPosition | Photographer |
BitsPerSample | 8 |
BlueHue | 0 |
BlueSaturation | 0 |
Brightness | +60 |
By-line | Anders Sorensen |
By-lineTitle | Photographer |
CameraProfile | ACR 4.3 |
Caption-Abstract | View of Las Vegas Temple and Strip at Sunset |
ChromaticAberrationB | 0 |
ChromaticAberrationR | 0 |
CircleOfConfusion | 0.030 mm |
City | Las Vegas |
Clarity | 20 |
ColorComponents | 3 |
ColorMode | RGB |
ColorNoiseReduction | 25 |
ColorSpace | sRGB |
ColorTemperature | 4100 |
Contrast | +39 |
ConvertToGrayscale | False |
Copyright | Copyright Anders Sorensen 2008 Anders Sorensen Photography |
CopyrightFlag | True |
CopyrightNotice | Copyright Anders Sorensen 2008 Anders Sorensen Photography |
Country | USA |
Country-PrimaryLocationName | USA |
CreateDate (1) | 2008:02:13 22:01:20-08:00 |
CreateDate | 2008:02:07 17:47:47 |
Creator | Anders Sorensen |
CreatorAddress | P. O. Box 231656 |
CreatorCity | Las Vegas |
CreatorCountry | USA |
CreatorPostalCode | 89123 |
CreatorRegion | NV |
CreatorTool | Adobe Photoshop CS3 Windows |
CreatorWorkEmail | asorensen@anders-sorensen-photo.com |
CreatorWorkTelephone | 702-236-5509 |
CreatorWorkURL | www.anders-sorensen-photo.com |
CustomRendered | Normal |
DateCreated | 2008:02:07 |
DateTimeDigitized | 2008:02:07 17:47:47.30-08:00 |
DateTimeOriginal (1) | 2008:02:07 17:47:47.30-08:00 |
DateTimeOriginal | 2008:02:07 17:47:47 |
Defringe | 0 |
Description | View of Las Vegas Temple and Strip at Sunset |
ExifImageHeight | 576 |
ExifImageWidth | 807 |
Exposure | 0.00 |
ExposureCompensation | -4/3 |
ExposureMode | Auto bracket |
ExposureProgram | Aperture-priority AE |
ExposureTime | 10 |
FillLight | 0 |
Firmware | 1.0.6 |
Flash | No Flash |
FlashCompensation | 0 |
FlashFired | False |
FlashFunction | False |
FlashMode | Unknown |
FlashRedEyeMode | False |
FlashReturn | No return detection |
FNumber | 14.0 |
FocalLength | 58.0 mm |
FocalLength35efl | 58.0 mm (35 mm equivalent: 58.0 mm) |
Format | image/jpeg |
FOV | 34.5 deg |
GreenHue | 0 |
GreenSaturation | 0 |
HasCrop | False |
HasSettings | True |
HighlightRecovery | 0 |
HueAdjustmentAqua | 0 |
HueAdjustmentBlue | 0 |
HueAdjustmentGreen | 0 |
HueAdjustmentMagenta | 0 |
HueAdjustmentOrange | 0 |
HueAdjustmentPurple | 0 |
HueAdjustmentRed | 0 |
HueAdjustmentYellow | 0 |
HyperfocalDistance | 7.99 m |
ICCProfileName | sRGB IEC61966-2.1 |
ImageDescription | View of Las Vegas Temple and Strip at Sunset |
ImageHeight | 576 |
ImageNumber | 0 |
ImageSize | 807x576 |
ImageWidth | 807 |
ISO | 100 |
Keywords | Sunset, Temples, Las Vegas Temple, Strip, Skyline, Las Vegas |
Lens | EF24-105mm f/4L IS USM |
LensInfo | 24-105mm f/? |
LightValue | 4.3 |
Location | Las Vegas Valley |
LuminanceAdjustmentAqua | 0 |
LuminanceAdjustmentBlue | 0 |
LuminanceAdjustmentGreen | 0 |
LuminanceAdjustmentMagenta | 0 |
LuminanceAdjustmentOrange | 0 |
LuminanceAdjustmentPurple | 0 |
LuminanceAdjustmentRed | 0 |
LuminanceAdjustmentYellow | 0 |
LuminanceSmoothing | 0 |
Make | Canon |
Marked | True |
MaxApertureValue | 4.0 |
Megapixels | 0.465 |
MeteringMode | Multi-segment |
Model | Canon EOS-1Ds Mark III |
ModifyDate (1) | 2010:08:16 00:25:16+02:00 |
ModifyDate | 2010:08:16 00:25:16 |
ObjectName | Las Vegas Temple and Skyline at Sunset |
Orientation | Horizontal (normal) |
ParametricDarks | 0 |
ParametricHighlights | 0 |
ParametricHighlightSplit | 75 |
ParametricLights | 0 |
ParametricMidtoneSplit | 50 |
ParametricShadows | 0 |
ParametricShadowSplit | 25 |
ProfileDescription | sRGB IEC61966-2.1 |
Province-State | Nevada |
Rating | 0 |
RawFileName | C21A0621.CR2 |
RedHue | 0 |
RedSaturation | 0 |
Rights | Copyright Anders Sorensen 2008 Anders Sorensen Photography |
Saturation | 0 |
SaturationAdjustmentAqua | 0 |
SaturationAdjustmentBlue | 0 |
SaturationAdjustmentGreen | 0 |
SaturationAdjustmentMagenta | 0 |
SaturationAdjustmentOrange | 0 |
SaturationAdjustmentPurple | 0 |
SaturationAdjustmentRed | 0 |
SaturationAdjustmentYellow | 0 |
ScaleFactor35efl | 1.0 |
SceneCaptureType | Standard |
SerialNumber | 612245 |
Shadows | 5 |
ShadowTint | 0 |
SharpenDetail | 25 |
SharpenEdgeMasking | 0 |
SharpenRadius | +1.0 |
Sharpness | 50 |
ShutterSpeed | 10 |
ShutterSpeedValue | 10 |
SidecarForExtension | CR2 |
Software | Adobe Photoshop CS4 Macintosh |
SplitToningBalance | 0 |
SplitToningHighlightHue | 0 |
SplitToningHighlightSaturation | 0 |
SplitToningShadowHue | 0 |
SplitToningShadowSaturation | 0 |
State | Nevada |
Subject | Sunset, Temples, Las Vegas Temple, Strip, Skyline, Las Vegas |
Tint | -7 |
Title | Las Vegas Temple and Skyline at Sunset |
ToneCurve | 0, 0, 32, 22, 64, 56, 128, 128, 192, 196, 255, 255 |
ToneCurveName | Medium Contrast |
URL | www.anders-sorensen-photo.com |
URL_List | |
Version | 4.3.1 |
Vibrance | +28 |
VignetteAmount | 0 |
WebStatement | www.anders-sorensen-photo.com |
WhiteBalance (2) | As Shot |
WhiteBalance | Auto |