Felt | Verdi |
AlreadyApplied | True |
Aperture | 5.0 |
ApertureValue | 5.0 |
Artist | RONNY SOLHEIM |
BitsPerSample | 8 |
BlueHue | 0 |
BlueSaturation | 0 |
Brightness | +50 |
By-line | RONNY SOLHEIM |
CameraProfile | Adobe Standard |
CFAPattern | [Red,Green][Green,Blue] |
ChromaticAberrationB | 0 |
ChromaticAberrationR | 0 |
CircleOfConfusion | 0.020 mm |
Clarity | 0 |
ColorComponents | 3 |
ColorNoiseReduction | 25 |
ColorNoiseReductionDetail | 50 |
ColorTemperature | 5650 |
Contrast (2) | +25 |
Contrast | Normal |
ConvertToGrayscale | False |
Copyright | RONNY SOLHEIM |
CopyrightNotice | RONNY SOLHEIM |
CreateDate (1) | 2010:08:18 20:05:02.56+02:00 |
CreateDate | 2010:08:18 20:05:02 |
Creator | RONNY SOLHEIM |
CreatorTool | Adobe Photoshop Lightroom |
CropAngle | -1.51987 |
CropBottom | 0.961586 |
CropConstrainToWarp | 0 |
CropHeight | 2740 |
CropLeft | 0.010734 |
CropRight | 0.989266 |
CropTop | 0.038414 |
CropUnit | pixels |
CropWidth | 4124 |
CustomRendered | Normal |
DateTimeDigitized | 2010:08:18 20:05:02.56+02:00 |
DateTimeOriginal (1) | 2010:08:18 20:05:02.56+02:00 |
DateTimeOriginal | 2010:08:18 20:05:02 |
Defringe | 0 |
DigitalZoomRatio | 1 |
DOF | inf (0.59 m - inf) |
ExifImageHeight | 2740 |
ExifImageWidth | 4124 |
Exposure | -0.60 |
ExposureCompensation | +1 |
ExposureMode | Auto |
ExposureProgram | Aperture-priority AE |
ExposureTime | 1/160 |
FillLight | 0 |
Flash | On, Return detected |
FlashFired | True |
FlashFunction | False |
FlashMode | On |
FlashRedEyeMode | False |
FlashReturn | Return detected |
FNumber | 5.0 |
FocalLength | 10.0 mm |
FocalLength35efl | 10.0 mm (35 mm equivalent: 15.0 mm) |
FocalLengthIn35mmFormat | 15 mm |
FOV | 100.4 deg |
GainControl | Low gain up |
GrainAmount | 0 |
GreenHue | 0 |
GreenSaturation | 0 |
HasCrop | True |
HasSettings | True |
HierarchicalSubject | NO-NATURFOTO_ver07/05/2009_@NATURFOKUS|GEOGRAFI / STEDSNAVN|Europa|Nord-Europa|Norge|Vestlandet|Sogn og Fjordane|Gloppen|Sandane|Nordstranda, NO-NATURFOTO_ver07/05/2009_@NATURFOKUS|Mennesker|Sosialt|Hendelser|Merkedager|17. mai|kyr, NO-NATURFOTO_ver07/05/2009_@NATURFOKUS|Natur|Dyr|Pattedyr|TAMME PATTEDYR|Husdyr|Storfe|Ku |
HighlightRecovery | 0 |
HueAdjustmentAqua | 0 |
HueAdjustmentBlue | 0 |
HueAdjustmentGreen | 0 |
HueAdjustmentMagenta | 0 |
HueAdjustmentOrange | 0 |
HueAdjustmentPurple | 0 |
HueAdjustmentRed | 0 |
HueAdjustmentYellow | 0 |
HyperfocalDistance | 1.00 m |
ImageHeight | 2740 |
ImageNumber | 15562 |
ImageSize | 4124x2740 |
ImageWidth | 4124 |
ISO | 500 |
Keywords | 17. mai, Dyr, Europa, GEOGRAFI / STEDSNAVN, Gloppen, Hendelser, Husdyr, Ku, Mennesker, Merkedager, NO-NATURFOTO_ver07/05/2009_@NATURFOKUS, Natur, Nord-Europa, Nordstranda, Norge, Pattedyr, Sandane, Sogn og Fjordane, Sosialt, Storfe, TAMME PATTEDYR, Vestlandet, kyr |
Lens | 10.0-20.0 mm f/4.0-5.6 |
LensID (1) | 249 |
LensID | Sigma 10-20mm F4-5.6 EX DC HSM |
LensInfo | 10-20mm f/4-5.6 |
LensManualDistortionAmount | 0 |
LensProfileEnable | 0 |
LensProfileSetup | LensDefaults |
LightSource | Cloudy |
LightValue | 9.6 |
LuminanceAdjustmentAqua | 0 |
LuminanceAdjustmentBlue | -23 |
LuminanceAdjustmentGreen | -32 |
LuminanceAdjustmentMagenta | 0 |
LuminanceAdjustmentOrange | 0 |
LuminanceAdjustmentPurple | 0 |
LuminanceAdjustmentRed | 0 |
LuminanceAdjustmentYellow | 0 |
LuminanceSmoothing | 0 |
Make | NIKON CORPORATION |
MaxApertureValue | 4.0 |
Megapixels | 11.3 |
MeteringMode | Center-weighted average |
Model | NIKON D300S |
ModifyDate (1) | 2010:08:19 00:21:00+02:00 |
ModifyDate | 2010:08:19 00:21:00 |
ParametricDarks | -3 |
ParametricHighlights | +18 |
ParametricHighlightSplit | 75 |
ParametricLights | 0 |
ParametricMidtoneSplit | 50 |
ParametricShadows | -12 |
ParametricShadowSplit | 25 |
PerspectiveHorizontal | 0 |
PerspectiveRotate | 0.0 |
PerspectiveScale | 100 |
PerspectiveVertical | 0 |
PostCropVignetteAmount | 0 |
ProcessVersion | 5.7 |
ProfileDescription | sRGB IEC61966-2.1 |
RedHue | 0 |
RedSaturation | 0 |
Rights | RONNY SOLHEIM |
Saturation (2) | 0 |
Saturation | Normal |
SaturationAdjustmentAqua | 0 |
SaturationAdjustmentBlue | 0 |
SaturationAdjustmentGreen | 0 |
SaturationAdjustmentMagenta | 0 |
SaturationAdjustmentOrange | 0 |
SaturationAdjustmentPurple | 0 |
SaturationAdjustmentRed | 0 |
SaturationAdjustmentYellow | 0 |
ScaleFactor35efl | 1.5 |
SceneCaptureType | Standard |
SceneType | Directly photographed |
SensingMethod | One-chip color area |
SerialNumber | 6041131 |
Shadows | 8 |
ShadowTint | 0 |
SharpenDetail | 25 |
SharpenEdgeMasking | 0 |
SharpenRadius | +1.0 |
Sharpness (2) | 48 |
Sharpness | Normal |
ShutterSpeed | 1/160 |
ShutterSpeedValue | 1/160 |
Software | Ver.1.01 |
SplitToningBalance | 0 |
SplitToningHighlightHue | 0 |
SplitToningHighlightSaturation | 0 |
SplitToningShadowHue | 0 |
SplitToningShadowSaturation | 0 |
Subject | 17. mai, Dyr, Europa, GEOGRAFI / STEDSNAVN, Gloppen, Hendelser, Husdyr, Ku, Mennesker, Merkedager, NO-NATURFOTO_ver07/05/2009_@NATURFOKUS, Natur, Nord-Europa, Nordstranda, Norge, Pattedyr, Sandane, Sogn og Fjordane, Sosialt, Storfe, TAMME PATTEDYR, Vestlandet, kyr |
SubjectDistance | 1.41 m |
SubjectDistanceRange | Unknown |
Tint | -1 |
ToneCurve | 0, 0, 32, 22, 64, 56, 128, 128, 192, 196, 255, 255 |
ToneCurveName | Medium Contrast |
Version | 6.1 |
Vibrance | +26 |
VignetteAmount | 0 |
WhiteBalance (2) | As Shot |
WhiteBalance | Manual |