Felt | Verdi |
100
2010-09-29T11:36:03+02:00 File 1121.jpg saved
2010-09-29T11:38:31+02:00 File emotions.jpg saved
Absolute Grain Size: 1,5
AlreadyApplied | True |
Aperture | 1.4 |
ApertureValue | 1.4 |
Apply Filter in New Layer
As: Camera Raw
BitsPerSample | 8 |
Black and White Film
Blacks: 2
Blue Hue: 0
Blue Saturation: 0
Blue: 255
Blue: “BlueCurve: 2 0 0 0 0 0 0 1 1 ”
BlueHue | 0 |
BlueSaturation | 0 |
Blur Opacity: 0
Blur Radius: 5
Brightness | +55 |
Brightness: 55
Camera Profile: “Adobe Standard”
CameraProfile | Adobe Standard |
Category: “B&W Films - Low Contrast (grain off)”
Channel Mixer: “41 31 28 1”
Chromatic Aberration B: 0
Chromatic Aberration R: 0
ChromaticAberrationB | 0 |
ChromaticAberrationR | 0 |
CircleOfConfusion | 0.031 mm |
Clarity | +12 |
Clarity: 12
Color Contrast: 0
Color Noise Reduction: 25
Color: RGB color
ColorComponents | 1 |
ColorMode | RGB |
ColorNoiseReduction | 25 |
ColorSpace | Uncalibrated |
ColorTemperature | 3250 |
Contrast | +30 |
Contrast: 30
ConvertToGrayscale | False |
CreateDate (1) | 2010:08:27 18:08:49.18+02:00 |
CreateDate | 2010:08:27 18:08:49 |
Crop Angle: 0
Crop Bottom: 1
Crop Height: 3
Crop Left: 0,119
Crop Right: 1
Crop Top: 0,119
Crop Unit: Ratio
Crop Width: 2
CropAngle | 0 |
CropBottom | 1 |
CropHeight | 3 |
CropLeft | 0.119337 |
CropRight | 1 |
CropTop | 0.119337 |
CropUnit | Unknown (3) |
CropWidth | 2 |
CustomRendered | Normal |
DateTimeDigitized | 2010:08:27 18:08:49.18+02:00 |
DateTimeOriginal (1) | 2010:08:27 18:08:49.18+02:00 |
DateTimeOriginal | 2010:08:27 18:08:49 |
Defringe | 0 |
Defringe: 0
Depth: 8 Bits/channel
DOF | 0.08 m (1.52 - 1.60 m) |
Eraser
ExifImageHeight | 708 |
ExifImageWidth | 1024 |
Exposure 2 Black And White Film true
Exposure | 0.00 |
Exposure: 0
ExposureCompensation | +1 |
ExposureMode | Auto |
ExposureProgram | Aperture-priority AE |
ExposureTime | 1/160 |
false
Fill Light: 10
Fill Method: color
FillLight | 10 |
Film Format: 135 Format
Firmware | 2.0.4 |
Flash | Off, Did not fire |
FlashCompensation | 0 |
FlashFired | False |
FlashFunction | False |
FlashMode | Off |
FlashRedEyeMode | False |
FlashReturn | No return detection |
Flatten Image
FNumber | 1.4 |
FocalLength | 50.0 mm |
FocalLength35efl | 50.0 mm (35 mm equivalent: 48.8 mm) |
Format | image/jpeg |
FOV | 40.5 deg |
Grain Strength: 0
GrainAmount | 0 |
Green Hue: 0
Green Saturation: 0
Green: 255
Green: “GreenCurve: 2 0 0 0 0 0 0 1 1 ”
GreenHue | 0 |
GreenSaturation | 0 |
Halation Opacity: 0
Halation Spread: 20
HasCrop | True |
HasSettings | True |
Highlight: 26,78
HighlightRecovery | 35 |
Hue Adjust Aqua: 0
Hue Adjust Blue: 0
Hue Adjust Green: 0
Hue Adjust Magenta: 0
Hue Adjust Orange: 0
Hue Adjust Purple: 0
Hue Adjust Red: 0
Hue Adjust Yellow: 0
HueAdjustmentAqua | 0 |
HueAdjustmentBlue | 0 |
HueAdjustmentGreen | 0 |
HueAdjustmentMagenta | 0 |
HueAdjustmentOrange | 0 |
HueAdjustmentPurple | 0 |
HueAdjustmentRed | 0 |
HueAdjustmentYellow | 0 |
HyperfocalDistance | 58.00 m |
ICCProfileName | Adobe RGB (1998) |
Image Size
Image Size Width: 1024 pixels
Image Size Width: 1200 pixels
Image Size Width: 3000 pixels
Image Size Width: 4800 pixels
ImageHeight | 708 |
ImageNumber | 0 |
ImageSize | 1024x708 |
ImageWidth | 1024 |
In: Macintosh HD:Users:adied:Desktop:Iren og Oystein 270810:04 Middag:
Ink 1 Color: “RGB: 60 30 0 ”
Ink 1 Position: 50
Ink 1 Strength: 0
Ink 2 Color: “RGB: 0 0 60 ”
Ink 2 Position: 20
Ink 2 Strength: 0
Interpolation: bicubic
ISO | 800 |
Lens | EF50mm f/1.2L USM |
LensID (1) | 241 |
LensID | Canon EF 50mm f/1.2L USM |
LensInfo | 50mm f/? |
LightValue | 5.3 |
Local Adjustments: “”
Luminance Adjust Aqua: 0
Luminance Adjust Blue: 0
Luminance Adjust Green: 0
Luminance Adjust Magenta: 0
Luminance Adjust Orange: 0
Luminance Adjust Purple: 0
Luminance Adjust Red: 0
Luminance Adjust Yellow: 0
Luminance Smoothing: 0
LuminanceAdjustmentAqua | 0 |
LuminanceAdjustmentBlue | 0 |
LuminanceAdjustmentGreen | 0 |
LuminanceAdjustmentMagenta | 0 |
LuminanceAdjustmentOrange | 0 |
LuminanceAdjustmentPurple | 0 |
LuminanceAdjustmentRed | 0 |
LuminanceAdjustmentYellow | 0 |
LuminanceSmoothing | 0 |
Make | Canon |
Master Opacity Change
Matte: none
MaxApertureValue | 1.2 |
Megapixels | 0.725 |
Merge Visible
MeteringMode | Multi-segment |
Midtone: 33,33
Mode: normal
Model | Canon EOS 5D Mark II |
Model: “Canon EOS 5D Mark II”
ModifyDate (1) | 2010:09:29 11:38:31+02:00 |
ModifyDate | 2010:09:29 11:38:31 |
Opacity: 100%
Opacity: 24%
Open Macintosh HD:Users:adied:Pictures:Bryllup 2010_jpg:100827_Iren og Øystein:dng:04 Middag:1121.dng
Orientation | Horizontal (normal) |
Output Sharpen For: None
Overall Intensity: 100
Parametric Darks: 0
Parametric Highlight Split: 75
Parametric Highlights: 0
Parametric Lights: 0
Parametric Midtone Split: 50
Parametric Shadow Split: 25
Parametric Shadows: 0
ParametricDarks | 0 |
ParametricHighlights | 0 |
ParametricHighlightSplit | 75 |
ParametricLights | 0 |
ParametricMidtoneSplit | 50 |
ParametricShadows | 0 |
ParametricShadowSplit | 25 |
Play action “Lux (hard)” of set “TRA2 - The Revenge”
Play action “Slice Like A Ninja (Sharpen)” of set “TRA2 - The Revenge”
Play action “Soft glow” of set “Kubota Mini Actions”
Position: inside
Post Crop Vignetting Amount: 0
PostCropVignetteAmount | 0 |
ProcessVersion | 5.0 |
ProfileDescription | Adobe RGB (1998) |
Push Processing: 0
Quality: 12
Rating | 0 |
RawFileName | 1121.dng |
Recovery: 35
Red Eye: “”
Red Hue: 0
Red Saturation: 0
Red: 255
Red: “RedCurve: 2 0 0 0 0 0 0 1 1 ”
RedHue | 0 |
RedSaturation | 0 |
Relative Grain Size: 0,95
Resolution: 240
RGB: “RGBCurve: 5 0 0 0 0 0 0 0.113821 0.0882353 0.300813 0.298319 0.552846 0.579832 1 1 ”
Roughness: 20
Saturation Adjust Aqua: 0
Saturation Adjust Blue: 0
Saturation Adjust Green: 0
Saturation Adjust Magenta: 0
Saturation Adjust Orange: 0
Saturation Adjust Purple: 0
Saturation Adjust Red: 0
Saturation Adjust Yellow: 0
Saturation | 0 |
Saturation: 0
SaturationAdjustmentAqua | 0 |
SaturationAdjustmentBlue | 0 |
SaturationAdjustmentGreen | 0 |
SaturationAdjustmentMagenta | 0 |
SaturationAdjustmentOrange | 0 |
SaturationAdjustmentPurple | 0 |
SaturationAdjustmentRed | 0 |
SaturationAdjustmentYellow | 0 |
Save As: JPEG
Scale: 1
Scale: 333,3%
ScaleFactor35efl | 1.0 |
Scans: 4
SceneCaptureType | Standard |
Select eraser
Select layer “keyline layer” Without Make Visible
SerialNumber | 1330808299 |
Set current layer To: layer
Set Layer Styles of current layer To: layer styles
Setting: “Ilford Delta 3200”
Settings: Custom
Shadow Tint: 0
Shadow: 30,6
Shadows | 2 |
ShadowTint | 0 |
Sharpen Amount: 0
Sharpen Amount: 25
Sharpen Detail: 25
Sharpen Masking: 0
Sharpen Radius: 1
Sharpen Radius: 25
Sharpen Threshold: 0
SharpenDetail | 25 |
SharpenEdgeMasking | 0 |
SharpenRadius | +1.0 |
Sharpness | 25 |
ShutterSpeed | 1/160 |
ShutterSpeedValue | 1/160 |
Size: 3 pixels
Software | Adobe Photoshop CS4 Macintosh |
Space: Adobe RGB (1998)
Split Tone Balance: 0
Split Tone Highlight Hue: 0
Split Tone Highlight Saturation: 0
Split Tone Shadow Hue: 0
Split Tone Shadow Saturation: 0
SplitToningBalance | 0 |
SplitToningHighlightHue | 0 |
SplitToningHighlightSaturation | 0 |
SplitToningShadowHue | 0 |
SplitToningShadowSaturation | 0 |
Stroke
Stroke: stroke
SubjectDistance | 1.56 m |
Temperature: 3250
Tint | -6 |
Tint: -6
Tone Curve: 0, 0, 32, 22, 64, 56, 128, 128, 192, 196, 255, 255
ToneCurve | 0, 0, 32, 22, 64, 56, 128, 128, 192, 196, 255, 255 |
ToneCurveName | Medium Contrast |
true
URL_List | |
Version | 5.7 |
Vibrance | +8 |
Vibrance: 8
VignetteAmount | 0 |
Vignetting Amount: 0
White Balance: Custom
WhiteBalance (2) | Custom |
WhiteBalance | Auto |
With Automatic Grain Size
With Constrain Proportions
With Create New Layer
With Enabled
With Lower Case
With Scale Styles
Without Convert to Grayscale
Without Modified
Without User Setting
“AlienSkin Exposure 2 Black and White”
“Black and White Film”