Felt | Verdi |
AlreadyApplied | True |
Aperture | 4.5 |
ApertureValue | 4.5 |
Artist | PHOTOGRAPHER NANDOR TAMAS -DIGG.NO |
BitsPerSample | 8 |
BlueHue | 0 |
BlueSaturation | 0 |
Brightness | +90 |
By-line | PHOTOGRAPHER NANDOR TAMAS -DIGG. |
CameraProfile | Adobe Standard |
CFAPattern | [Red,Green][Green,Blue] |
ChromaticAberrationB | 0 |
ChromaticAberrationR | 0 |
CircleOfConfusion | 0.030 mm |
Clarity | +88 |
ColorComponents | 3 |
ColorMode | RGB |
ColorNoiseReduction | 25 |
ColorNoiseReductionDetail | 50 |
ColorSpace | Uncalibrated |
ColorTemperature | 5050 |
Contrast (1) | +100 |
Contrast | Normal |
ConvertToGrayscale | False |
Copyright | NANDOR TAMAS - FOTO@DIGG.NO - TLF:+47 901 84 092 |
CopyrightNotice | NANDOR TAMAS - FOTO@DIGG.NO - TLF:+47 901 84 092 |
CreateDate (1) | 2010:11:15 13:21:19.49+01:00 |
CreateDate | 2010:11:15 13:21:19 |
Creator | PHOTOGRAPHER NANDOR TAMAS -DIGG.NO |
CreatorTool | Ver.2.01 |
CustomRendered | Normal |
DateCreated (1) | 2010:11:15 |
DateCreated | 2010:11:15 13:21:19.049 |
DateTimeOriginal | 2010:11:15 13:21:19 |
Defringe | 0 |
DigitalZoomRatio | 1 |
DOF | inf (2.14 m - inf) |
ExifImageHeight | 4445 |
ExifImageWidth | 3021 |
Exposure | 0.00 |
ExposureCompensation | 0 |
ExposureMode | Auto |
ExposureProgram | Program AE |
ExposureTime | 1/80 |
FillLight | 9 |
Flash | No Flash |
FNumber | 4.5 |
FocalLength | 17.0 mm |
FocalLength35efl | 17.0 mm (35 mm equivalent: 17.0 mm) |
FocalLengthIn35mmFormat | 17 mm |
Format | image/jpeg |
FOV | 93.3 deg |
GainControl | High gain up |
GrainAmount | 0 |
GreenHue | 0 |
GreenSaturation | 0 |
HasCrop | False |
HasSettings | True |
HighlightRecovery | 0 |
HueAdjustmentAqua | 0 |
HueAdjustmentBlue | 0 |
HueAdjustmentGreen | 0 |
HueAdjustmentMagenta | 0 |
HueAdjustmentOrange | 0 |
HueAdjustmentPurple | 0 |
HueAdjustmentRed | 0 |
HueAdjustmentYellow | 0 |
HyperfocalDistance | 2.14 m |
ICCProfileName | Adobe RGB (1998) |
ImageHeight | 4445 |
ImageNumber | 54161 |
ImageSize | 3021x4445 |
ImageWidth | 3021 |
ISO | 3200 |
Lens | 17.0-35.0 mm f/2.8-4.0 |
LensID (1) | 38 |
LensID | Sigma 17-35mm F2.8-4 EX Aspherical |
LensInfo | 17-35mm f/2.8-4 |
LightSource | Unknown |
LightValue | 5.7 |
LuminanceAdjustmentAqua | 0 |
LuminanceAdjustmentBlue | 0 |
LuminanceAdjustmentGreen | 0 |
LuminanceAdjustmentMagenta | 0 |
LuminanceAdjustmentOrange | 0 |
LuminanceAdjustmentPurple | 0 |
LuminanceAdjustmentRed | 0 |
LuminanceAdjustmentYellow | 0 |
LuminanceSmoothing | 0 |
Make | NIKON CORPORATION |
MaxApertureValue | 2.8 |
Megapixels | 13.4 |
MeteringMode | Multi-segment |
Model | NIKON D3 |
ModifyDate (1) | 2010:11:16 09:53:58+01:00 |
ModifyDate | 2010:11:16 09:53:58 |
Orientation | Horizontal (normal) |
ParametricDarks | 0 |
ParametricHighlights | 0 |
ParametricHighlightSplit | 75 |
ParametricLights | 0 |
ParametricMidtoneSplit | 50 |
ParametricShadows | 0 |
ParametricShadowSplit | 25 |
PostCropVignetteAmount | -45 |
PostCropVignetteFeather | 50 |
PostCropVignetteHighlightContrast | 0 |
PostCropVignetteMidpoint | 50 |
PostCropVignetteRoundness | 0 |
PostCropVignetteStyle | 1 |
ProcessVersion | 5.7 |
ProfileDescription | Adobe RGB (1998) |
Rating | 0 |
RawFileName | _NLT2021.NEF |
RedHue | 0 |
RedSaturation | 0 |
Rights | NANDOR TAMAS - FOTO@DIGG.NO - TLF:+47 901 84 092 |
Saturation (1) | -10 |
Saturation | Normal |
SaturationAdjustmentAqua | 0 |
SaturationAdjustmentBlue | 0 |
SaturationAdjustmentGreen | 0 |
SaturationAdjustmentMagenta | 0 |
SaturationAdjustmentOrange | 0 |
SaturationAdjustmentPurple | 0 |
SaturationAdjustmentRed | 0 |
SaturationAdjustmentYellow | 0 |
ScaleFactor35efl | 1.0 |
SceneCaptureType | Standard |
SceneType | Directly photographed |
SensingMethod | One-chip color area |
SerialNumber | 2044742 |
Shadows | 18 |
ShadowTint | 0 |
SharpenDetail | 25 |
SharpenEdgeMasking | 0 |
SharpenRadius | +1.0 |
Sharpness (1) | 25 |
Sharpness | Normal |
ShutterSpeed | 1/80 |
ShutterSpeedValue | 1/80 |
SidecarForExtension | NEF |
Software | Adobe Photoshop CS5 Windows |
SplitToningBalance | 0 |
SplitToningHighlightHue | 0 |
SplitToningHighlightSaturation | 0 |
SplitToningShadowHue | 0 |
SplitToningShadowSaturation | 0 |
SubjectDistance | 4294967295 m |
SubjectDistanceRange | Unknown |
Tint | +4 |
ToneCurve | 0, 0, 32, 22, 64, 56, 128, 128, 192, 196, 255, 255 |
ToneCurveName | Medium Contrast |
URL_List | |
Version | 6.0 |
Vibrance | -100 |
VignetteAmount | 0 |
WhiteBalance (1) | As Shot |
WhiteBalance | Auto |