Felt | Verdi |
AlreadyApplied | True |
Aperture | 5.6 |
ApertureValue | 5.6 |
BitsPerSample | 8 |
BlueHue | 0 |
BlueSaturation | 0 |
Brightness | +43 |
CameraProfile | Beta |
ChromaticAberrationB | 0 |
ChromaticAberrationR | 0 |
CircleOfConfusion | 0.019 mm |
Clarity | +100 |
ColorComponents | 3 |
ColorMode | RGB |
ColorNoiseReduction | 25 |
ColorSpace | Uncalibrated |
ColorTemperature | 5500 |
Contrast | +40 |
ConvertToGrayscale | False |
CreateDate (1) | 2010:07:03 22:04:29.95+02:00 |
CreateDate | 2010:07:03 22:04:29 |
CustomRendered | Normal |
DateTimeDigitized | 2010:07:03 22:04:29.95+02:00 |
DateTimeOriginal (1) | 2010:07:03 22:04:29.95+02:00 |
DateTimeOriginal | 2010:07:03 22:04:29 |
Defringe | 0 |
ExifImageHeight | 2592 |
ExifImageWidth | 3888 |
Exposure | 0.00 |
ExposureCompensation | 0 |
ExposureMode | Auto |
ExposureProgram | Program AE |
ExposureTime | 1/45 |
FillLight | 0 |
Firmware | 1.0.7 |
Flash | Off, Did not fire |
FlashCompensation | 0 |
FlashFired | False |
FlashFunction | False |
FlashMode | Off |
FlashRedEyeMode | False |
FlashReturn | No return detection |
FNumber | 5.6 |
FocalLength | 42.0 mm |
FocalLength35efl | 42.0 mm (35 mm equivalent: 68.0 mm) |
Format | image/jpeg |
FOV | 29.7 deg |
GreenHue | 0 |
GreenSaturation | 0 |
HasCrop | False |
HasSettings | True |
HighlightRecovery | 100 |
HueAdjustmentAqua | 0 |
HueAdjustmentBlue | 0 |
HueAdjustmentGreen | 0 |
HueAdjustmentMagenta | 0 |
HueAdjustmentOrange | 0 |
HueAdjustmentPurple | 0 |
HueAdjustmentRed | 0 |
HueAdjustmentYellow | 0 |
HyperfocalDistance | 16.97 m |
ICCProfileName | Adobe RGB (1998) |
ImageHeight | 2592 |
ImageNumber | 0 |
ImageSize | 3888x2592 |
ImageWidth | 3888 |
ISO | 400 |
Lens | EF-S18-55mm f/3.5-5.6 |
LensInfo | 18-55mm f/? |
LightValue | 8.5 |
LuminanceAdjustmentAqua | 0 |
LuminanceAdjustmentBlue | 0 |
LuminanceAdjustmentGreen | 0 |
LuminanceAdjustmentMagenta | 0 |
LuminanceAdjustmentOrange | 0 |
LuminanceAdjustmentPurple | 0 |
LuminanceAdjustmentRed | 0 |
LuminanceAdjustmentYellow | 0 |
LuminanceSmoothing | 0 |
Make | Canon |
MaxApertureValue | 5.2 |
Megapixels | 10.1 |
MeteringMode | Multi-segment |
Model | Canon EOS 1000D |
ModifyDate (1) | 2010:12:04 22:39:20+01:00 |
ModifyDate | 2010:12:04 22:39:20 |
Orientation | Horizontal (normal) |
ParametricDarks | +20 |
ParametricHighlights | +64 |
ParametricHighlightSplit | 75 |
ParametricLights | +12 |
ParametricMidtoneSplit | 50 |
ParametricShadows | -63 |
ParametricShadowSplit | 25 |
PostCropVignetteAmount | -32 |
PostCropVignetteFeather | 99 |
PostCropVignetteMidpoint | 50 |
PostCropVignetteRoundness | +56 |
ProfileDescription | Adobe RGB (1998) |
RawFileName | 135 - 03.07.10.CR2 |
RedHue | 0 |
RedSaturation | 0 |
Saturation | +7 |
SaturationAdjustmentAqua | 0 |
SaturationAdjustmentBlue | 0 |
SaturationAdjustmentGreen | 0 |
SaturationAdjustmentMagenta | 0 |
SaturationAdjustmentOrange | 0 |
SaturationAdjustmentPurple | 0 |
SaturationAdjustmentRed | 0 |
SaturationAdjustmentYellow | 0 |
ScaleFactor35efl | 1.6 |
SceneCaptureType | Standard |
SerialNumber | 2750607525 |
Shadows | 10 |
ShadowTint | 0 |
SharpenDetail | 25 |
SharpenEdgeMasking | 0 |
SharpenRadius | +1.0 |
Sharpness | 25 |
ShutterSpeed | 1/45 |
ShutterSpeedValue | 1/45 |
Software | Adobe Photoshop CS4 Macintosh |
SplitToningBalance | 0 |
SplitToningHighlightHue | 0 |
SplitToningHighlightSaturation | 0 |
SplitToningShadowHue | 0 |
SplitToningShadowSaturation | 0 |
Tint | +10 |
ToneCurve | 0, 0, 32, 22, 64, 56, 128, 128, 192, 196, 255, 255 |
ToneCurveName | Medium Contrast |
URL_List | |
Version | 5.0 |
Vibrance | -8 |
VignetteAmount | -81 |
VignetteMidpoint | 33 |
WhiteBalance (2) | Daylight |
WhiteBalance | Manual |