Felt | Verdi |
AlreadyApplied | True |
Aperture | 9.0 |
ApertureValue | 9.0 |
Artist | Paul Romberg |
BitsPerSample | 8 |
BlueHue | 0 |
BlueSaturation | 0 |
Brightness | +50 |
By-line | Paul Romberg |
CameraProfile | Adobe Standard |
ChromaticAberrationB | 0 |
ChromaticAberrationR | 0 |
CircleOfConfusion | 0.019 mm |
Clarity | 0 |
ColorComponents | 3 |
ColorMode | RGB |
ColorNoiseReduction | 25 |
ColorSpace | sRGB |
ColorTemperature | 5200 |
Contrast | +25 |
ConvertToGrayscale | False |
Copyright | Paul Romberg |
CopyrightFlag | True |
CopyrightNotice | Paul Romberg |
CreateDate (1) | 2011:01:17 11:33:08.01+01:00 |
CreateDate | 2011:01:17 11:33:08 |
Creator | Paul Romberg |
CreatorAddress | Bellevue 17 |
CreatorCity | Fredrikstad, Norway |
CreatorRegion | romberg54@hotmail.com |
CreatorTool | Adobe Photoshop CS2 Windows |
CropAngle | -9 |
CropBottom | 0.773222 |
CropHeight | 1800 |
CropLeft | 0.151717 |
CropRight | 0.996131 |
CropTop | 0.270838 |
CropUnit | pixels |
CropWidth | 3039 |
CustomRendered | Normal |
DateTimeDigitized | 2011:01:17 11:33:08.01+01:00 |
DateTimeOriginal (1) | 2011:01:17 11:33:08.01+01:00 |
DateTimeOriginal | 2011:01:17 11:33:08 |
Defringe | 0 |
ExifImageHeight | 1800 |
ExifImageWidth | 3039 |
Exposure | 0.00 |
ExposureCompensation | 0 |
ExposureMode | Auto |
ExposureProgram | Shutter speed priority AE |
ExposureTime | 1/1250 |
FillLight | 0 |
Firmware | 1.0.4 |
Flash | Off, Did not fire |
FlashCompensation | 0 |
FlashFired | False |
FlashFunction | False |
FlashMode | Off |
FlashRedEyeMode | False |
FlashReturn | No return detection |
FNumber | 9.0 |
FocalLength | 32.0 mm |
FocalLength35efl | 32.0 mm (35 mm equivalent: 51.8 mm) |
Format | image/jpeg |
FOV | 38.3 deg |
GreenHue | 0 |
GreenSaturation | 0 |
HasCrop | True |
HasSettings | True |
HighlightRecovery | 0 |
HueAdjustmentAqua | 0 |
HueAdjustmentBlue | 0 |
HueAdjustmentGreen | 0 |
HueAdjustmentMagenta | 0 |
HueAdjustmentOrange | 0 |
HueAdjustmentPurple | 0 |
HueAdjustmentRed | 0 |
HueAdjustmentYellow | 0 |
HyperfocalDistance | 6.13 m |
ICCProfileName | sRGB IEC61966-2.1 |
ImageHeight | 1800 |
ImageNumber | 0 |
ImageSize | 3039x1800 |
ImageWidth | 3039 |
ISO | 200 |
Keywords | st.anton og sölden |
Lens | 18-250mm |
LensInfo | 18-250mm f/? |
LightValue | 15.6 |
LuminanceAdjustmentAqua | 0 |
LuminanceAdjustmentBlue | 0 |
LuminanceAdjustmentGreen | 0 |
LuminanceAdjustmentMagenta | 0 |
LuminanceAdjustmentOrange | 0 |
LuminanceAdjustmentPurple | 0 |
LuminanceAdjustmentRed | 0 |
LuminanceAdjustmentYellow | 0 |
LuminanceSmoothing | 0 |
Make | Canon |
Marked | True |
MaxApertureValue | 4.0 |
Megapixels | 5.5 |
MeteringMode | Multi-segment |
Model | Canon EOS 40D |
ModifyDate (1) | 2011:02:15 23:59:04+01:00 |
ModifyDate | 2011:02:15 23:59:04 |
Orientation | Horizontal (normal) |
ParametricDarks | -10 |
ParametricHighlights | 0 |
ParametricHighlightSplit | 75 |
ParametricLights | -14 |
ParametricMidtoneSplit | 50 |
ParametricShadows | -12 |
ParametricShadowSplit | 25 |
PostCropVignetteAmount | 0 |
ProfileDescription | sRGB IEC61966-2.1 |
RedHue | 0 |
RedSaturation | 0 |
Rights | Paul Romberg |
Saturation | 0 |
SaturationAdjustmentAqua | 0 |
SaturationAdjustmentBlue | 0 |
SaturationAdjustmentGreen | 0 |
SaturationAdjustmentMagenta | 0 |
SaturationAdjustmentOrange | 0 |
SaturationAdjustmentPurple | 0 |
SaturationAdjustmentRed | 0 |
SaturationAdjustmentYellow | 0 |
ScaleFactor35efl | 1.6 |
SceneCaptureType | Standard |
SerialNumber | 610418699 |
Shadows | 5 |
ShadowTint | 0 |
SharpenDetail | 35 |
SharpenEdgeMasking | 0 |
SharpenRadius | +1.2 |
Sharpness | 37 |
ShutterSpeed | 1/1250 |
ShutterSpeedValue | 1/1250 |
Software | Adobe Photoshop CS2 Windows |
SplitToningBalance | 0 |
SplitToningHighlightHue | 17 |
SplitToningHighlightSaturation | 11 |
SplitToningShadowHue | 51 |
SplitToningShadowSaturation | 17 |
Subject | st.anton og sölden |
Tint | -6 |
ToneCurve | 0, 0, 32, 22, 64, 56, 128, 128, 192, 196, 255, 255 |
ToneCurveName | Medium Contrast |
URL_List | |
Version | 5.3 |
Vibrance | 0 |
VignetteAmount | 0 |
WhiteBalance (2) | As Shot |
WhiteBalance | Auto |