Felt | Verdi |
AlreadyApplied | True |
Aperture | 10.0 |
ApertureValue | 10.0 |
BitsPerSample | 8 |
BlueHue | 0 |
BlueSaturation | 0 |
Brightness | +29 |
CameraProfile | Adobe Standard |
ChromaticAberrationB | 0 |
ChromaticAberrationR | 0 |
CircleOfConfusion | 0.019 mm |
Clarity | +10 |
ColorComponents | 3 |
ColorNoiseReduction | 25 |
ColorNoiseReductionDetail | 50 |
ColorTemperature | 4950 |
Contrast | +36 |
ConvertToGrayscale | False |
CreateDate (1) | 2011:03:23 10:54:41.00+01:00 |
CreateDate | 2011:03:23 10:54:41 |
CreatorTool | Adobe Photoshop Lightroom |
CropAngle | 1.45574 |
CropBottom | 0.999497 |
CropConstrainToWarp | 0 |
CropHeight | 1654 |
CropLeft | 0.048927 |
CropRight | 0.902481 |
CropTop | 0.014034 |
CropUnit | pixels |
CropWidth | 2266 |
CustomRendered | Normal |
DateTimeDigitized | 2011:03:23 10:54:41.00+01:00 |
DateTimeOriginal (1) | 2011:03:23 10:54:41.00+01:00 |
DateTimeOriginal | 2011:03:23 10:54:41 |
Defringe | 0 |
DOF | 0.04 m (0.99 - 1.03 m) |
ExifImageHeight | 2266 |
ExifImageWidth | 1654 |
Exposure | +0.97 |
ExposureCompensation | 0 |
ExposureMode | Manual |
ExposureProgram | Manual |
ExposureTime | 1/4 |
FillLight | 0 |
Firmware | 1.2.3 |
Flash | Off, Did not fire |
FlashCompensation | 0 |
FlashFired | False |
FlashFunction | False |
FlashMode | Off |
FlashRedEyeMode | False |
FlashReturn | No return detection |
FNumber | 10.0 |
FocalLength | 100.0 mm |
FocalLength35efl | 100.0 mm (35 mm equivalent: 157.0 mm) |
FOV | 13.1 deg |
GradientBasedCorrActive | true |
GradientBasedCorrAmount | 1.000000 |
GradientBasedCorrBrightness (1) | -0.390000 |
GradientBasedCorrBrightness (2) | 0.293000 |
GradientBasedCorrBrightness | 0.439000 |
GradientBasedCorrClarity (1) | -0.049000 |
GradientBasedCorrClarity (2) | 0.073000 |
GradientBasedCorrClarity | 0.098000 |
GradientBasedCorrContrast (1) | -0.463000 |
GradientBasedCorrContrast (2) | 0.220000 |
GradientBasedCorrContrast | 0.244000 |
GradientBasedCorrExposure (1) | -0.220000 |
GradientBasedCorrExposure (2) | 0.195000 |
GradientBasedCorrExposure | 0.317000 |
GradientBasedCorrHue (1) | 183.000000 |
GradientBasedCorrHue | 229.000000 |
GradientBasedCorrMaskFullX (1) | 0.192134 |
GradientBasedCorrMaskFullX (2) | 0.671607 |
GradientBasedCorrMaskFullX | 0.077207 |
GradientBasedCorrMaskFullY (1) | 0.529607 |
GradientBasedCorrMaskFullY (2) | 0.535451 |
GradientBasedCorrMaskFullY | 0.507298 |
GradientBasedCorrMaskValue | 1.000000 |
GradientBasedCorrMaskWhat | Mask/Gradient |
GradientBasedCorrMaskZeroX (1) | 0.436346 |
GradientBasedCorrMaskZeroX (2) | 0.069244 |
GradientBasedCorrMaskZeroX | 0.297367 |
GradientBasedCorrMaskZeroY (1) | 0.547120 |
GradientBasedCorrMaskZeroY (2) | 0.506923 |
GradientBasedCorrMaskZeroY | 0.514489 |
GradientBasedCorrSaturation (1) | -0.073000 |
GradientBasedCorrSaturation (2) | 0.050000 |
GradientBasedCorrSaturation (3) | 0.171000 |
GradientBasedCorrSaturation (5) | -0.463000 |
GradientBasedCorrSaturation | 0.770000 |
GradientBasedCorrSharpness (1) | 0.098000 |
GradientBasedCorrSharpness (2) | 0.122000 |
GradientBasedCorrSharpness | 0.073000 |
GradientBasedCorrWhat | Correction |
GrainAmount | 0 |
GreenHue | 0 |
GreenSaturation | 0 |
HasCrop | True |
HasSettings | True |
HighlightRecovery | 0 |
HueAdjustmentAqua | 0 |
HueAdjustmentBlue | 0 |
HueAdjustmentGreen | 0 |
HueAdjustmentMagenta | 0 |
HueAdjustmentOrange | 0 |
HueAdjustmentPurple | 0 |
HueAdjustmentRed | 0 |
HueAdjustmentYellow | 0 |
HyperfocalDistance | 52.26 m |
ImageHeight | 2266 |
ImageNumber | 0 |
ImageSize | 1654x2266 |
ImageWidth | 1654 |
ISO | 200 |
Lens | EF100mm f/2.8L Macro IS USM |
LensID (1) | 254 |
LensID | Canon EF 100mm f/2.8L Macro IS USM |
LensInfo | 100mm f/? |
LensManualDistortionAmount | 0 |
LensProfileEnable | 0 |
LensProfileSetup | LensDefaults |
LightValue | 7.6 |
LuminanceAdjustmentAqua | 0 |
LuminanceAdjustmentBlue | 0 |
LuminanceAdjustmentGreen | 0 |
LuminanceAdjustmentMagenta | 0 |
LuminanceAdjustmentOrange | 0 |
LuminanceAdjustmentPurple | 0 |
LuminanceAdjustmentRed | 0 |
LuminanceAdjustmentYellow | 0 |
LuminanceNoiseReductionContrast | 0 |
LuminanceNoiseReductionDetail | 50 |
LuminanceSmoothing | 28 |
Make | Canon |
MaxApertureValue | 2.8 |
Megapixels | 3.7 |
MeteringMode | Multi-segment |
Model | Canon EOS 7D |
ModifyDate (1) | 2011:03:23 14:08:49+01:00 |
ModifyDate | 2011:03:23 14:08:49 |
ParametricDarks | -5 |
ParametricHighlights | +7 |
ParametricHighlightSplit | 75 |
ParametricLights | -37 |
ParametricMidtoneSplit | 50 |
ParametricShadows | -9 |
ParametricShadowSplit | 25 |
PerspectiveHorizontal | 0 |
PerspectiveRotate | 0.0 |
PerspectiveScale | 100 |
PerspectiveVertical | 0 |
PostCropVignetteAmount | -6 |
PostCropVignetteFeather | 50 |
PostCropVignetteHighlightContrast | 0 |
PostCropVignetteMidpoint | 48 |
PostCropVignetteRoundness | -1 |
PostCropVignetteStyle | 1 |
ProcessVersion | 5.7 |
ProfileDescription | sRGB IEC61966-2.1 |
RedHue | 0 |
RedSaturation | 0 |
Saturation | 0 |
SaturationAdjustmentAqua | 0 |
SaturationAdjustmentBlue | 0 |
SaturationAdjustmentGreen | 0 |
SaturationAdjustmentMagenta | 0 |
SaturationAdjustmentOrange | 0 |
SaturationAdjustmentPurple | 0 |
SaturationAdjustmentRed | 0 |
SaturationAdjustmentYellow | 0 |
ScaleFactor35efl | 1.6 |
SceneCaptureType | Standard |
SerialNumber | 1961000057 |
Shadows | 11 |
ShadowTint | 0 |
SharpenDetail | 34 |
SharpenEdgeMasking | 49 |
SharpenRadius | +1.5 |
Sharpness | 50 |
ShutterSpeed | 1/4 |
ShutterSpeedValue | 1/4 |
SplitToningBalance | 0 |
SplitToningHighlightHue | 0 |
SplitToningHighlightSaturation | 0 |
SplitToningShadowHue | 0 |
SplitToningShadowSaturation | 0 |
SubjectDistance | 1.01 m |
Tint | +5 |
ToneCurve | 0, 0, 32, 22, 64, 56, 128, 128, 192, 196, 255, 255 |
ToneCurveName | Medium Contrast |
Version | 6.1 |
Vibrance | 0 |
VignetteAmount | 0 |
WhiteBalance (2) | As Shot |
WhiteBalance | Auto |