Felt | Verdi |
AlreadyApplied | True |
Aperture | 14.0 |
ApertureValue | 14.0 |
BitsPerSample | 8 |
BlueHue | 0 |
BlueSaturation | 0 |
Brightness | +50 |
By-line | shild Lauritsen |
CameraProfile | Adobe Standard |
CFAPattern | [Red,Green][Green,Blue] |
ChromaticAberrationB | 0 |
ChromaticAberrationR | 0 |
CircleOfConfusion | 0.030 mm |
Clarity | +26 |
ColorComponents | 1 |
ColorNoiseReduction | 25 |
ColorNoiseReductionDetail | 50 |
ColorTemperature | 6850 |
Contrast (2) | +25 |
Contrast | Normal |
ConvertToGrayscale | True |
Copyright | Ashild Lauritsen |
CopyrightFlag | True |
CopyrightNotice | shild Lauritsen |
CreateDate (1) | 2011:03:11 09:59:02.83+01:00 |
CreateDate | 2011:03:11 09:59:02 |
Creator | Åshild Lauritsen |
CreatorAddress | Gamlevegen 25 |
CreatorCity | 6100 Volda |
CreatorTool | Adobe Photoshop Lightroom 3.3 |
CropAngle | 0.141296 |
CropBottom | 1 |
CropConstrainToWarp | 0 |
CropHeight | 665 |
CropLeft | 0.002664 |
CropRight | 0.997336 |
CropTop | 0 |
CropUnit | pixels |
CropWidth | 1000 |
CustomRendered | Normal |
DateTimeDigitized | 2011:03:11 09:59:02.83+01:00 |
DateTimeOriginal (1) | 2011:03:11 09:59:02.83+01:00 |
DateTimeOriginal | 2011:03:11 09:59:02 |
Defringe | 0 |
DigitalZoomRatio | 1 |
DOF | inf (1.65 m - inf) |
ExifImageHeight | 665 |
ExifImageWidth | 1000 |
Exposure | +0.52 |
ExposureCompensation | 0 |
ExposureMode | Auto |
ExposureProgram | Aperture-priority AE |
ExposureTime | 1/100 |
FillLight | 0 |
Flash | No Flash |
FlashFired | False |
FlashFunction | False |
FlashMode | Unknown |
FlashRedEyeMode | False |
FlashReturn | No return detection |
FNumber | 14.0 |
FocalLength | 32.0 mm |
FocalLength35efl | 32.0 mm (35 mm equivalent: 32.0 mm) |
FocalLengthIn35mmFormat | 32 mm |
FOV | 58.7 deg |
GainControl | None |
GradientBasedCorrActive | true |
GradientBasedCorrAmount | 1.000000 |
GradientBasedCorrBrightness | 0.000000 |
GradientBasedCorrClarity | 0.000000 |
GradientBasedCorrContrast | 0.000000 |
GradientBasedCorrExposure | -0.362637 |
GradientBasedCorrHue | 114.000000 |
GradientBasedCorrMaskFullX | 0.480480 |
GradientBasedCorrMaskFullY | 0.028354 |
GradientBasedCorrMaskValue | 1.000000 |
GradientBasedCorrMaskWhat | Mask/Gradient |
GradientBasedCorrMaskZeroX | 0.482536 |
GradientBasedCorrMaskZeroY | 0.803472 |
GradientBasedCorrSaturation | 0.000000 |
GradientBasedCorrSharpness | 0.000000 |
GradientBasedCorrWhat | Correction |
GrainAmount | 0 |
GrayMixerAqua | -61 |
GrayMixerBlue | -41 |
GrayMixerGreen | -10 |
GrayMixerMagenta | -8 |
GrayMixerOrange | 0 |
GrayMixerPurple | -35 |
GrayMixerRed | -31 |
GrayMixerYellow | +20 |
GreenHue | 0 |
GreenSaturation | 0 |
HasCrop | True |
HasSettings | True |
HighlightRecovery | 0 |
HyperfocalDistance | 2.43 m |
ImageHeight | 665 |
ImageNumber | 35082 |
ImageSize | 1000x665 |
ImageWidth | 1000 |
ISO | 200 |
Lens | 24.0-70.0 mm f/2.8 |
LensID (1) | 147 |
LensID | AF-S Zoom-Nikkor 24-70mm f/2.8G ED |
LensInfo | 24-70mm f/2.8 |
LensManualDistortionAmount | 0 |
LensModel | 24.0-70.0 mm f/2.8 |
LensProfileChromaticAberrationScale | 100 |
LensProfileDistortionScale | 100 |
LensProfileEnable | 1 |
LensProfileFilename | NIKON D3X (Nikon FX 24-70mm f2.8 G ED) - RAW.lcp |
LensProfileName | Adobe (Nikon AF-S NIKKOR 24-70mm f/2.8G ED) |
LensProfileSetup | LensDefaults |
LensProfileVignettingScale | 100 |
LightSource | Unknown |
LightValue | 13.3 |
LuminanceNoiseReductionContrast | 0 |
LuminanceNoiseReductionDetail | 50 |
LuminanceSmoothing | 24 |
Make | NIKON CORPORATION |
Marked | True |
MaxApertureValue | 2.8 |
Megapixels | 0.665 |
MeteringMode | Multi-segment |
Model | NIKON D3 |
ModifyDate (1) | 2011:04:07 19:46:09+02:00 |
ModifyDate | 2011:04:07 19:46:09 |
ParametricDarks | +16 |
ParametricHighlights | 0 |
ParametricHighlightSplit | 75 |
ParametricLights | +14 |
ParametricMidtoneSplit | 50 |
ParametricShadows | -14 |
ParametricShadowSplit | 25 |
PerspectiveHorizontal | 0 |
PerspectiveRotate | 0.0 |
PerspectiveScale | 100 |
PerspectiveVertical | 0 |
PostCropVignetteAmount | 0 |
ProcessVersion | 5.7 |
ProfileDescription | sRGB IEC61966-2.1 |
RedHue | 0 |
RedSaturation | 0 |
Rights | Åshild Lauritsen |
Saturation | Normal |
ScaleFactor35efl | 1.0 |
SceneCaptureType | Standard |
SceneType | Directly photographed |
SensingMethod | One-chip color area |
SensitivityType | Unknown |
SerialNumber | 2012385 |
Shadows | 0 |
ShadowTint | 0 |
SharpenDetail | 35 |
SharpenEdgeMasking | 0 |
SharpenRadius | +1.0 |
Sharpness (2) | 59 |
Sharpness | Normal |
ShutterSpeed | 1/100 |
ShutterSpeedValue | 1/100 |
Software | Ver.2.02 |
SplitToningBalance | 0 |
SplitToningHighlightHue | 0 |
SplitToningHighlightSaturation | 0 |
SplitToningShadowHue | 0 |
SplitToningShadowSaturation | 0 |
SubjectDistance | 5.01 m |
SubjectDistanceRange | Unknown |
Tint | -6 |
ToneCurve | 0, 0, 32, 22, 64, 56, 128, 128, 192, 196, 255, 255 |
ToneCurveName | Medium Contrast |
Version | 6.3 |
VignetteAmount | 0 |
WhiteBalance (2) | As Shot |
WhiteBalance | Auto |