Felt | Verdi |
AlreadyApplied | True |
Aperture | 5.6 |
ApertureValue | 5.6 |
ApproximateFocusDistance | 1.26 |
BitsPerSample | 8 |
BlueHue | -60 |
BlueSaturation | +3 |
Brightness | 0 |
CameraProfile | Embedded |
CFAPattern | [Red,Green][Green,Blue] |
ChromaticAberrationB | 0 |
ChromaticAberrationR | 0 |
CircleOfConfusion | 0.020 mm |
Clarity | +100 |
ColorComponents | 3 |
ColorNoiseReduction | 25 |
ColorNoiseReductionDetail | 50 |
Contrast (2) | -31 |
Contrast | Normal |
ConvertToGrayscale | False |
CreateDate (1) | 2011:07:03 15:16:30.30+02:00 |
CreateDate | 2011:07:03 15:16:30 |
CreatorTool | Adobe Photoshop Lightroom 3.3 |
CustomRendered | Normal |
DateTimeDigitized | 2011:07:03 15:16:30.30+02:00 |
DateTimeOriginal (1) | 2011:07:03 15:16:30.30+02:00 |
DateTimeOriginal | 2011:07:03 15:16:30 |
Defringe | 0 |
DigitalZoomRatio | 1 |
DOF | 0.003 m (1.258 - 1.262 m) |
ExifImageHeight | 3264 |
ExifImageWidth | 4928 |
Exposure | +1.98 |
ExposureCompensation | 0 |
ExposureMode | Manual |
ExposureProgram | Manual |
ExposureTime | 1/500 |
FillLight | 0 |
Flash | Off, Did not fire |
FlashFired | False |
FlashFunction | False |
FlashMode | Off |
FlashRedEyeMode | False |
FlashReturn | No return detection |
FNumber | 5.6 |
FocalLength | 300.0 mm |
FocalLength35efl | 300.0 mm (35 mm equivalent: 450.0 mm) |
FocalLengthIn35mmFormat | 450 mm |
FOV | 4.6 deg |
GainControl | None |
GrainAmount | 0 |
GreenHue | +100 |
GreenSaturation | +100 |
HasCrop | False |
HasSettings | True |
HighlightRecovery | 90 |
HueAdjustmentAqua | 0 |
HueAdjustmentBlue | 0 |
HueAdjustmentGreen | 0 |
HueAdjustmentMagenta | 0 |
HueAdjustmentOrange | 0 |
HueAdjustmentPurple | 0 |
HueAdjustmentRed | 0 |
HueAdjustmentYellow | 0 |
HyperfocalDistance | 802.33 m |
ImageHeight | 3264 |
ImageNumber | 4675 |
ImageSize | 4928x3264 |
ImageWidth | 4928 |
IncrementalTemperature | 0 |
IncrementalTint | -33 |
ISO | 200 |
Lens | 70.0-300.0 mm f/4.0-5.6 |
LensID (1) | 224 |
LensID | Sigma 70-300mm F4-5.6 APO DG Macro HSM |
LensInfo | 70-300mm f/4-5.6 |
LensManualDistortionAmount | 0 |
LensModel | 70.0-300.0 mm f/4.0-5.6 |
LensProfileEnable | 0 |
LensProfileSetup | LensDefaults |
LightSource | Unknown |
LightValue | 12.9 |
LuminanceAdjustmentAqua | 0 |
LuminanceAdjustmentBlue | 0 |
LuminanceAdjustmentGreen | 0 |
LuminanceAdjustmentMagenta | 0 |
LuminanceAdjustmentOrange | 0 |
LuminanceAdjustmentPurple | 0 |
LuminanceAdjustmentRed | 0 |
LuminanceAdjustmentYellow | 0 |
LuminanceSmoothing | 0 |
Make | NIKON CORPORATION |
MaxApertureValue | 5.7 |
Megapixels | 16.1 |
MeteringMode | Multi-segment |
Model | NIKON D7000 |
ModifyDate (1) | 2011:07:03 18:30:23+02:00 |
ModifyDate | 2011:07:03 18:30:23 |
ParametricDarks | -20 |
ParametricHighlights | +60 |
ParametricHighlightSplit | 75 |
ParametricLights | +10 |
ParametricMidtoneSplit | 50 |
ParametricShadows | -60 |
ParametricShadowSplit | 25 |
PerspectiveHorizontal | 0 |
PerspectiveRotate | 0.0 |
PerspectiveScale | 100 |
PerspectiveVertical | 0 |
PostCropVignetteAmount | 0 |
ProcessVersion | 5.7 |
ProfileDescription | sRGB IEC61966-2.1 |
RatingPercent | 0 |
RedHue | +100 |
RedSaturation | -100 |
Saturation (2) | 0 |
Saturation | Normal |
SaturationAdjustmentAqua | +50 |
SaturationAdjustmentBlue | +58 |
SaturationAdjustmentGreen | +10 |
SaturationAdjustmentMagenta | 0 |
SaturationAdjustmentOrange | +13 |
SaturationAdjustmentPurple | +23 |
SaturationAdjustmentRed | 0 |
SaturationAdjustmentYellow | +23 |
ScaleFactor35efl | 1.5 |
SceneCaptureType | Standard |
SceneType | Directly photographed |
SensingMethod | One-chip color area |
SensitivityType | Unknown |
SerialNumber | 6072027 |
Shadows | 39 |
ShadowTint | -4 |
SharpenDetail | 25 |
SharpenEdgeMasking | 0 |
SharpenRadius | +1.0 |
Sharpness (2) | 25 |
Sharpness | Normal |
ShutterSpeed | 1/500 |
ShutterSpeedValue | 1/500 |
Software | Nikon Transfer 2.1 W |
SplitToningBalance | 0 |
SplitToningHighlightHue | 0 |
SplitToningHighlightSaturation | 0 |
SplitToningShadowHue | 0 |
SplitToningShadowSaturation | 0 |
SubjectDistance | 1.26 m |
SubjectDistanceRange | Unknown |
ToneCurve | 0, 0, 255, 255 |
ToneCurveName | Linear |
Version | 6.3 |
Vibrance | 0 |
VignetteAmount | 0 |
WhiteBalance (2) | Custom |
WhiteBalance | Auto |