Felt | Verdi |
AlreadyApplied | True |
Aperture | 8.0 |
ApertureValue | 8.0 |
BitsPerSample | 8 |
BlueHue | -38 |
BlueSaturation | +21 |
Brightness | 0 |
CameraProfile | ACR 3.6 |
CFAPattern | [Green,Blue][Red,Green] |
ChromaticAberrationB | 0 |
ChromaticAberrationR | 0 |
CircleOfConfusion | 0.020 mm |
Clarity | 0 |
ColorComponents | 3 |
ColorMode | RGB |
ColorNoiseReduction | 42 |
ColorSpace | Uncalibrated |
ColorTemperature | 4600 |
Contrast (2) | 0 |
Contrast | Normal |
ConvertToGrayscale | False |
CreateDate (1) | 2008:07:04 23:52:29.80+02:00 |
CreateDate | 2008:07:04 23:52:29 |
CreatorTool | Ver.1.10 |
CropAngle | -1.7545 |
CropBottom | 0.956244 |
CropLeft | 0.012074 |
CropRight | 0.987926 |
CropTop | 0.043756 |
CustomRendered | Normal |
DateTimeDigitized | 2008:07:04 23:52:29.80+02:00 |
DateTimeOriginal (1) | 2008:07:04 23:52:29.80+02:00 |
DateTimeOriginal | 2008:07:04 23:52:29 |
Defringe | 0 |
DigitalZoomRatio | 1 |
ExifImageHeight (1) | 2480 |
ExifImageHeight | 850 |
ExifImageWidth (1) | 3705 |
ExifImageWidth | 800 |
Exposure | +1.50 |
ExposureCompensation | 0 |
ExposureMode | Auto |
ExposureProgram | Aperture-priority AE |
ExposureTime | 1/15 |
FillLight | 10 |
Flash | No Flash |
FlashFired | False |
FlashFunction | False |
FlashMode | Unknown |
FlashRedEyeMode | False |
FlashReturn | No return detection |
FNumber | 8.0 |
FocalLength | 40.0 mm |
FocalLength35efl | 40.0 mm (35 mm equivalent: 60.0 mm) |
FocalLengthIn35mmFormat | 60 mm |
Format | image/jpeg |
FOV | 33.4 deg |
GainControl | None |
GreenHue | +54 |
GreenSaturation | +44 |
HasCrop | True |
HasSettings | True |
HighlightRecovery | 5 |
HueAdjustmentAqua | 0 |
HueAdjustmentBlue | +33 |
HueAdjustmentGreen | 0 |
HueAdjustmentMagenta | 0 |
HueAdjustmentOrange | +22 |
HueAdjustmentPurple | -34 |
HueAdjustmentRed | +82 |
HueAdjustmentYellow | +3 |
HyperfocalDistance | 9.98 m |
ICCProfileName | Adobe RGB (1998) |
IFD0_Offset | 1102 |
ImageDataSize | 452766 |
ImageHeight | 850 |
ImageNumber | 3064 |
ImageSize | 800x850 |
ImageWidth | 800 |
ISO | 250 |
Lens | 18.0-70.0 mm f/3.5-4.5 |
LensInfo | 18-70mm f/3.5-4.5 |
LightSource | Unknown |
LightValue | 8.6 |
LuminanceAdjustmentAqua | -10 |
LuminanceAdjustmentBlue | -32 |
LuminanceAdjustmentGreen | 0 |
LuminanceAdjustmentMagenta | 0 |
LuminanceAdjustmentOrange | -34 |
LuminanceAdjustmentPurple | 0 |
LuminanceAdjustmentRed | 0 |
LuminanceAdjustmentYellow | +11 |
LuminanceSmoothing | 65 |
Make | NIKON CORPORATION |
MakerNoteVersion | 2.10 |
MaxApertureValue | 4.3 |
Megapixels | 0.680 |
MeteringMode | Spot |
Model | NIKON D80 |
ModifyDate (1) | 2009:04:12 20:39:01+02:00 |
ModifyDate | 2011:08:07 14:56:1317011456 |
NEFBitDepth | n/a (JPEG) |
NikonCaptureVersion | Capture NX 2.2.6 M |
Orientation | Horizontal (normal) |
ParametricDarks | 0 |
ParametricHighlights | 0 |
ParametricHighlightSplit | 75 |
ParametricLights | 0 |
ParametricMidtoneSplit | 50 |
ParametricShadows | 0 |
ParametricShadowSplit | 25 |
PostCropVignetteAmount | 0 |
PreviewIFD_Offset | 1002 |
ProfileDescription | Adobe RGB (1998) |
Rating | 0 |
RawFileName | DSC_0090.dng |
RedHue | +43 |
RedSaturation | -52 |
Saturation (2) | +6 |
Saturation | High |
SaturationAdjustmentAqua | 0 |
SaturationAdjustmentBlue | 0 |
SaturationAdjustmentGreen | 0 |
SaturationAdjustmentMagenta | 0 |
SaturationAdjustmentOrange | 0 |
SaturationAdjustmentPurple | 0 |
SaturationAdjustmentRed | 0 |
SaturationAdjustmentYellow | 0 |
ScaleFactor35efl | 1.5 |
SceneCaptureType | Standard |
SceneType | Directly photographed |
SensingMethod | One-chip color area |
Shadows | 0 |
ShadowTint | +59 |
SharpenDetail | 25 |
SharpenEdgeMasking | 0 |
SharpenRadius | +1.0 |
Sharpness (2) | 0 |
Sharpness | Hard |
ShutterSpeed | 1/15 |
ShutterSpeedValue (1) | 1/15 |
ShutterSpeedValue | 2.8 |
Software | Capture NX 2.2.6 M |
SplitToningBalance | 0 |
SplitToningHighlightHue | 0 |
SplitToningHighlightSaturation | 0 |
SplitToningShadowHue | 0 |
SplitToningShadowSaturation | 0 |
SubjectDistanceRange | Unknown |
Tint | -6 |
ToneCurve | 0, 0, 32, 22, 64, 56, 128, 128, 192, 196, 255, 255 |
ToneCurveName | Medium Contrast |
Version | 5.0 |
Vibrance | +60 |
VignetteAmount | 0 |
WhiteBalance (2) | As Shot |
WhiteBalance | Auto |