Felt | Verdi |
AlreadyApplied | True |
Aperture | 6.6 |
ApertureValue | 6.6 |
BitsPerSample | 8 |
BlackClip | 6.526650 |
BlueHue | 0 |
BlueSaturation | 0 |
Brightness | 0 |
CameraProfile | Embedded |
ChromaticAberrationB | 0 |
ChromaticAberrationR | 0 |
Clarity | 0 |
ColorComponents | 1 |
ColorNoiseReduction | 0 |
ColorSaturation | 46.0 |
ColorTemperature | 0.0 |
Contrast | 0 |
ConvertToGrayscale | True |
CreateDate | 2010:07:28 02:55:33+02:00 |
CreatorTool | Adobe Photoshop Lightroom |
DateTimeOriginal (1) | 2010:07:28 02:55:33+02:00 |
DateTimeOriginal | 2010:07:28 02:55:33 |
Defringe | 0 |
ExifImageHeight | 2586 |
ExifImageWidth | 3892 |
Exposure | 0.00 |
FillLight | 0 |
FNumber | 6.6 |
FocalLength | 10.0 mm |
FocalLength35efl | 10.0 mm |
Gamma | 1.6 |
GrayMixerAqua | -18 |
GrayMixerBlue | +6 |
GrayMixerGreen | -22 |
GrayMixerMagenta | +4 |
GrayMixerOrange | -13 |
GrayMixerPurple | +12 |
GrayMixerRed | -6 |
GrayMixerYellow | -16 |
GreenHue | 0 |
GreenSaturation | 0 |
HasCrop | False |
HasSettings | True |
HighlightRecovery | 0 |
HighlightsSmoothing | 31.0 |
ImageHeight | 2586 |
ImageSize | 3892x2586 |
ImageWidth | 3892 |
IncrementalTemperature | 0 |
IncrementalTint | 0 |
ISO | 100 |
LuminanceSmoothing | 0 |
Luminosity | 0.0 |
Megapixels | 10.1 |
Method | Details Enhancer |
Microcontrast | 0.0 |
Microsmoothing | 25.4 |
Model | Canon EOS 40D |
ModifyDate (1) | 2010:07:05 00:44:25+02:00 |
ModifyDate | 2010:07:05 00:44:25 |
ParametricDarks | -8 |
ParametricHighlights | 0 |
ParametricHighlightSplit | 75 |
ParametricLights | +4 |
ParametricMidtoneSplit | 50 |
ParametricShadows | -46 |
ParametricShadowSplit | 25 |
PostCropVignetteAmount | 0 |
ProfileDescription | sRGB IEC61966-2.1 |
RedHue | 0 |
RedSaturation | 0 |
SaturationHighlights | 0.0 |
SaturationShadows | 0.0 |
Shadows | 0 |
ShadowsClipping | 0.0 |
ShadowsSmoothing | 0.0 |
ShadowTint | 0 |
SharpenDetail | 60 |
SharpenEdgeMasking | 48 |
SharpenRadius | +0.5 |
Sharpness | 87 |
Smoothing | High |
SmoothingMode | Light |
SplitToningBalance | 0 |
SplitToningHighlightHue | 0 |
SplitToningHighlightSaturation | 0 |
SplitToningShadowHue | 0 |
SplitToningShadowSaturation | 0 |
Strength | 88.0 |
ToneCurve | 0, 0, 255, 255 |
ToneCurveName | Linear |
Version (1) | 3.2 |
Version | 5.4 |
VignetteAmount | 0 |
WhiteBalance | As Shot |
WhiteClip | 5.243300 |