Felt | Verdi |
AlreadyApplied | True |
Aperture | 11.0 |
ApertureValue | 11.0 |
Artist | Oeyvind Andreassen |
BitsPerSample | 8 |
BlueHue | 0 |
BlueSaturation | 0 |
Brightness | +50 |
By-line | Oeyvind Andreassen |
CameraProfile | Adobe Standard |
CFAPattern | [Red,Green][Green,Blue] |
ChromaticAberrationB | 0 |
ChromaticAberrationR | 0 |
CircleOfConfusion | 0.020 mm |
Clarity | +40 |
ColorComponents | 1 |
ColorNoiseReduction | 25 |
ColorNoiseReductionDetail | 50 |
ColorTemperature | 5450 |
Contrast (2) | +25 |
Contrast | Normal |
ConvertToGrayscale | True |
Copyright | Oeyvind Andreassen |
CopyrightNotice | Oeyvind Andreassen |
CreateDate (1) | 2011:07:20 21:21:50.17+02:00 |
CreateDate | 2011:07:20 21:21:50 |
Creator | Oeyvind Andreassen |
CreatorTool | Adobe Photoshop Lightroom |
CropAngle | 2.01355 |
CropBottom | 1 |
CropConstrainToWarp | 0 |
CropHeight | 2707 |
CropLeft | 0.036225 |
CropRight | 0.963775 |
CropTop | 0 |
CropUnit | pixels |
CropWidth | 4075 |
CustomRendered | Normal |
DateTimeDigitized | 2011:07:20 21:21:50.17+02:00 |
DateTimeOriginal (1) | 2011:07:20 21:21:50.17+02:00 |
DateTimeOriginal | 2011:07:20 21:21:50 |
Defringe | 0 |
DigitalZoomRatio | 1 |
ExifImageHeight | 2707 |
ExifImageWidth | 4075 |
Exposure | -0.23 |
ExposureCompensation | -1 |
ExposureMode | Auto |
ExposureProgram | Aperture-priority AE |
ExposureTime | 1/15 |
FillLight | 0 |
Flash | No Flash |
FlashFired | False |
FlashFunction | False |
FlashMode | Unknown |
FlashRedEyeMode | False |
FlashReturn | No return detection |
FNumber | 11.0 |
FocalLength | 17.0 mm |
FocalLength35efl | 17.0 mm (35 mm equivalent: 25.0 mm) |
FocalLengthIn35mmFormat | 25 mm |
FOV | 71.5 deg |
GainControl | None |
GradientBasedCorrActive | true |
GradientBasedCorrAmount | 1.000000 |
GradientBasedCorrBrightness | 0.000000 |
GradientBasedCorrClarity | 0.000000 |
GradientBasedCorrContrast | 0.250000 |
GradientBasedCorrExposure | -0.610000 |
GradientBasedCorrHue | 230.000000 |
GradientBasedCorrMaskFullX | 0.479625 |
GradientBasedCorrMaskFullY | 0.018368 |
GradientBasedCorrMaskValue | 1.000000 |
GradientBasedCorrMaskWhat | Mask/Gradient |
GradientBasedCorrMaskZeroX | 0.469667 |
GradientBasedCorrMaskZeroY | 0.444810 |
GradientBasedCorrSaturation (1) | 0.625000 |
GradientBasedCorrSaturation | 0.000000 |
GradientBasedCorrSharpness | 0.000000 |
GradientBasedCorrWhat | Correction |
GrainAmount | 0 |
GrayMixerAqua | -18 |
GrayMixerBlue | +10 |
GrayMixerGreen | -27 |
GrayMixerMagenta | +4 |
GrayMixerOrange | -19 |
GrayMixerPurple | +16 |
GrayMixerRed | -10 |
GrayMixerYellow | -23 |
GreenHue | 0 |
GreenSaturation | 0 |
HasCrop | True |
HasSettings | True |
HighlightRecovery | 21 |
HyperfocalDistance | 1.29 m |
ImageHeight | 2707 |
ImageNumber | 15783 |
ImageSize | 4075x2707 |
ImageWidth | 4075 |
ISO | 200 |
Lens | 17.0-50.0 mm f/2.8 |
LensInfo | 17-50mm f/2.8 |
LensManualDistortionAmount | 0 |
LensModel | 17.0-50.0 mm f/2.8 |
LensProfileEnable | 0 |
LensProfileSetup | LensDefaults |
LightSource | Unknown |
LightValue | 9.8 |
LuminanceSmoothing | 0 |
Make | NIKON CORPORATION |
MaxApertureValue | 2.8 |
Megapixels | 11.0 |
MeteringMode | Spot |
Model | NIKON D300 |
ModifyDate (1) | 2011:08:27 22:21:04+02:00 |
ModifyDate | 2011:08:27 22:21:04 |
ParametricDarks | -9 |
ParametricHighlights | -47 |
ParametricHighlightSplit | 75 |
ParametricLights | +22 |
ParametricMidtoneSplit | 50 |
ParametricShadows | -60 |
ParametricShadowSplit | 25 |
PerspectiveHorizontal | 0 |
PerspectiveRotate | 0.0 |
PerspectiveScale | 100 |
PerspectiveVertical | 0 |
PostCropVignetteAmount | 0 |
ProcessVersion | 5.7 |
ProfileDescription | sRGB IEC61966-2.1 |
RedHue | 0 |
RedSaturation | 0 |
Rights | Oeyvind Andreassen |
Saturation | Normal |
ScaleFactor35efl | 1.5 |
SceneCaptureType | Standard |
SceneType | Directly photographed |
SensingMethod | One-chip color area |
SensitivityType | Unknown |
SerialNumber | 4010129 |
Shadows | 0 |
ShadowTint | 0 |
SharpenDetail | 54 |
SharpenEdgeMasking | 52 |
SharpenRadius | +0.6 |
Sharpness (2) | 79 |
Sharpness | Normal |
ShutterSpeed | 1/15 |
ShutterSpeedValue | 1/15 |
Software | Ver.1.10 |
SplitToningBalance | 0 |
SplitToningHighlightHue | 0 |
SplitToningHighlightSaturation | 0 |
SplitToningShadowHue | 0 |
SplitToningShadowSaturation | 0 |
SubjectDistanceRange | Unknown |
Tint | +5 |
ToneCurve | 0, 0, 32, 22, 64, 56, 128, 128, 192, 196, 255, 255 |
ToneCurveName | Medium Contrast |
Version | 6.2 |
VignetteAmount | 0 |
WhiteBalance (2) | As Shot |
WhiteBalance | Auto |