Felt | Verdi |
AlreadyApplied | True |
Aperture | 8.8 |
ApertureValue | 8.8 |
BitsPerSample | 8 |
BlueHue | 0 |
BlueSaturation | 0 |
Brightness | -9 |
CameraProfile | Embedded |
Caption-Abstract | OLYMPUS DIGITAL CAMERA |
ChromaticAberrationB | 0 |
ChromaticAberrationR | 0 |
Clarity | 0 |
ColorComponents | 3 |
ColorNoiseReduction | 0 |
Contrast (1) | +36 |
Contrast | Normal |
ConvertToGrayscale | False |
CreateDate | 2003:01:02 12:22:59 |
CreatorTool | Adobe Photoshop Lightroom 3.5 (Windows) |
CustomRendered | Normal |
DateCreated (1) | 2003:01:02 |
DateCreated | 2003:01:02 12:22:59 |
DateTimeOriginal | 2003:01:02 12:22:59 |
Defringe | 0 |
Description | OLYMPUS DIGITAL CAMERA |
DigitalZoomRatio | 1 |
Exposure | +0.87 |
ExposureCompensation | 0 |
ExposureMode | Auto |
ExposureProgram | Creative (Slow speed) |
ExposureTime | 1/60 |
FillLight | 9 |
Flash | Auto, Did not fire |
FNumber | 8.8 |
FocalLength | 5.8 mm |
FocalLength35efl | 5.8 mm |
GainControl | Low gain up |
GradientBasedCorrActive | true |
GradientBasedCorrAmount | 1.000000 |
GradientBasedCorrBrightness (1) | 0.219510 |
GradientBasedCorrBrightness | 0.024390 |
GradientBasedCorrClarity (1) | 1.000000 |
GradientBasedCorrClarity | 0.365850 |
GradientBasedCorrContrast (1) | 0.463410 |
GradientBasedCorrContrast | 0.560980 |
GradientBasedCorrExposure (1) | -0.268250 |
GradientBasedCorrExposure | 0.048750 |
GradientBasedCorrHue | 233.000000 |
GradientBasedCorrMaskFullX (1) | 0.370490 |
GradientBasedCorrMaskFullX | 0.679635 |
GradientBasedCorrMaskFullY (1) | 0.415082 |
GradientBasedCorrMaskFullY | 0.606109 |
GradientBasedCorrMaskValue | 1.000000 |
GradientBasedCorrMaskWhat | Mask/Gradient |
GradientBasedCorrMaskZeroX (1) | 0.365633 |
GradientBasedCorrMaskZeroX | 0.683197 |
GradientBasedCorrMaskZeroY (1) | 0.632122 |
GradientBasedCorrMaskZeroY | 0.467004 |
GradientBasedCorrSaturation (3) | 0.146340 |
GradientBasedCorrSaturation | 0.000000 |
GradientBasedCorrSharpness (1) | 0.195120 |
GradientBasedCorrSharpness | 0.000000 |
GradientBasedCorrWhat | Correction |
GrainAmount | 0 |
GreenHue | 0 |
GreenSaturation | 0 |
HasCrop | False |
HasSettings | True |
HighlightRecovery | 33 |
HueAdjustmentAqua | 0 |
HueAdjustmentBlue | 0 |
HueAdjustmentGreen | 0 |
HueAdjustmentMagenta | 0 |
HueAdjustmentOrange | 0 |
HueAdjustmentPurple | 0 |
HueAdjustmentRed | 0 |
HueAdjustmentYellow | 0 |
ImageDescription | OLYMPUS DIGITAL CAMERA |
ImageHeight | 1704 |
ImageSize | 2272x1704 |
ImageWidth | 2272 |
IncrementalTemperature | 0 |
IncrementalTint | 0 |
ISO | 64 |
LensManualDistortionAmount | 0 |
LensProfileEnable | 0 |
LensProfileSetup | LensDefaults |
LightSource | Unknown |
LightValue | 12.8 |
LuminanceAdjustmentAqua | 0 |
LuminanceAdjustmentBlue | 0 |
LuminanceAdjustmentGreen | 0 |
LuminanceAdjustmentMagenta | 0 |
LuminanceAdjustmentOrange | 0 |
LuminanceAdjustmentPurple | 0 |
LuminanceAdjustmentRed | 0 |
LuminanceAdjustmentYellow | 0 |
LuminanceSmoothing | 0 |
Make | OLYMPUS CORPORATION |
MaxApertureValue | 3.1 |
Megapixels | 3.9 |
MeteringMode | Multi-segment |
Model | u20D,S400D,u400D |
ModifyDate (1) | 2011:10:20 14:53:53+02:00 |
ModifyDate | 2011:10:20 14:53:53 |
ParametricDarks | 0 |
ParametricHighlights | 0 |
ParametricHighlightSplit | 75 |
ParametricLights | 0 |
ParametricMidtoneSplit | 50 |
ParametricShadows | 0 |
ParametricShadowSplit | 25 |
PerspectiveHorizontal | 0 |
PerspectiveRotate | 0.0 |
PerspectiveScale | 100 |
PerspectiveVertical | 0 |
PostCropVignetteAmount | 0 |
ProcessVersion | 5.7 |
ProfileDescription | sRGB IEC61966-2.1 |
RedHue | 0 |
RedSaturation | 0 |
Saturation (1) | 0 |
Saturation | Normal |
SaturationAdjustmentAqua | 0 |
SaturationAdjustmentBlue | 0 |
SaturationAdjustmentGreen | 0 |
SaturationAdjustmentMagenta | 0 |
SaturationAdjustmentOrange | 0 |
SaturationAdjustmentPurple | 0 |
SaturationAdjustmentRed | 0 |
SaturationAdjustmentYellow | 0 |
SceneCaptureType | Landscape |
Shadows | 20 |
ShadowTint | 0 |
SharpenDetail | 25 |
SharpenEdgeMasking | 0 |
SharpenRadius | +1.0 |
Sharpness (1) | 0 |
Sharpness | Normal |
ShutterSpeed | 1/60 |
ShutterSpeedValue | 1/60 |
Software | Adobe Photoshop Lightroom 3.5 (Windows) |
SplitToningBalance | 0 |
SplitToningHighlightHue | 0 |
SplitToningHighlightSaturation | 0 |
SplitToningShadowHue | 0 |
SplitToningShadowSaturation | 0 |
ToneCurve | 0, 0, 255, 255 |
ToneCurveName | Linear |
Version | 6.5 |
Vibrance | 0 |
VignetteAmount | 0 |
WhiteBalance (1) | As Shot |
WhiteBalance | Auto |