Felt | Verdi |
AlreadyApplied | True |
Aperture | 2.5 |
ApertureValue | 2.5 |
ApproximateFocusDistance | 0.5 |
BitsPerSample (1) | 8 8 8 |
BitsPerSample | 8 |
BlueHue | -33 |
BlueSaturation | 0 |
Brightness | -5 |
CameraProfile | Camera Standard |
CFAPattern | [Green,Blue][Red,Green] |
ChromaticAberrationB | 0 |
ChromaticAberrationR | 0 |
CircleOfConfusion | 0.020 mm |
Clarity | +51 |
ColorComponents | 3 |
ColorMode | RGB |
ColorNoiseReduction | 20 |
ColorNoiseReductionDetail | 50 |
ColorSpace | sRGB |
ColorTemperature | 12155 |
Contrast (1) | +20 |
Contrast | Normal |
ConvertToGrayscale | False |
CreateDate (1) | 2011:07:19 17:58:29.00+02:00 |
CreateDate | 2011:07:19 17:58:29 |
CreatorTool | Adobe Photoshop CS5 Windows |
CustomRendered | Normal |
DateCreated (1) | 2011:07:19 |
DateCreated | 2011:07:19 17:58:29+02:00 |
DateTimeOriginal | 2011:07:19 17:58:29 |
Defringe | 0 |
DigitalZoomRatio | 1 |
DOF | 0.009 m (0.496 - 0.505 m) |
ExifImageHeight | 4236 |
ExifImageWidth | 2914 |
Exposure | -0.86 |
ExposureCompensation | -2/3 |
ExposureMode | Manual |
ExposureProgram | Manual |
ExposureTime | 1/250 |
FillLight | 77 |
Flash | No Flash |
FNumber | 2.5 |
FocalLength | 50.0 mm |
FocalLength35efl | 50.0 mm (35 mm equivalent: 75.0 mm) |
FocalLengthIn35mmFormat | 75 mm |
Format | image/jpeg |
FOV | 27.0 deg |
GainControl | None |
GrainAmount | 0 |
GreenHue | 0 |
GreenSaturation | 0 |
HasCrop | False |
HasSettings | True |
HighlightRecovery | 33 |
HueAdjustmentAqua | -48 |
HueAdjustmentBlue | 0 |
HueAdjustmentGreen | +34 |
HueAdjustmentMagenta | +29 |
HueAdjustmentOrange | +36 |
HueAdjustmentPurple | 0 |
HueAdjustmentRed | +27 |
HueAdjustmentYellow | -46 |
HyperfocalDistance | 49.92 m |
ICCProfileName | sRGB IEC61966-2.1 |
ImageHeight (1) | 4000 |
ImageHeight | 4236 |
ImageNumber | 14921 |
ImageSize | 2914x4236 |
ImageWidth (1) | 2678 |
ImageWidth | 2914 |
ISO | 100 |
Lens | 50.0 mm f/1.8 |
LensID (1) | 118 |
LensID | AF Nikkor 50mm f/1.8D |
LensInfo | 50mm f/1.8 |
LensManualDistortionAmount | 0 |
LensModel | 50.0 mm f/1.8 |
LensProfileEnable | 0 |
LensProfileSetup | LensDefaults |
LightSource | Unknown |
LightValue | 10.6 |
LuminanceAdjustmentAqua | 0 |
LuminanceAdjustmentBlue | 0 |
LuminanceAdjustmentGreen | +72 |
LuminanceAdjustmentMagenta | 0 |
LuminanceAdjustmentOrange | +60 |
LuminanceAdjustmentPurple | 0 |
LuminanceAdjustmentRed | +12 |
LuminanceAdjustmentYellow | +62 |
LuminanceNoiseReductionContrast | 0 |
LuminanceNoiseReductionDetail | 50 |
LuminanceSmoothing | 20 |
Make | NIKON CORPORATION |
MaxApertureValue | 1.7 |
Megapixels | 12.3 |
MeteringMode | Multi-segment |
Model | NIKON D80 |
ModifyDate (1) | 2011:12:26 14:50:23+01:00 |
ModifyDate | 2011:12:26 14:50:23 |
Orientation | Horizontal (normal) |
ParametricDarks | 0 |
ParametricHighlights | -18 |
ParametricHighlightSplit | 75 |
ParametricLights | +55 |
ParametricMidtoneSplit | 50 |
ParametricShadows | -22 |
ParametricShadowSplit | 25 |
PerspectiveHorizontal | 0 |
PerspectiveRotate | 0.0 |
PerspectiveScale | 100 |
PerspectiveVertical | 0 |
PhotometricInterpretation | RGB |
PostCropVignetteAmount | -24 |
PostCropVignetteFeather | 50 |
PostCropVignetteMidpoint | 50 |
PostCropVignetteRoundness | 0 |
PostCropVignetteStyle | 3 |
ProcessVersion | 5.7 |
ProfileDescription | sRGB IEC61966-2.1 |
RedHue | -29 |
RedSaturation | +43 |
Saturation (1) | -62 |
Saturation | High |
SaturationAdjustmentAqua | -65 |
SaturationAdjustmentBlue | 0 |
SaturationAdjustmentGreen | -100 |
SaturationAdjustmentMagenta | 0 |
SaturationAdjustmentOrange | 0 |
SaturationAdjustmentPurple | +6 |
SaturationAdjustmentRed | +64 |
SaturationAdjustmentYellow | 0 |
ScaleFactor35efl | 1.5 |
SceneCaptureType | Standard |
SceneType | Directly photographed |
SensingMethod | One-chip color area |
SerialNumber | 4003284 |
Shadows | 64 |
ShadowTint | 0 |
SharpenDetail | 43 |
SharpenEdgeMasking | 0 |
SharpenRadius | +0.8 |
Sharpness (1) | 57 |
Sharpness | Hard |
ShutterSpeed | 1/250 |
ShutterSpeedValue | 1/250 |
Software | Adobe Photoshop CS5 Windows |
SplitToningBalance | 0 |
SplitToningHighlightHue | 0 |
SplitToningHighlightSaturation | 0 |
SplitToningShadowHue | 0 |
SplitToningShadowSaturation | 0 |
SubjectDistance | 0.5 m |
SubjectDistanceRange | Unknown |
Tint | -96 |
ToneCurve | 0, 0, 32, 16, 64, 50, 128, 128, 192, 202, 255, 255 |
ToneCurveName | Strong Contrast |
URL_List | |
Version | 6.4 |
Vibrance | -1 |
VignetteAmount | 0 |
WhiteBalance (1) | Custom |
WhiteBalance | Auto |