Felt | Verdi |
2011-03-31T21:05:40+02:00 File \\STASJONÆR-PC\Users\Public\Pictures\DSC_8319.jpg saved
AlreadyApplied | True |
Aperture | 7.1 |
ApertureValue | 7.1 |
BitsPerSample | 8 |
Blending Change
BlueHue | 0 |
BlueSaturation | 0 |
Brightness | +59 |
Brush Tool
CameraProfile | Camera D2X Mode 3 |
CFAPattern | [Red,Green][Green,Blue] |
ChromaticAberrationB | 0 |
ChromaticAberrationR | 0 |
CircleOfConfusion | 0.020 mm |
Clarity | 0 |
ColorComponents | 3 |
ColorMode | RGB |
ColorNoiseReduction | 25 |
ColorSpace | sRGB |
ColorTemperature | 3400 |
Contrast (2) | +33 |
Contrast | Normal |
ConvertToGrayscale | False |
Create Clipping Mask
CreateDate (1) | 2011:03:30 16:34:49.50+02:00 |
CreateDate | 2011:03:30 16:34:49 |
CreatorTool | Ver.1.01 |
CropAngle | 0 |
CropBottom | 0.959822 |
CropHeight | 4 |
CropLeft | 0.070163 |
CropRight | 0.902197 |
CropTop | 0.020277 |
CropUnit | Unknown (3) |
CropWidth | 3 |
Curves 1 Layer
CustomRendered | Normal |
DateTimeDigitized | 2011:03:30 16:34:49.50+02:00 |
DateTimeOriginal (1) | 2011:03:30 16:34:49.50+02:00 |
DateTimeOriginal | 2011:03:30 16:34:49 |
Defringe | 0 |
DigitalZoomRatio | 1 |
DOF | 0.11 m (0.95 - 1.06 m) |
Drag Layer
Duplicate Layer
Eraser
ExifImageHeight | 2676 |
ExifImageWidth | 3568 |
Exposure | +0.20 |
ExposureCompensation | 0 |
ExposureMode | Manual |
ExposureProgram | Manual |
ExposureTime | 1/250 |
Fill Opacity Change
FillLight | 0 |
Flash | On, Return detected |
FlashFired | True |
FlashFunction | False |
FlashMode | On |
FlashRedEyeMode | False |
FlashReturn | Return detected |
Flatten Image
FNumber | 7.1 |
FocalLength | 50.0 mm |
FocalLength35efl | 50.0 mm (35 mm equivalent: 75.0 mm) |
FocalLengthIn35mmFormat | 75 mm |
Format | image/jpeg |
FOV | 27.0 deg |
Free Transform
GainControl | None |
GrainAmount | 0 |
GreenHue | 0 |
GreenSaturation | 0 |
HasCrop | True |
HasSettings | True |
HighlightRecovery | 0 |
Hue/Saturation 1 Layer
HueAdjustmentAqua | 0 |
HueAdjustmentBlue | 0 |
HueAdjustmentGreen | 0 |
HueAdjustmentMagenta | 0 |
HueAdjustmentOrange | 0 |
HueAdjustmentPurple | 0 |
HueAdjustmentRed | 0 |
HueAdjustmentYellow | 0 |
HyperfocalDistance | 17.58 m |
ICCProfileName | sRGB IEC61966-2.1 |
ImageHeight | 2676 |
ImageNumber | 8432 |
ImageSize | 3568x2676 |
ImageWidth | 3568 |
Invert
ISO | 100 |
Lens | 50.0 mm f/1.8 |
LensID (1) | 118 |
LensID | AF Nikkor 50mm f/1.8D |
LensInfo | 50mm f/1.8 |
LightSource | Tungsten (Incandescent) |
LightValue | 13.6 |
LuminanceAdjustmentAqua | 0 |
LuminanceAdjustmentBlue | 0 |
LuminanceAdjustmentGreen | 0 |
LuminanceAdjustmentMagenta | 0 |
LuminanceAdjustmentOrange | 0 |
LuminanceAdjustmentPurple | 0 |
LuminanceAdjustmentRed | 0 |
LuminanceAdjustmentYellow | 0 |
LuminanceSmoothing | 0 |
Make | NIKON CORPORATION |
Master Opacity Change
MaxApertureValue | 1.7 |
Megapixels | 9.5 |
MeteringMode | Multi-segment |
Model | NIKON D300S |
Modify Curves Layer
Modify Hue/Saturation Layer
ModifyDate (1) | 2011:03:31 21:05:40+02:00 |
ModifyDate | 2011:03:31 21:05:40 |
Move
New Layer
Orientation | Horizontal (normal) |
ParametricDarks | 0 |
ParametricHighlights | 0 |
ParametricHighlightSplit | 75 |
ParametricLights | 0 |
ParametricMidtoneSplit | 50 |
ParametricShadows | 0 |
ParametricShadowSplit | 25 |
PostCropVignetteAmount | 0 |
ProcessVersion | 5.0 |
ProfileDescription | sRGB IEC61966-2.1 |
Rating | 0 |
RawFileName | DSC_8319.NEF |
RedHue | 0 |
RedSaturation | 0 |
Saturation (2) | 0 |
Saturation | Normal |
SaturationAdjustmentAqua | 0 |
SaturationAdjustmentBlue | 0 |
SaturationAdjustmentGreen | 0 |
SaturationAdjustmentMagenta | 0 |
SaturationAdjustmentOrange | 0 |
SaturationAdjustmentPurple | 0 |
SaturationAdjustmentRed | 0 |
SaturationAdjustmentYellow | 0 |
ScaleFactor35efl | 1.5 |
SceneCaptureType | Standard |
SceneType | Directly photographed |
SensingMethod | One-chip color area |
SerialNumber | 6035408 |
Shadows | 17 |
ShadowTint | 0 |
SharpenDetail | 25 |
SharpenEdgeMasking | 0 |
SharpenRadius | +1.0 |
Sharpness (2) | 25 |
Sharpness | Normal |
ShutterSpeed | 1/250 |
ShutterSpeedValue | 1/250 |
SidecarForExtension | NEF |
Software | Adobe Photoshop CS4 Windows |
SplitToningBalance | 0 |
SplitToningHighlightHue | 0 |
SplitToningHighlightSaturation | 0 |
SplitToningShadowHue | 0 |
SplitToningShadowSaturation | 0 |
Spot Healing Brush
SubjectDistance | 1 m |
SubjectDistanceRange | Unknown |
Tint | -10 |
ToneCurve | 0, 0, 32, 22, 64, 56, 128, 128, 192, 196, 255, 255 |
ToneCurveName | Medium Contrast |
Unsharp Mask
URL_List | |
Version | 5.7 |
Vibrance | +10 |
VignetteAmount | 0 |
WhiteBalance (2) | Custom |
WhiteBalance | Manual |