Felt | Verdi |
AlreadyApplied | True |
Aperture | 4.5 |
ApertureValue | 4.5 |
ApproximateFocusDistance | 3.49 |
Artist | Katherine Kelly Eriksen |
AutoLateralCA | 0 |
BitsPerSample | 8 |
Blacks2012 | 0 |
BlueHue | 0 |
BlueSaturation | 0 |
Brightness | +50 |
By-line | Katherine Kelly Eriksen |
CameraProfile | Embedded |
CircleOfConfusion | 0.019 mm |
Clarity | 0 |
Clarity2012 | +25 |
ColorComponents | 3 |
ColorNoiseReduction | 0 |
ColorTemperature | 4850 |
Contrast | +25 |
Contrast2012 | +15 |
ConvertToGrayscale | False |
Copyright | All rights reserved |
CopyrightNotice | All rights reserved |
CreateDate (1) | 2012:03:23 14:42:15.88 |
CreateDate | 2012:03:23 14:42:15 |
Creator | Katherine Kelly Eriksen |
CreatorTool | Adobe Photoshop Lightroom 4.0 (Windows) |
CropAngle | 0.73052 |
CropBottom | 1 |
CropConstrainToWarp | 0 |
CropHeight | 445 |
CropLeft | 0.013553 |
CropRight | 0.986447 |
CropTop | 0 |
CropUnit | pixels |
CropWidth | 667 |
CustomRendered | Normal |
DateCreated (1) | 2012:03:23 |
DateCreated | 2012:03:23 14:42:15.88 |
DateTimeOriginal | 2012:03:23 14:42:15 |
Defringe | 0 |
DOF | 2.21 m (2.70 - 4.92 m) |
Exposure | 0.00 |
Exposure2012 | +1.00 |
ExposureCompensation | 0 |
ExposureMode | Manual |
ExposureProgram | Manual |
ExposureTime | 1/100 |
FillLight | 0 |
Firmware | 1.1.0 |
Flash | Off, Did not fire |
FlashCompensation | 0 |
FNumber | 4.5 |
FocalLength | 32.0 mm |
FocalLength35efl | 32.0 mm (35 mm equivalent: 50.3 mm) |
Format | image/jpeg |
FOV | 39.4 deg |
GrainAmount | 0 |
GreenHue | 0 |
GreenSaturation | 0 |
HasCrop | True |
HasSettings | True |
HighlightRecovery | 0 |
Highlights2012 | -40 |
HueAdjustmentAqua | 0 |
HueAdjustmentBlue | 0 |
HueAdjustmentGreen | 0 |
HueAdjustmentMagenta | 0 |
HueAdjustmentOrange | 0 |
HueAdjustmentPurple | 0 |
HueAdjustmentRed | 0 |
HueAdjustmentYellow | 0 |
HyperfocalDistance | 11.91 m |
ImageHeight | 667 |
ImageNumber | 0 |
ImageSize | 445x667 |
ImageWidth | 445 |
ISO | 250 |
Lens | EF-S18-55mm f/3.5-5.6 IS |
LensID (1) | 48 |
LensID | Canon EF-S 18-55mm f/3.5-5.6 IS |
LensInfo | 18-55mm f/? |
LensManualDistortionAmount | 0 |
LensModel | EF-S18-55mm f/3.5-5.6 IS |
LensProfileEnable | 0 |
LensProfileSetup | LensDefaults |
LensSerialNumber | 0000ade26e |
LightValue | 9.7 |
LuminanceAdjustmentAqua | -77 |
LuminanceAdjustmentBlue | -100 |
LuminanceAdjustmentGreen | +38 |
LuminanceAdjustmentMagenta | 0 |
LuminanceAdjustmentOrange | +32 |
LuminanceAdjustmentPurple | -62 |
LuminanceAdjustmentRed | +89 |
LuminanceAdjustmentYellow | -17 |
LuminanceNoiseReductionContrast | 0 |
LuminanceNoiseReductionDetail | 50 |
LuminanceSmoothing | 25 |
Make | Canon |
MaxApertureValue | 4.4 |
Megapixels | 0.297 |
MeteringMode | Spot |
Model | Canon EOS 60D |
ModifyDate (1) | 2012:03:23 18:22:37+01:00 |
ModifyDate | 2012:03:23 18:22:37 |
ParametricDarks | +24 |
ParametricHighlights | -5 |
ParametricHighlightSplit | 75 |
ParametricLights | -4 |
ParametricMidtoneSplit | 50 |
ParametricShadows | +34 |
ParametricShadowSplit | 25 |
PerspectiveHorizontal | 0 |
PerspectiveRotate | 0.0 |
PerspectiveScale | 100 |
PerspectiveVertical | 0 |
PostCropVignetteAmount | 0 |
ProcessVersion | 6.7 |
ProfileDescription | sRGB IEC61966-2.1 |
RecommendedExposureIndex | 250 |
RedHue | 0 |
RedSaturation | 0 |
Rights | All rights reserved |
Saturation | -100 |
SaturationAdjustmentAqua | -100 |
SaturationAdjustmentBlue | -100 |
SaturationAdjustmentGreen | -100 |
SaturationAdjustmentMagenta | -100 |
SaturationAdjustmentOrange | -100 |
SaturationAdjustmentPurple | -100 |
SaturationAdjustmentRed | -100 |
SaturationAdjustmentYellow | -100 |
ScaleFactor35efl | 1.6 |
SceneCaptureType | Standard |
SensitivityType | Recommended Exposure Index |
SerialNumber | 1480918937 |
Shadows | 5 |
Shadows2012 | +30 |
ShadowTint | 0 |
SharpenDetail | 25 |
SharpenEdgeMasking | 0 |
SharpenRadius | +1.0 |
Sharpness | 30 |
ShutterSpeed | 1/100 |
ShutterSpeedValue | 1/100 |
Software | Adobe Photoshop Lightroom 4.0 (Windows) |
SplitToningBalance | -100 |
SplitToningHighlightHue | 40 |
SplitToningHighlightSaturation | 0 |
SplitToningShadowHue | 40 |
SplitToningShadowSaturation | 20 |
Tint | -5 |
ToneCurve | 0, 0, 255, 255 |
ToneCurveBlue | 0, 0, 255, 255 |
ToneCurveGreen | 0, 0, 255, 255 |
ToneCurveName | Linear |
ToneCurveName2012 | Linear |
ToneCurvePV2012 | 0, 0, 255, 255 |
ToneCurvePV2012Blue | 0, 0, 255, 255 |
ToneCurvePV2012Green | 0, 0, 255, 255 |
ToneCurvePV2012Red | 0, 0, 255, 255 |
ToneCurveRed | 0, 0, 255, 255 |
Version | 7.0 |
Vibrance | +100 |
VignetteAmount | -100 |
VignetteMidpoint | 43 |
WhiteBalance (1) | Custom |
WhiteBalance | Auto |
Whites2012 | 0 |