Felt | Verdi |
AlreadyApplied | True |
Aperture | 5.0 |
ApertureValue | 5.0 |
ApproximateFocusDistance | 4294967295 |
AutoLateralCA | 0 |
BitsPerSample | 8 |
BlackClip | 0.000000 |
Blacks2012 | +66 |
BlueHue | 0 |
BlueSaturation | 0 |
Brightness | 0 |
CameraProfile | Embedded |
Clarity | 0 |
Clarity2012 | +32 |
ColorComponents | 3 |
ColorNoiseReduction | 0 |
ColorSaturation | 46.0 |
ColorTemperature | 0.0 |
Contrast | 0 |
Contrast2012 | +39 |
ConvertToGrayscale | False |
Country | Norway |
Country-PrimaryLocationName | Norway |
CreateDate (1) | 2012:04:01 20:06:23.00 |
CreateDate | 2012:04:01 20:06:23 |
CreatorTool | Adobe Photoshop Lightroom 4.0 (Windows) |
CropAngle | -1.02944 |
CropBottom | 0.956485 |
CropConstrainToWarp | 0 |
CropHeight | 2675 |
CropLeft | 0.036165 |
CropRight | 0.986687 |
CropTop | 0.042586 |
CropUnit | pixels |
CropWidth | 4029 |
DateCreated (1) | 2012:04:01 |
DateCreated | 2012:04:01 20:06:23.00 |
DateTimeOriginal | 2012:04:01 20:06:23 |
Defringe | 0 |
Exposure | 0.00 |
Exposure2012 | -0.98 |
ExposureTime | 1/100 |
FillLight | 0 |
FNumber | 5.0 |
FocalLength | 10.0 mm |
FocalLength35efl | 10.0 mm |
Format | image/jpeg |
Gamma | 1.00 |
GPSLatitude (1) | 58 deg 6' 35.00" |
GPSLatitude | 58 deg 6' 35.00" N |
GPSLatitudeRef | North |
GPSLongitude (1) | 6 deg 33' 50.00" |
GPSLongitude | 6 deg 33' 50.00" E |
GPSLongitudeRef | East |
GPSPosition | 58 deg 6' 35.00" N, 6 deg 33' 50.00" E |
GPSVersionID | 2.2.0.0 |
GradientBasedCorrActive | true |
GradientBasedCorrAmount | 1.000000 |
GradientBasedCorrBrightness | 0.000000 |
GradientBasedCorrClarity2012 | 1.000000 |
GradientBasedCorrContrast2012 | 0.000000 |
GradientBasedCorrExposure2012 | 0.000000 |
GradientBasedCorrHighlights2012 | 0.000000 |
GradientBasedCorrHue | 0.000000 |
GradientBasedCorrLuminanceNoise | 0.000000 |
GradientBasedCorrMaskFullX | 0.992417 |
GradientBasedCorrMaskFullY | 0.498518 |
GradientBasedCorrMaskValue | 1.000000 |
GradientBasedCorrMaskWhat | Mask/Gradient |
GradientBasedCorrMaskZeroX | 1.029950 |
GradientBasedCorrMaskZeroY | 0.501535 |
GradientBasedCorrMoire | 0.000000 |
GradientBasedCorrSaturation | 0.000000 |
GradientBasedCorrShadows2012 | 0.000000 |
GradientBasedCorrSharpness | 0.000000 |
GradientBasedCorrTemperature | 0.000000 |
GradientBasedCorrTint | 0.000000 |
GradientBasedCorrWhat | Correction |
GrainAmount | 0 |
GreenHue | 0 |
GreenSaturation | 0 |
HasCrop | True |
HasSettings | True |
HighlightRecovery | 0 |
Highlights2012 | +88 |
HighlightsSmoothing | 0.0 |
HueAdjustmentAqua | 0 |
HueAdjustmentBlue | 0 |
HueAdjustmentGreen | 0 |
HueAdjustmentMagenta | 0 |
HueAdjustmentOrange | 0 |
HueAdjustmentPurple | 0 |
HueAdjustmentRed | 0 |
HueAdjustmentYellow | 0 |
ImageHeight | 2675 |
ImageNumber | 14387 |
ImageSize | 4029x2675 |
ImageWidth | 4029 |
IncrementalTemperature | +6 |
IncrementalTint | -10 |
ISO | 100 |
IsPano360 | No |
Keywords | Lista fyr strand sol sky grass stein |
Lens | 10.0-20.0 mm f/4.0-5.6 |
LensID | 249 |
LensInfo | 10-20mm f/4-5.6 |
LensManualDistortionAmount | 0 |
LensModel | 10.0-20.0 mm f/4.0-5.6 |
LensProfileChromaticAberrationScale | 100 |
LensProfileDistortionScale | 200 |
LensProfileEnable | 1 |
LensProfileFilename | NIKON D90 (Sigma DC 18-200mm f3.5-6.3).lcp |
LensProfileName | Adobe (Sigma DC 18-200mm f/3.5-6.3) |
LensProfileSetup | Custom |
LensProfileVignettingScale | 0 |
LightValue | 11.3 |
LuminanceAdjustmentAqua | 0 |
LuminanceAdjustmentBlue | 0 |
LuminanceAdjustmentGreen | 0 |
LuminanceAdjustmentMagenta | 0 |
LuminanceAdjustmentOrange | 0 |
LuminanceAdjustmentPurple | 0 |
LuminanceAdjustmentRed | 0 |
LuminanceAdjustmentYellow | 0 |
LuminanceNoiseReductionContrast | 0 |
LuminanceNoiseReductionDetail | 50 |
LuminanceSmoothing | 20 |
Luminosity | 0.0 |
Megapixels | 10.8 |
Method | Details Enhancer |
Microcontrast | 0.0 |
Microsmoothing | 2.0 |
Model | NIKON D90 |
ModifyDate (1) | 2012:04:03 00:51:57+02:00 |
ModifyDate | 2012:04:03 00:51:57 |
ParametricDarks | +26 |
ParametricHighlights | 0 |
ParametricHighlightSplit | 75 |
ParametricLights | +3 |
ParametricMidtoneSplit | 50 |
ParametricShadows | +35 |
ParametricShadowSplit | 25 |
PerspectiveHorizontal | 0 |
PerspectiveRotate | 0.0 |
PerspectiveScale | 100 |
PerspectiveVertical | 0 |
PostCropVignetteAmount | 0 |
ProcessVersion | 6.7 |
ProfileDescription | sRGB IEC61966-2.1 |
Province-State | Vest-Agder |
RedHue | 0 |
RedSaturation | 0 |
Saturation | +17 |
SaturationAdjustmentAqua | 0 |
SaturationAdjustmentBlue | 0 |
SaturationAdjustmentGreen | 0 |
SaturationAdjustmentMagenta | 0 |
SaturationAdjustmentOrange | 0 |
SaturationAdjustmentPurple | 0 |
SaturationAdjustmentRed | 0 |
SaturationAdjustmentYellow | 0 |
SaturationHighlights | 0.0 |
SaturationShadows | 0.0 |
SerialNumber | 6211002 |
Shadows | 0 |
Shadows2012 | +78 |
ShadowsClipping | 0.0 |
ShadowsSmoothing | 0.0 |
ShadowTint | 0 |
SharpenDetail | 25 |
SharpenEdgeMasking | 32 |
SharpenRadius | +1.0 |
Sharpness | 26 |
ShutterSpeed | 1/100 |
ShutterSpeedValue | 1/100 |
Smoothing | 0.0 |
SmoothingMode | Slider |
Software | Adobe Photoshop Lightroom 4.0 (Windows) |
SplitToningBalance | 0 |
SplitToningHighlightHue | 0 |
SplitToningHighlightSaturation | 0 |
SplitToningShadowHue | 0 |
SplitToningShadowSaturation | 0 |
State | Vest-Agder |
Strength | 70.0 |
Subject | Lista fyr strand sol sky grass stein |
ToneCurve | 0, 0, 255, 255 |
ToneCurveBlue | 0, 0, 255, 255 |
ToneCurveGreen | 0, 0, 255, 255 |
ToneCurveName | Linear |
ToneCurveName2012 | Linear |
ToneCurvePV2012 | 0, 0, 255, 255 |
ToneCurvePV2012Blue | 0, 0, 255, 255 |
ToneCurvePV2012Green | 0, 0, 255, 255 |
ToneCurvePV2012Red | 0, 0, 255, 255 |
ToneCurveRed | 0, 0, 255, 255 |
Version (1) | 4.1 |
Version | 7.0 |
Vibrance | +32 |
VignetteAmount | 0 |
WhiteBalance | Auto |
WhiteClip | 0.250000 |
Whites2012 | +44 |