Felt | Verdi |
AlreadyApplied | True |
Aperture | 8.0 |
ApertureValue | 8.0 |
ApproximateFocusDistance | 3.55 |
AutoLateralCA | 0 |
BitsPerSample | 8 |
Blacks2012 | 0 |
BlueHue | 0 |
BlueSaturation | 0 |
Brightness | +50 |
CameraProfile | Adobe Standard |
CFAPattern | [Green,Blue][Red,Green] |
CircleOfConfusion | 0.021 mm |
Clarity | 0 |
Clarity2012 | -24 |
ColorComponents | 3 |
ColorNoiseReduction | 25 |
ColorNoiseReductionDetail | 50 |
ColorTemperature | 20000 |
Contrast (1) | +25 |
Contrast | Normal |
Contrast2012 | -10 |
ConvertToGrayscale | False |
Country | Norway |
Country-PrimaryLocationName | Norway |
CreateDate (1) | 2012:04:01 20:40:43.00 |
CreateDate | 2012:04:01 20:40:43 |
CreatorTool | Adobe Photoshop Lightroom 4.0 (Windows) |
CropAngle | 0.372045 |
CropBottom | 0.789691 |
CropConstrainToWarp | 0 |
CropHeight | 2060 |
CropLeft | 0.134529 |
CropRight | 0.985492 |
CropTop | 0.05801 |
CropUnit | pixels |
CropWidth | 3662 |
CustomRendered | Normal |
DateCreated (1) | 2012:04:01 |
DateCreated | 2012:04:01 20:40:43.00 |
DateTimeOriginal | 2012:04:01 20:40:43 |
Defringe | 0 |
DigitalZoomRatio | 1 |
DOF | inf (0.61 m - inf) |
Exposure | 0.00 |
Exposure2012 | -0.85 |
ExposureCompensation | 0 |
ExposureMode | Auto |
ExposureProgram | Aperture-priority AE |
ExposureTime | 1.3 |
FillLight | 0 |
Flash | No Flash |
FNumber | 8.0 |
FocalLength | 11.0 mm |
FocalLength35efl | 11.0 mm (35 mm equivalent: 16.0 mm) |
FocalLengthIn35mmFormat | 16 mm |
Format | image/jpeg |
FOV | 96.7 deg |
GainControl | None |
GPSLatitude | |
GPSLatitudeRef | North |
GPSLongitude | |
GPSLongitudeRef | East |
GradientBasedCorrActive | true |
GradientBasedCorrAmount | 1.000000 |
GradientBasedCorrBrightness | 0.000000 |
GradientBasedCorrClarity2012 (1) | 0.082350 |
GradientBasedCorrClarity2012 (2) | 0.623530 |
GradientBasedCorrClarity2012 (4) | 1.000000 |
GradientBasedCorrClarity2012 | 0.717650 |
GradientBasedCorrContrast2012 (1) | 0.000000 |
GradientBasedCorrContrast2012 (2) | -1.000000 |
GradientBasedCorrContrast2012 | 0.458820 |
GradientBasedCorrExposure2012 (1) | 0.364750 |
GradientBasedCorrExposure2012 (2) | -1.000000 |
GradientBasedCorrExposure2012 (4) | 0.000000 |
GradientBasedCorrExposure2012 | -0.200000 |
GradientBasedCorrHighlights2012 (1) | 0.000000 |
GradientBasedCorrHighlights2012 (2) | 1.000000 |
GradientBasedCorrHighlights2012 | 0.647060 |
GradientBasedCorrHue | 0.000000 |
GradientBasedCorrLuminanceNoise (2) | -0.623530 |
GradientBasedCorrLuminanceNoise | 0.000000 |
GradientBasedCorrMaskFullX (1) | 1.025200 |
GradientBasedCorrMaskFullX (2) | 0.511431 |
GradientBasedCorrMaskFullX (3) | 0.608640 |
GradientBasedCorrMaskFullX (4) | 1.029190 |
GradientBasedCorrMaskFullX | 0.522331 |
GradientBasedCorrMaskFullY (1) | 0.465616 |
GradientBasedCorrMaskFullY (2) | 0.006570 |
GradientBasedCorrMaskFullY (3) | -0.002234 |
GradientBasedCorrMaskFullY (4) | 0.339775 |
GradientBasedCorrMaskFullY | 0.061054 |
GradientBasedCorrMaskValue | 1.000000 |
GradientBasedCorrMaskWhat | Mask/Gradient |
GradientBasedCorrMaskZeroX (1) | 1.049370 |
GradientBasedCorrMaskZeroX (2) | 0.513324 |
GradientBasedCorrMaskZeroX (3) | 0.920749 |
GradientBasedCorrMaskZeroX (4) | 1.076310 |
GradientBasedCorrMaskZeroX | 0.529908 |
GradientBasedCorrMaskZeroY (1) | 0.467139 |
GradientBasedCorrMaskZeroY (2) | 0.745054 |
GradientBasedCorrMaskZeroY (3) | 0.415240 |
GradientBasedCorrMaskZeroY (4) | 0.341189 |
GradientBasedCorrMaskZeroY | 0.628304 |
GradientBasedCorrMoire | 0.000000 |
GradientBasedCorrSaturation (3) | -0.670590 |
GradientBasedCorrSaturation (9) | -0.270590 |
GradientBasedCorrSaturation | 0.000000 |
GradientBasedCorrShadows2012 (2) | 1.000000 |
GradientBasedCorrShadows2012 | 0.000000 |
GradientBasedCorrSharpness (2) | -0.105880 |
GradientBasedCorrSharpness (4) | 0.000000 |
GradientBasedCorrSharpness | 0.129410 |
GradientBasedCorrTemperature (2) | -0.294120 |
GradientBasedCorrTemperature | 0.000000 |
GradientBasedCorrTint (2) | 0.200000 |
GradientBasedCorrTint | 0.000000 |
GradientBasedCorrWhat | Correction |
GrainAmount | 0 |
GreenHue | 0 |
GreenSaturation | 0 |
HasCrop | True |
HasSettings | True |
HighlightRecovery | 0 |
Highlights2012 | -71 |
HueAdjustmentAqua | 0 |
HueAdjustmentBlue | 0 |
HueAdjustmentGreen | 0 |
HueAdjustmentMagenta | 0 |
HueAdjustmentOrange | 0 |
HueAdjustmentPurple | 0 |
HueAdjustmentRed | 0 |
HueAdjustmentYellow | 0 |
HyperfocalDistance | 0.73 m |
ImageHeight | 2060 |
ImageNumber | 14501 |
ImageSize | 3662x2060 |
ImageWidth | 3662 |
ISO | 100 |
Keywords | Lista fyr strand sol sky grass stein |
Lens | 10.0-20.0 mm f/4.0-5.6 |
LensID (1) | 249 |
LensID | Sigma 10-20mm F4-5.6 EX DC HSM |
LensInfo | 10-20mm f/4-5.6 |
LensManualDistortionAmount | 0 |
LensModel | 10.0-20.0 mm f/4.0-5.6 |
LensProfileChromaticAberrationScale | 100 |
LensProfileDistortionScale | 100 |
LensProfileEnable | 1 |
LensProfileFilename | NIKON CORPORATION (Sigma_10-20mm_F4-5.6_EX_DC_HSM ) - RAW.lcp |
LensProfileName | Adobe (SIGMA 10-20mm F4-5.6 EX DC / HSM, NIKON CORPORATION) |
LensProfileSetup | LensDefaults |
LensProfileVignettingScale | 100 |
LightSource | Unknown |
LightValue | 5.6 |
LuminanceAdjustmentAqua | 0 |
LuminanceAdjustmentBlue | 0 |
LuminanceAdjustmentGreen | 0 |
LuminanceAdjustmentMagenta | 0 |
LuminanceAdjustmentOrange | 0 |
LuminanceAdjustmentPurple | 0 |
LuminanceAdjustmentRed | 0 |
LuminanceAdjustmentYellow | 0 |
LuminanceNoiseReductionContrast | 0 |
LuminanceNoiseReductionDetail | 50 |
LuminanceSmoothing | 49 |
Make | NIKON CORPORATION |
MaxApertureValue | 4.1 |
Megapixels | 7.5 |
MeteringMode | Multi-segment |
Model | NIKON D90 |
ModifyDate (1) | 2012:04:03 10:17:38+02:00 |
ModifyDate | 2012:04:03 10:17:38 |
ParametricDarks | -20 |
ParametricHighlights | -52 |
ParametricHighlightSplit | 75 |
ParametricLights | -18 |
ParametricMidtoneSplit | 50 |
ParametricShadows | +43 |
ParametricShadowSplit | 25 |
PerspectiveHorizontal | 0 |
PerspectiveRotate | 0.0 |
PerspectiveScale | 100 |
PerspectiveVertical | 0 |
PostCropVignetteAmount | 0 |
ProcessVersion | 6.7 |
ProfileDescription | sRGB IEC61966-2.1 |
Province-State | Vest-Agder |
RedHue | 0 |
RedSaturation | 0 |
Saturation (1) | +41 |
Saturation | Normal |
SaturationAdjustmentAqua | 0 |
SaturationAdjustmentBlue | 0 |
SaturationAdjustmentGreen | 0 |
SaturationAdjustmentMagenta | 0 |
SaturationAdjustmentOrange | 0 |
SaturationAdjustmentPurple | 0 |
SaturationAdjustmentRed | 0 |
SaturationAdjustmentYellow | 0 |
ScaleFactor35efl | 1.5 |
SceneCaptureType | Landscape |
SceneType | Directly photographed |
SensingMethod | One-chip color area |
SerialNumber | 6211002 |
Shadows | 5 |
Shadows2012 | -34 |
ShadowTint | 0 |
SharpenDetail | 23 |
SharpenEdgeMasking | 39 |
SharpenRadius | +1.0 |
Sharpness (1) | 55 |
Sharpness | Normal |
ShutterSpeed | 1.3 |
ShutterSpeedValue | 1.3 |
Software | Adobe Photoshop Lightroom 4.0 (Windows) |
SplitToningBalance | 0 |
SplitToningHighlightHue | 0 |
SplitToningHighlightSaturation | 0 |
SplitToningShadowHue | 0 |
SplitToningShadowSaturation | 0 |
State | Vest-Agder |
Subject | Lista fyr strand sol sky grass stein |
SubjectDistanceRange | Unknown |
Tint | +2 |
ToneCurve | 0, 0, 255, 255 |
ToneCurveBlue | 0, 0, 255, 255 |
ToneCurveGreen | 0, 0, 255, 255 |
ToneCurveName | Linear |
ToneCurveName2012 | Linear |
ToneCurvePV2012 | 0, 0, 255, 255 |
ToneCurvePV2012Blue | 0, 0, 255, 255 |
ToneCurvePV2012Green | 0, 0, 255, 255 |
ToneCurvePV2012Red | 0, 0, 255, 255 |
ToneCurveRed | 0, 0, 255, 255 |
UserComment | ListaFyr |
Version | 7.0 |
Vibrance | +20 |
VignetteAmount | 0 |
WhiteBalance (1) | Custom |
WhiteBalance | Auto |
Whites2012 | -95 |