Felt | Verdi |
AlreadyApplied | True |
Aperture | 8.0 |
ApertureValue | 8.0 |
Artist | Photographer:Tore Hobbelstad |
BitsPerSample | 8 |
BlueHue | 0 |
BlueSaturation | 0 |
Brightness | +50 |
By-line | Photographer:Tore Hobbelstad |
CameraProfile | Adobe Standard |
ChromaticAberrationB | 0 |
ChromaticAberrationR | 0 |
CircleOfConfusion | 0.031 mm |
Clarity | +45 |
ColorComponents | 3 |
ColorMode | RGB |
ColorNoiseReduction | 25 |
ColorSpace | Uncalibrated |
ColorTemperature | 4400 |
Contrast | +25 |
ConvertToGrayscale | False |
Copyright | Copyright: Tore Hobbelstad Tlf 911 32 701 |
CopyrightNotice | Copyright: Tore Hobbelstad Tlf 911 32 701 |
CreateDate (1) | 2012:04:05 11:21:21.82+02:00 |
CreateDate | 2012:04:05 11:21:21 |
Creator | Photographer:Tore Hobbelstad |
CustomRendered | Normal |
DateTimeDigitized | 2012:04:05 11:21:21.82+02:00 |
DateTimeOriginal (1) | 2012:04:05 11:21:21.82+02:00 |
DateTimeOriginal | 2012:04:05 11:21:21 |
Defringe | 0 |
ExifImageHeight | 1600 |
ExifImageWidth | 1425 |
Exposure | -0.95 |
ExposureCompensation | 0 |
ExposureMode | Auto |
ExposureProgram | Aperture-priority AE |
ExposureTime | 1/800 |
FillLight | 12 |
Firmware | 2.1.2 |
Flash | Off, Did not fire |
FlashCompensation | 0 |
FlashFired | False |
FlashFunction | False |
FlashMode | Off |
FlashRedEyeMode | False |
FlashReturn | No return detection |
FNumber | 8.0 |
FocalLength | 840.0 mm |
FocalLength35efl | 840.0 mm (35 mm equivalent: 819.8 mm) |
Format | image/jpeg |
FOV | 2.5 deg |
GreenHue | 0 |
GreenSaturation | 0 |
HasCrop | False |
HasSettings | True |
HighlightRecovery | 0 |
HueAdjustmentAqua | 0 |
HueAdjustmentBlue | 0 |
HueAdjustmentGreen | 0 |
HueAdjustmentMagenta | 0 |
HueAdjustmentOrange | 0 |
HueAdjustmentPurple | 0 |
HueAdjustmentRed | 0 |
HueAdjustmentYellow | 0 |
HyperfocalDistance | 2864.84 m |
ICCProfileName | Adobe RGB (1998) |
ImageHeight | 1600 |
ImageNumber | 0 |
ImageSize | 1425x1600 |
ImageWidth | 1425 |
ISO | 1250 |
Lens | EF600mm f/4L IS USM +1.4x |
LensInfo | 840mm f/? |
LightValue | 12.0 |
LuminanceAdjustmentAqua | 0 |
LuminanceAdjustmentBlue | 0 |
LuminanceAdjustmentGreen | 0 |
LuminanceAdjustmentMagenta | 0 |
LuminanceAdjustmentOrange | 0 |
LuminanceAdjustmentPurple | 0 |
LuminanceAdjustmentRed | 0 |
LuminanceAdjustmentYellow | 0 |
LuminanceSmoothing | 51 |
Make | Canon |
MaxApertureValue | 5.7 |
Megapixels | 2.3 |
MeteringMode | Multi-segment |
Model | Canon EOS 5D Mark II |
ModifyDate (1) | 2012:04:05 23:31:32+02:00 |
ModifyDate | 2012:04:05 23:31:32 |
Orientation | Horizontal (normal) |
OwnerName | Tore Hobbelstad |
ParametricDarks | 0 |
ParametricHighlights | 0 |
ParametricHighlightSplit | 75 |
ParametricLights | 0 |
ParametricMidtoneSplit | 50 |
ParametricShadows | 0 |
ParametricShadowSplit | 25 |
PostCropVignetteAmount | 0 |
ProfileDescription | Adobe RGB (1998) |
Rating | 0 |
RawFileName | IMG_0496.CR2 |
RedHue | 0 |
RedSaturation | 0 |
Rights | Copyright: Tore Hobbelstad Tlf 911 32 701 |
Saturation | 0 |
SaturationAdjustmentAqua | 0 |
SaturationAdjustmentBlue | 0 |
SaturationAdjustmentGreen | 0 |
SaturationAdjustmentMagenta | 0 |
SaturationAdjustmentOrange | 0 |
SaturationAdjustmentPurple | 0 |
SaturationAdjustmentRed | 0 |
SaturationAdjustmentYellow | 0 |
ScaleFactor35efl | 1.0 |
SceneCaptureType | Standard |
SerialNumber | 630326000 |
Shadows | 5 |
ShadowTint | 0 |
SharpenDetail | 25 |
SharpenEdgeMasking | 0 |
SharpenRadius | +1.0 |
Sharpness | 25 |
ShutterSpeed | 1/800 |
ShutterSpeedValue | 1/800 |
Software | Adobe Photoshop CS4 Windows |
SplitToningBalance | 0 |
SplitToningHighlightHue | 0 |
SplitToningHighlightSaturation | 0 |
SplitToningShadowHue | 0 |
SplitToningShadowSaturation | 0 |
Tint | -2 |
ToneCurve | 0, 0, 32, 22, 64, 56, 128, 128, 192, 196, 255, 255 |
ToneCurveName | Medium Contrast |
URL_List | |
Version | 5.4 |
Vibrance | 0 |
VignetteAmount | 0 |
WhiteBalance (2) | As Shot |
WhiteBalance | Auto |