Felt | Verdi |
AlreadyApplied | True |
Aperture | 22.0 |
ApertureValue | 22.0 |
ApproximateFocusDistance | 3.39 |
Artist | John Einar Sandvand |
AutoLateralCA | 0 |
BitsPerSample | 8 |
BlackClip | 0.010000 |
Blacks2012 | 0 |
BlueHue | 0 |
BlueSaturation | 0 |
Brightness | 0 |
By-line | John Einar Sandvand |
CameraProfile | Embedded |
Clarity | 0 |
Clarity2012 | -2 |
ColorComponents | 3 |
ColorNoiseReduction | 0 |
ColorSaturation | 50.0 |
ColorTemperature | 0.0 |
Contrast | 0 |
Contrast2012 | +15 |
ConvertToGrayscale | False |
CopyrightFlag | True |
CreateDate (1) | 2012:04:12 19:16:46.91+02:00 |
CreateDate | 2012:04:12 19:16:46 |
Creator | John Einar Sandvand |
CreatorAddress | Parallellen 6A |
CreatorCity | Ås |
CreatorCountry | Norway |
CreatorPostalCode | 1430 |
CreatorTool | Adobe Photoshop Lightroom 4.0 (Windows) |
CreatorWorkEmail | john.einar@sandvand.net |
CreatorWorkTelephone | +47-99158839 |
CreatorWorkURL | http://www.betatales.com |
Credit | Photo: John Einar Sandvand |
CropAngle | 0 |
CropBottom | 0.997812 |
CropConstrainToWarp | 0 |
CropHeight | 3603 |
CropLeft | 0.005865 |
CropRight | 0.97523 |
CropTop | 0.028447 |
CropUnit | pixels |
CropWidth | 5382 |
DateCreated (1) | 2012:04:12 |
DateCreated | 2012:04:12 19:16:46.91+02:00 |
DateTimeOriginal | 2012:04:12 19:16:46 |
Defringe | 0 |
Exposure | 0.00 |
Exposure2012 | -0.24 |
ExposureTime | 1/10 |
FillLight | 0 |
Firmware | 2.1.1 |
FlashCompensation | 0 |
FNumber | 22.0 |
FocalLength | 24.0 mm |
FocalLength35efl | 24.0 mm |
Format | image/jpeg |
Gamma | 1.00 |
GradientBasedCorrActive | true |
GradientBasedCorrAmount | 1.000000 |
GradientBasedCorrBrightness | 0.000000 |
GradientBasedCorrClarity2012 | 0.000000 |
GradientBasedCorrContrast2012 | 0.000000 |
GradientBasedCorrExposure2012 (1) | -0.082250 |
GradientBasedCorrExposure2012 | -0.317750 |
GradientBasedCorrHighlights2012 | 0.000000 |
GradientBasedCorrHue | 0.000000 |
GradientBasedCorrLuminanceNoise | 0.000000 |
GradientBasedCorrMaskFullX (1) | 0.459278 |
GradientBasedCorrMaskFullX | 0.433693 |
GradientBasedCorrMaskFullY (1) | 0.030568 |
GradientBasedCorrMaskFullY | 1.006300 |
GradientBasedCorrMaskValue | 1.000000 |
GradientBasedCorrMaskWhat | Mask/Gradient |
GradientBasedCorrMaskZeroX (1) | 0.455014 |
GradientBasedCorrMaskZeroX | 0.433693 |
GradientBasedCorrMaskZeroY (1) | 0.509948 |
GradientBasedCorrMaskZeroY | 0.639337 |
GradientBasedCorrMoire | 0.000000 |
GradientBasedCorrSaturation | 0.000000 |
GradientBasedCorrShadows2012 | 0.000000 |
GradientBasedCorrSharpness | 0.000000 |
GradientBasedCorrTemperature | 0.000000 |
GradientBasedCorrTint | 0.000000 |
GradientBasedCorrWhat | Correction |
GrainAmount | 0 |
GreenHue | 0 |
GreenSaturation | 0 |
HasCrop | True |
HasSettings | True |
HighlightRecovery | 0 |
Highlights2012 | 0 |
HighlightsSmoothing | 0.0 |
HueAdjustmentAqua | 0 |
HueAdjustmentBlue | 0 |
HueAdjustmentGreen | 0 |
HueAdjustmentMagenta | 0 |
HueAdjustmentOrange | 0 |
HueAdjustmentPurple | 0 |
HueAdjustmentRed | 0 |
HueAdjustmentYellow | 0 |
ImageHeight | 3603 |
ImageNumber | 0 |
ImageSize | 5382x3603 |
ImageWidth | 5382 |
IncrementalTemperature | 0 |
IncrementalTint | 0 |
ISO | 100 |
IsPano360 | No |
Lens | EF24-105mm f/4L IS USM |
LensID | 237 |
LensInfo | 24-105mm f/? |
LensManualDistortionAmount | 0 |
LensModel | EF24-105mm f/4L IS USM |
LensProfileEnable | 0 |
LensProfileSetup | LensDefaults |
LightValue | 12.2 |
LuminanceAdjustmentAqua | 0 |
LuminanceAdjustmentBlue | 0 |
LuminanceAdjustmentGreen | 0 |
LuminanceAdjustmentMagenta | 0 |
LuminanceAdjustmentOrange | 0 |
LuminanceAdjustmentPurple | 0 |
LuminanceAdjustmentRed | 0 |
LuminanceAdjustmentYellow | 0 |
LuminanceNoiseReductionContrast | 0 |
LuminanceNoiseReductionDetail | 50 |
LuminanceSmoothing | 50 |
Luminosity | 6.0 |
Marked | True |
Megapixels | 19.4 |
Method | Details Enhancer |
Microcontrast | 6.0 |
Microsmoothing | 3.0 |
Model | Canon EOS 5D Mark II |
ModifyDate (1) | 2012:04:12 23:07:49+02:00 |
ModifyDate | 2012:04:12 23:07:49 |
ParametricDarks | 0 |
ParametricHighlights | 0 |
ParametricHighlightSplit | 75 |
ParametricLights | 0 |
ParametricMidtoneSplit | 50 |
ParametricShadows | 0 |
ParametricShadowSplit | 25 |
PerspectiveHorizontal | 0 |
PerspectiveRotate | 0.0 |
PerspectiveScale | 100 |
PerspectiveVertical | 0 |
PostCropVignetteAmount | -32 |
PostCropVignetteFeather | 50 |
PostCropVignetteHighlightContrast | 0 |
PostCropVignetteMidpoint | 50 |
PostCropVignetteRoundness | 0 |
PostCropVignetteStyle | 1 |
ProcessVersion | 6.7 |
ProfileDescription | sRGB IEC61966-2.1 |
RedHue | 0 |
RedSaturation | 0 |
Saturation | 0 |
SaturationAdjustmentAqua | 0 |
SaturationAdjustmentBlue | 0 |
SaturationAdjustmentGreen | 0 |
SaturationAdjustmentMagenta | 0 |
SaturationAdjustmentOrange | 0 |
SaturationAdjustmentPurple | 0 |
SaturationAdjustmentRed | 0 |
SaturationAdjustmentYellow | 0 |
SaturationHighlights | 0.0 |
SaturationShadows | 0.0 |
SerialNumber | 3331601075 |
Shadows | 0 |
Shadows2012 | 0 |
ShadowsClipping | 0.0 |
ShadowsSmoothing | 0.0 |
ShadowTint | 0 |
SharpenDetail | 25 |
SharpenEdgeMasking | 0 |
SharpenRadius | +1.0 |
Sharpness | 101 |
ShutterSpeed | 1/10 |
ShutterSpeedValue | 1/10 |
Smoothing | Medium |
SmoothingMode | Light |
Software | Adobe Photoshop Lightroom 4.0 (Windows) |
SplitToningBalance | 0 |
SplitToningHighlightHue | 0 |
SplitToningHighlightSaturation | 0 |
SplitToningShadowHue | 0 |
SplitToningShadowSaturation | 0 |
Strength | 100.0 |
ToneCurve | 0, 0, 255, 255 |
ToneCurveBlue | 0, 0, 255, 255 |
ToneCurveGreen | 0, 0, 255, 255 |
ToneCurveName | Linear |
ToneCurveName2012 | Linear |
ToneCurvePV2012 | 0, 0, 255, 255 |
ToneCurvePV2012Blue | 0, 0, 255, 255 |
ToneCurvePV2012Green | 0, 0, 255, 255 |
ToneCurvePV2012Red | 0, 0, 255, 255 |
ToneCurveRed | 0, 0, 255, 255 |
Version (1) | 4.1 |
Version | 7.0 |
Vibrance | +12 |
VignetteAmount | 0 |
WhiteBalance | Custom |
WhiteClip | 0.500000 |
Whites2012 | 0 |