Felt | Verdi |
AlreadyApplied | True |
Aperture | 10.0 |
ApertureValue | 10.0 |
ApproximateFocusDistance | 2.51 |
BitsPerSample | 8 |
BlueHue | 0 |
BlueSaturation | 0 |
Brightness | +55 |
CameraProfile | Camera Standard |
CFAPattern | [Red,Green][Green,Blue] |
ChromaticAberrationB | 0 |
ChromaticAberrationR | 0 |
CircleOfConfusion | 0.020 mm |
Clarity | +76 |
ColorComponents | 3 |
ColorNoiseReduction | 25 |
ColorNoiseReductionDetail | 50 |
ColorTemperature | 6766 |
Contrast (1) | +31 |
Contrast | Normal |
ConvertToGrayscale | False |
CreateDate (1) | 2012:04:14 15:23:54.39 |
CreateDate | 2012:04:14 15:23:54 |
CreatorTool | Adobe Photoshop Lightroom 3.5 (Windows) |
CropAngle | 0 |
CropBottom | 1 |
CropConstrainToWarp | 0 |
CropHeight | 2166 |
CropLeft | 0.211878 |
CropRight | 0.922953 |
CropTop | 0.033816 |
CropUnit | pixels |
CropWidth | 2400 |
CustomRendered | Normal |
DateCreated (1) | 2012:04:14 |
DateCreated | 2012:04:14 15:23:54.39 |
DateTimeOriginal | 2012:04:14 15:23:54 |
Defringe | 0 |
DigitalZoomRatio | 1 |
DOF | 2.46 m (1.78 - 4.24 m) |
Exposure | -1.36 |
ExposureCompensation | 0 |
ExposureMode | Auto |
ExposureProgram | Aperture-priority AE |
ExposureTime | 1/50 |
FillLight | 29 |
Flash | No Flash |
FNumber | 10.0 |
FocalLength | 35.0 mm |
FocalLength35efl | 35.0 mm (35 mm equivalent: 52.0 mm) |
FocalLengthIn35mmFormat | 52 mm |
FOV | 38.2 deg |
GainControl | None |
GrainAmount | 0 |
GreenHue | 0 |
GreenSaturation | 0 |
HasCrop | True |
HasSettings | True |
HighlightRecovery | 53 |
HueAdjustmentAqua | 0 |
HueAdjustmentBlue | 0 |
HueAdjustmentGreen | 0 |
HueAdjustmentMagenta | 0 |
HueAdjustmentOrange | 0 |
HueAdjustmentPurple | 0 |
HueAdjustmentRed | 0 |
HueAdjustmentYellow | 0 |
HyperfocalDistance | 6.06 m |
ImageHeight | 2166 |
ImageNumber | 10205 |
ImageSize | 2400x2166 |
ImageWidth | 2400 |
ISO | 200 |
Lens | 35.0 mm f/1.8 |
LensID (1) | 159 |
LensID | AF-S DX Nikkor 35mm f/1.8G |
LensInfo | 35mm f/1.8 |
LensManualDistortionAmount | 0 |
LensModel | 35.0 mm f/1.8 |
LensProfileEnable | 0 |
LensProfileSetup | LensDefaults |
LightSource | Unknown |
LightValue | 11.3 |
LuminanceAdjustmentAqua | 0 |
LuminanceAdjustmentBlue | 0 |
LuminanceAdjustmentGreen | 0 |
LuminanceAdjustmentMagenta | 0 |
LuminanceAdjustmentOrange | 0 |
LuminanceAdjustmentPurple | 0 |
LuminanceAdjustmentRed | 0 |
LuminanceAdjustmentYellow | 0 |
LuminanceSmoothing | 0 |
Make | NIKON CORPORATION |
MaxApertureValue | 1.7 |
Megapixels | 5.2 |
MeteringMode | Multi-segment |
Model | NIKON D300 |
ModifyDate (1) | 2012:04:18 23:49:35+02:00 |
ModifyDate | 2012:04:18 23:49:35 |
ParametricDarks | +29 |
ParametricHighlights | 0 |
ParametricHighlightSplit | 75 |
ParametricLights | +10 |
ParametricMidtoneSplit | 50 |
ParametricShadows | -11 |
ParametricShadowSplit | 25 |
PerspectiveHorizontal | 0 |
PerspectiveRotate | 0.0 |
PerspectiveScale | 100 |
PerspectiveVertical | 0 |
PostCropVignetteAmount | 0 |
ProcessVersion | 5.7 |
ProfileDescription | sRGB IEC61966-2.1 |
RedHue | 0 |
RedSaturation | 0 |
Saturation (1) | +1 |
Saturation | Normal |
SaturationAdjustmentAqua | 0 |
SaturationAdjustmentBlue | 0 |
SaturationAdjustmentGreen | 0 |
SaturationAdjustmentMagenta | 0 |
SaturationAdjustmentOrange | 0 |
SaturationAdjustmentPurple | 0 |
SaturationAdjustmentRed | 0 |
SaturationAdjustmentYellow | 0 |
ScaleFactor35efl | 1.5 |
SceneCaptureType | Standard |
SceneType | Directly photographed |
SensingMethod | One-chip color area |
SerialNumber | 4157934 |
Shadows | 27 |
ShadowTint | 0 |
SharpenDetail | 25 |
SharpenEdgeMasking | 0 |
SharpenRadius | +1.0 |
Sharpness (1) | 25 |
Sharpness | Normal |
ShutterSpeed | 1/50 |
ShutterSpeedValue | 1/50 |
Software | Adobe Photoshop Lightroom 3.5 (Windows) |
SplitToningBalance | 0 |
SplitToningHighlightHue | 0 |
SplitToningHighlightSaturation | 0 |
SplitToningShadowHue | 0 |
SplitToningShadowSaturation | 0 |
SubjectDistance | 2.51 m |
SubjectDistanceRange | Unknown |
Tint | -4 |
ToneCurve | 0, 0, 32, 22, 64, 56, 128, 128, 192, 196, 255, 255 |
ToneCurveName | Medium Contrast |
Version | 6.5 |
Vibrance | +4 |
VignetteAmount | 0 |
WhiteBalance (1) | Custom |
WhiteBalance | Auto |