Felt | Verdi |
AlreadyApplied | True |
Aperture | 5.6 |
ApertureValue | 5.6 |
ApproximateFocusDistance | 6.64 |
Artist | Jan Erik Hjelseth |
AutoLateralCA | 0 |
BitsPerSample | 8 |
Blacks2012 | 0 |
BlueHue | 0 |
BlueSaturation | 0 |
Brightness | +105 |
By-line | Jan Erik Hjelseth |
CameraProfile | Adobe Standard |
CircleOfConfusion | 0.019 mm |
Clarity | +100 |
Clarity2012 | 0 |
ColorComponents | 3 |
ColorNoiseReduction | 25 |
ColorNoiseReductionDetail | 50 |
ColorTemperature | 5333 |
Contrast | +10 |
Contrast2012 | 0 |
ConvertToGrayscale | True |
Copyright | Jan Erik Hjelseth |
CopyrightFlag | True |
CopyrightNotice | Jan Erik Hjelseth |
CreateDate (1) | 2012:01:10 14:15:23.62 |
CreateDate | 2012:01:10 14:15:23 |
Creator | Jan Erik Hjelseth |
CreatorAddress | Nedre Kipperberget 2 |
CreatorCity | Langevåg |
CreatorCountry | Norway |
CreatorPostalCode | 6030 |
CreatorTool | Adobe Photoshop Lightroom 4.0 (Windows) |
CreatorWorkEmail | wildfirehv@googlemail.com |
CreatorWorkTelephone | +4746945003 |
CropAngle | 0 |
CropBottom | 0.829588 |
CropConstrainToWarp | 0 |
CropHeight | 2622 |
CropLeft | 0.004994 |
CropRight | 0.832709 |
CropTop | 0.001873 |
CropUnit | pixels |
CropWidth | 3933 |
CustomRendered | Normal |
DateCreated (1) | 2012:01:10 |
DateCreated | 2012:01:10 14:15:23.62 |
DateTimeOriginal | 2012:01:10 14:15:23 |
Defringe | 0 |
DOF | 0.92 m (6.21 - 7.13 m) |
Exposure | 0.00 |
Exposure2012 | 0.00 |
ExposureCompensation | 0 |
ExposureMode | Auto |
ExposureProgram | Aperture-priority AE |
ExposureTime | 1/20 |
FillLight | 0 |
Firmware | 1.0.9 |
Flash | Off, Did not fire |
FlashCompensation | 0 |
FNumber | 5.6 |
FocalLength | 100.0 mm |
FocalLength35efl | 100.0 mm (35 mm equivalent: 158.8 mm) |
Format | image/jpeg |
FOV | 12.9 deg |
GrainAmount | 0 |
GrayMixerAqua | +83 |
GrayMixerBlue | +46 |
GrayMixerGreen | +37 |
GrayMixerMagenta | +63 |
GrayMixerOrange | 0 |
GrayMixerPurple | 0 |
GrayMixerRed | +17 |
GrayMixerYellow | +54 |
GreenHue | 0 |
GreenSaturation | 0 |
HasCrop | True |
HasSettings | True |
HighlightRecovery | 69 |
Highlights2012 | 0 |
HyperfocalDistance | 94.37 m |
ImageHeight | 2622 |
ImageNumber | 0 |
ImageSize | 3933x2622 |
ImageWidth | 3933 |
ISO | 100 |
Lens | EF100-400mm f/4.5-5.6L IS USM |
LensID (1) | 183 |
LensID | Canon EF 100-400mm f/4.5-5.6L IS USM |
LensInfo | 100-400mm f/? |
LensManualDistortionAmount | 0 |
LensModel | EF100-400mm f/4.5-5.6L IS USM |
LensProfileEnable | 0 |
LensProfileSetup | LensDefaults |
LightValue | 9.3 |
LuminanceNoiseReductionContrast | 0 |
LuminanceNoiseReductionDetail | 50 |
LuminanceSmoothing | 100 |
Make | Canon |
Marked | True |
MaxApertureValue | 4.6 |
Megapixels | 10.3 |
MeteringMode | Multi-segment |
Model | Canon EOS 500D |
ModifyDate (1) | 2012:05:01 15:44:57+02:00 |
ModifyDate | 2012:05:01 15:44:57 |
ParametricDarks | -9 |
ParametricHighlights | +30 |
ParametricHighlightSplit | 75 |
ParametricLights | -15 |
ParametricMidtoneSplit | 39 |
ParametricShadows | +26 |
ParametricShadowSplit | 10 |
PerspectiveHorizontal | 0 |
PerspectiveRotate | 0.0 |
PerspectiveScale | 100 |
PerspectiveVertical | 0 |
PostCropVignetteAmount | 0 |
ProcessVersion | 5.7 |
ProfileDescription | ProPhoto RGB |
RedHue | 0 |
RedSaturation | 0 |
Rights | Jan Erik Hjelseth |
ScaleFactor35efl | 1.6 |
SceneCaptureType | Standard |
SerialNumber | 430171358 |
Shadows | 40 |
Shadows2012 | 0 |
ShadowTint | 0 |
SharpenDetail | 25 |
SharpenEdgeMasking | 0 |
SharpenRadius | +1.0 |
Sharpness | 100 |
ShutterSpeed | 1/20 |
ShutterSpeedValue | 1/20 |
Software | Adobe Photoshop Lightroom 4.0 (Windows) |
SplitToningBalance | +85 |
SplitToningHighlightHue | 0 |
SplitToningHighlightSaturation | 0 |
SplitToningShadowHue | 234 |
SplitToningShadowSaturation | 73 |
SubjectDistance | 6.64 m |
Tint | -109 |
ToneCurve | 0, 0, 32, 22, 64, 56, 128, 128, 192, 196, 255, 255 |
ToneCurveBlue | 0, 0, 255, 255 |
ToneCurveGreen | 0, 0, 255, 255 |
ToneCurveName | Medium Contrast |
ToneCurveName2012 | Linear |
ToneCurvePV2012 | 0, 0, 255, 255 |
ToneCurvePV2012Blue | 0, 0, 255, 255 |
ToneCurvePV2012Green | 0, 0, 255, 255 |
ToneCurvePV2012Red | 0, 0, 255, 255 |
ToneCurveRed | 0, 0, 255, 255 |
UsageTerms | Contact for licence |
Version | 7.0 |
VignetteAmount | -100 |
VignetteMidpoint | 0 |
WhiteBalance (1) | Custom |
WhiteBalance | Auto |
Whites2012 | 0 |