Felt | Verdi |
AlreadyApplied | True |
Aperture | 4.5 |
ApertureValue | 4.5 |
ApproximateFocusDistance | 0.67 |
BitsPerSample | 8 |
BlueHue | 0 |
BlueSaturation | 0 |
Brightness | +50 |
CameraProfile | Adobe Standard |
CFAPattern | [Green,Blue][Red,Green] |
ChromaticAberrationB | 0 |
ChromaticAberrationR | 0 |
CircleOfConfusion | 0.020 mm |
Clarity | +43 |
ColorComponents | 3 |
ColorMode | RGB |
ColorNoiseReduction | 25 |
ColorNoiseReductionDetail | 50 |
ColorSpace | sRGB |
ColorTemperature | 5850 |
Contrast (1) | +87 |
Contrast | Normal |
ConvertToGrayscale | True |
CreateDate (1) | 2011:05:10 19:55:31.00+02:00 |
CreateDate | 2011:05:10 19:55:31 |
CreatorTool | Adobe Photoshop CS5 Windows |
CustomRendered | Normal |
DateCreated (1) | 2011:05:10 |
DateCreated | 2011:05:10 19:55:31Z |
DateTimeDigitized | 2011:05:10 19:55:31.00+1:00 |
DateTimeOriginal (1) | 2011:05:10 19:55:31.00+1:00 |
DateTimeOriginal | 2011:05:10 19:55:31 |
Defringe | 0 |
DigitalZoomRatio | 1 |
DOF | 0.04 m (0.65 - 0.69 m) |
ExifImageHeight (1) | 2848 |
ExifImageHeight | 797 |
ExifImageWidth (1) | 4288 |
ExifImageWidth | 1200 |
Exposure | 0.00 |
ExposureCompensation | 0 |
ExposureMode | Auto |
ExposureProgram | Aperture-priority AE |
ExposureTime | 1/60 |
FillLight | 0 |
Flash | No Flash |
FlashFired | False |
FlashFunction | False |
FlashMode | Unknown |
FlashRedEyeMode | False |
FlashReturn | No return detection |
FNumber | 4.5 |
FocalLength | 42.0 mm |
FocalLength35efl | 42.0 mm (35 mm equivalent: 63.0 mm) |
FocalLengthIn35mmFormat (1) | 63 |
FocalLengthIn35mmFormat | 63 mm |
Format | image/jpeg |
FOV | 31.9 deg |
GainControl | Low gain up |
GrainAmount | 0 |
GrayMixerAqua | +43 |
GrayMixerBlue | +11 |
GrayMixerGreen | +24 |
GrayMixerMagenta | -28 |
GrayMixerOrange | +59 |
GrayMixerPurple | +43 |
GrayMixerRed | +38 |
GrayMixerYellow | +7 |
GreenHue | 0 |
GreenSaturation | 0 |
HasCrop | False |
HasSettings | True |
HighlightRecovery | 98 |
HyperfocalDistance | 19.57 m |
ICCProfileName | sRGB IEC61966-2.1 |
ImageHeight | 797 |
ImageNumber | 7692 |
ImageSize | 1200x797 |
ImageWidth | 1200 |
ISO | 500 |
Lens | 18.0-200.0 mm f/3.5-5.6 |
LensID (1) | 139 |
LensID | AF-S DX VR Zoom-Nikkor 18-200mm f/3.5-5.6G IF-ED [II] or AF-S DX VR Zoom-Nikkor 18-200mm f/3.5-5.6G IF-ED |
LensInfo | 18-200mm f/3.5-5.6 |
LensManualDistortionAmount | 0 |
LensProfileEnable | 0 |
LensProfileSetup | LensDefaults |
LightSource | Unknown |
LightValue | 7.9 |
LuminanceSmoothing | 0 |
Make | NIKON CORPORATION |
MaxApertureValue | 4.4 |
Megapixels | 0.956 |
MeteringMode | Multi-segment |
Model | NIKON D90 |
ModifyDate (1) | 2011:09:23 18:50:33+02:00 |
ModifyDate | 2012:04:08 18:35:30 |
Orientation | Horizontal (normal) |
ParametricDarks | 0 |
ParametricHighlights | 0 |
ParametricHighlightSplit | 75 |
ParametricLights | 0 |
ParametricMidtoneSplit | 50 |
ParametricShadows | 0 |
ParametricShadowSplit | 25 |
PerspectiveHorizontal | 0 |
PerspectiveRotate | 0.0 |
PerspectiveScale | 100 |
PerspectiveVertical | 0 |
PostCropVignetteAmount | 0 |
ProcessVersion | 5.7 |
ProfileDescription | sRGB IEC61966-2.1 |
Rating | 0 |
RawFileName | _DSC0051.NEF |
RedHue | 0 |
RedSaturation | 0 |
Saturation | Normal |
ScaleFactor35efl | 1.5 |
SceneCaptureType | Standard |
SceneType | Directly photographed |
SensingMethod | One-chip color area |
SerialNumber | 6206887 |
Shadows | 13 |
ShadowTint | 0 |
SharpenDetail | 25 |
SharpenEdgeMasking | 89 |
SharpenRadius | +1.0 |
Sharpness (1) | 84 |
Sharpness | Normal |
ShutterSpeed | 1/60 |
ShutterSpeedValue | 1/60 |
Software | ACD Systems Digital Imaging |
SplitToningBalance | 0 |
SplitToningHighlightHue | 0 |
SplitToningHighlightSaturation | 0 |
SplitToningShadowHue | 0 |
SplitToningShadowSaturation | 0 |
SubjectDistance | 0.67 m |
SubjectDistanceRange | Unknown |
Tint | -12 |
ToneCurve | 0, 0, 32, 22, 64, 56, 128, 128, 192, 196, 255, 255 |
ToneCurveName | Medium Contrast |
Version | 6.2 |
VignetteAmount | 0 |
WhiteBalance (1) | As Shot |
WhiteBalance | Auto |