Felt | Verdi |
AlreadyApplied | True |
Aperture | 6.3 |
ApertureValue | 6.3 |
ApproximateFocusDistance | 33.1 |
Artist | K.JUVLAND |
BitsPerSample | 8 |
BlueHue | 0 |
BlueSaturation | 0 |
Brightness | 0 |
By-line | K.JUVLAND |
CameraProfile | Adobe Standard |
ChromaticAberrationB | 0 |
ChromaticAberrationR | 0 |
CircleOfConfusion | 0.019 mm |
Clarity | +8 |
ColorComponents | 3 |
ColorMode | RGB |
ColorNoiseReduction | 25 |
ColorNoiseReductionDetail | 50 |
ColorSpace | sRGB |
ColorTemperature | 5750 |
Contrast | +48 |
ConvertToGrayscale | False |
CreateDate (1) | 2012:09:14 16:37:50.95+02:00 |
CreateDate | 2012:09:14 16:37:50 |
Creator | K.JUVLAND |
CropAngle | 0 |
CropBottom | 0.894676 |
CropConstrainToWarp | 1 |
CropLeft | 0.141204 |
CropRight | 0.996914 |
CropTop | 0.128472 |
CustomRendered | Normal |
DateTimeDigitized | 2012:09:14 16:37:50+02:00 |
DateTimeOriginal (1) | 2012:09:14 16:37:50+02:00 |
DateTimeOriginal | 2012:09:14 16:37:50 |
Defringe | 0 |
DOF | 4.20 m (31.13 - 35.34 m) |
ExifImageHeight | 2648 |
ExifImageWidth | 4436 |
Exposure | +1.30 |
ExposureCompensation | 0 |
ExposureMode | Manual |
ExposureProgram | Manual |
ExposureTime | 1/1250 |
FillLight | 19 |
Firmware | 1.0.6 |
Flash | Off, Did not fire |
FlashCompensation | 0 |
FlashFired | False |
FlashFunction | False |
FlashMode | Off |
FlashRedEyeMode | False |
FlashReturn | No return detection |
FNumber | 6.3 |
FocalLength | 250.0 mm |
FocalLength35efl | 250.0 mm (35 mm equivalent: 393.2 mm) |
Format | image/jpeg |
FOV | 5.2 deg |
GrainAmount | 0 |
GreenHue | 0 |
GreenSaturation | 0 |
HasCrop | True |
HasSettings | True |
HighlightRecovery | 0 |
HueAdjustmentAqua | 0 |
HueAdjustmentBlue | 0 |
HueAdjustmentGreen | 0 |
HueAdjustmentMagenta | 0 |
HueAdjustmentOrange | 0 |
HueAdjustmentPurple | 0 |
HueAdjustmentRed | 0 |
HueAdjustmentYellow | 0 |
HyperfocalDistance | 519.29 m |
ICCProfileName | sRGB IEC61966-2.1 |
ImageHeight | 2648 |
ImageNumber | 0 |
ImageSize | 4436x2648 |
ImageWidth | 4436 |
ISO | 400 |
Lens | EF-S55-250mm f/4-5.6 IS |
LensID (1) | 49 |
LensID | Canon EF-S 55-250mm f/4-5.6 IS |
LensInfo | 55-250mm f/? |
LensManualDistortionAmount | 0 |
LensModel | EF-S55-250mm f/4-5.6 IS |
LensProfileEnable | 0 |
LensProfileSetup | LensDefaults |
LightValue | 13.6 |
LuminanceAdjustmentAqua | 0 |
LuminanceAdjustmentBlue | 0 |
LuminanceAdjustmentGreen | 0 |
LuminanceAdjustmentMagenta | 0 |
LuminanceAdjustmentOrange | 0 |
LuminanceAdjustmentPurple | 0 |
LuminanceAdjustmentRed | 0 |
LuminanceAdjustmentYellow | 0 |
LuminanceNoiseReductionContrast | 0 |
LuminanceNoiseReductionDetail | 50 |
LuminanceSmoothing | 26 |
Make | Canon |
MaxApertureValue | 5.7 |
Megapixels | 11.7 |
MeteringMode | Spot |
Model | Canon EOS 550D |
ModifyDate (1) | 2012:09:15 17:46:17+02:00 |
ModifyDate | 2012:09:15 17:46:17 |
Orientation | Horizontal (normal) |
ParametricDarks | 0 |
ParametricHighlights | 0 |
ParametricHighlightSplit | 75 |
ParametricLights | 0 |
ParametricMidtoneSplit | 50 |
ParametricShadows | 0 |
ParametricShadowSplit | 25 |
PerspectiveHorizontal | 0 |
PerspectiveRotate | 0.0 |
PerspectiveScale | 100 |
PerspectiveVertical | 0 |
PostCropVignetteAmount | 0 |
ProcessVersion | 5.7 |
ProfileDescription | sRGB IEC61966-2.1 |
Rating | 0 |
RawFileName | IMG_4953.CR2 |
RedHue | 0 |
RedSaturation | 0 |
Saturation | +10 |
SaturationAdjustmentAqua | 0 |
SaturationAdjustmentBlue | 0 |
SaturationAdjustmentGreen | 0 |
SaturationAdjustmentMagenta | 0 |
SaturationAdjustmentOrange | 0 |
SaturationAdjustmentPurple | 0 |
SaturationAdjustmentRed | 0 |
SaturationAdjustmentYellow | 0 |
ScaleFactor35efl | 1.6 |
SceneCaptureType | Standard |
SensitivityType | Unknown |
SerialNumber | 431204587 |
Shadows | 5 |
ShadowTint | 0 |
SharpenDetail | 38 |
SharpenEdgeMasking | 0 |
SharpenRadius | +1.3 |
Sharpness | 67 |
ShutterSpeed | 1/1250 |
ShutterSpeedValue | 1/1250 |
SidecarForExtension | CR2 |
Software | Adobe Photoshop Elements 9.0 Windows |
SplitToningBalance | 0 |
SplitToningHighlightHue | 0 |
SplitToningHighlightSaturation | 0 |
SplitToningShadowHue | 0 |
SplitToningShadowSaturation | 0 |
SubjectDistance | 33.1 m |
Tint | -2 |
ToneCurve | 0, 0, 32, 22, 64, 56, 128, 128, 192, 196, 255, 255 |
ToneCurveName | Medium Contrast |
URL_List | |
Version | 6.3 |
Vibrance | 0 |
VignetteAmount | 0 |
WhiteBalance (2) | As Shot |
WhiteBalance | Auto |