Felt | Verdi |
AlreadyApplied | True |
Aperture | 5.6 |
ApertureValue | 5.6 |
ApproximateFocusDistance | 5.01 |
Artist | Robin Strand |
AutoLateralCA | 1 |
BitsPerSample | 8 |
Blacks2012 | 0 |
BlueHue | 0 |
BlueSaturation | 0 |
By-line | Robin Strand |
CameraProfile | Camera Standard |
CFAPattern | [Red,Green][Green,Blue] |
CircleOfConfusion | 0.030 mm |
Clarity2012 | +29 |
ColorComponents | 3 |
ColorNoiseReduction | 12 |
ColorNoiseReductionDetail | 50 |
ColorTemperature | 5218 |
Contrast | Normal |
Contrast2012 | 0 |
ConvertToGrayscale | False |
Copyright | Robin Strand |
CopyrightFlag | True |
CopyrightNotice | Robin Strand |
CreateDate (1) | 2012:10:14 16:53:46.80 |
CreateDate | 2012:10:14 16:53:46 |
Creator | Robin Strand |
CreatorAddress | Porsveien 23, Fyllingsdalen |
CreatorCity | Bergen |
CreatorCountry | Norway |
CreatorPostalCode | 5142 |
CreatorTool | Adobe Photoshop Lightroom 4.2 (Windows) |
CreatorWorkEmail | robinstrand56@gmail.com |
CreatorWorkTelephone | 90764724 |
CreatorWorkURL | http://norphoto.smugmug.com |
CropAngle | 0 |
CropBottom | 0.95614 |
CropConstrainToWarp | 0 |
CropHeight | 745 |
CropLeft | 0 |
CropRight | 0.326829 |
CropTop | 0.652047 |
CropUnit | pixels |
CropWidth | 1200 |
CustomRendered | Normal |
DateCreated (1) | 2012:10:14 |
DateCreated | 2012:10:14 16:53:46.80 |
DateTimeOriginal | 2012:10:14 16:53:46 |
DefringeGreenAmount | 0 |
DefringeGreenHueHi | 60 |
DefringeGreenHueLo | 40 |
DefringePurpleAmount | 0 |
DefringePurpleHueHi | 70 |
DefringePurpleHueLo | 30 |
DigitalZoomRatio | 1 |
DOF | inf (2.04 m - inf) |
Exposure2012 | 0.00 |
ExposureCompensation | +1/2 |
ExposureMode | Auto |
ExposureProgram | Aperture-priority AE |
ExposureTime | 1/750 |
Flash | Off, Did not fire |
FNumber | 5.6 |
FocalLength | 24.0 mm |
FocalLength35efl | 24.0 mm (35 mm equivalent: 24.0 mm) |
FocalLengthIn35mmFormat | 24 mm |
Format | image/jpeg |
FOV | 73.7 deg |
GainControl | None |
GradientBasedCorrActive | true |
GradientBasedCorrAmount | 1.000000 |
GradientBasedCorrBrightness | 0.000000 |
GradientBasedCorrClarity2012 | 0.425290 |
GradientBasedCorrContrast2012 | 0.333330 |
GradientBasedCorrDefringe | 0.000000 |
GradientBasedCorrExposure2012 | -0.356250 |
GradientBasedCorrHighlights2012 | 0.000000 |
GradientBasedCorrHue | 42.000000 |
GradientBasedCorrLuminanceNoise | 0.000000 |
GradientBasedCorrMaskFullX | 0.643213 |
GradientBasedCorrMaskFullY | 0.015604 |
GradientBasedCorrMaskValue | 1.000000 |
GradientBasedCorrMaskWhat | Mask/Gradient |
GradientBasedCorrMaskZeroX | 0.605002 |
GradientBasedCorrMaskZeroY | 0.336134 |
GradientBasedCorrMoire | 0.000000 |
GradientBasedCorrSaturation | 0.000000 |
GradientBasedCorrShadows2012 | 0.000000 |
GradientBasedCorrSharpness | 0.000000 |
GradientBasedCorrTemperature | 0.000000 |
GradientBasedCorrTint | 0.000000 |
GradientBasedCorrWhat | Correction |
GrainAmount | 0 |
GreenHue | 0 |
GreenSaturation | 0 |
HasCrop | True |
HasSettings | True |
Highlights2012 | -26 |
HueAdjustmentAqua | 0 |
HueAdjustmentBlue | 0 |
HueAdjustmentGreen | 0 |
HueAdjustmentMagenta | 0 |
HueAdjustmentOrange | 0 |
HueAdjustmentPurple | 0 |
HueAdjustmentRed | 0 |
HueAdjustmentYellow | 0 |
HyperfocalDistance | 3.42 m |
ImageHeight | 745 |
ImageNumber | 1762 |
ImageSize | 1200x745 |
ImageWidth | 1200 |
ISO | 200 |
Keywords | bergen, bergensbilde, bergensbilder, bilder, bilder fra bergen, bilder fra norge, images, norge, norway, photos, vestlandet, vågen, western norway |
Lens | 24.0-70.0 mm f/2.8 |
LensID (1) | 147 |
LensID | AF-S Zoom-Nikkor 24-70mm f/2.8G ED |
LensInfo | 24-70mm f/2.8 |
LensManualDistortionAmount | 0 |
LensModel | 24.0-70.0 mm f/2.8 |
LensProfileChromaticAberrationScale | 100 |
LensProfileDistortionScale | 100 |
LensProfileEnable | 1 |
LensProfileFilename | NIKON D3X (Nikon FX 24-70mm f2.8 G ED) - RAW.lcp |
LensProfileName | Adobe (Nikon AF-S NIKKOR 24-70mm f/2.8G ED) |
LensProfileSetup | LensDefaults |
LensProfileVignettingScale | 100 |
LightSource | Unknown |
LightValue | 13.5 |
LuminanceAdjustmentAqua | 0 |
LuminanceAdjustmentBlue | -5 |
LuminanceAdjustmentGreen | 0 |
LuminanceAdjustmentMagenta | 0 |
LuminanceAdjustmentOrange | 0 |
LuminanceAdjustmentPurple | 0 |
LuminanceAdjustmentRed | 0 |
LuminanceAdjustmentYellow | 0 |
LuminanceSmoothing | 0 |
Make | NIKON CORPORATION |
Marked | True |
MaxApertureValue | 2.8 |
Megapixels | 0.894 |
MeteringMode | Multi-segment |
Model | NIKON D800 |
ModifyDate (1) | 2012:10:16 00:35:17+02:00 |
ModifyDate | 2012:10:16 00:35:17 |
ParametricDarks | 0 |
ParametricHighlights | 0 |
ParametricHighlightSplit | 75 |
ParametricLights | 0 |
ParametricMidtoneSplit | 50 |
ParametricShadows | +12 |
ParametricShadowSplit | 25 |
PerspectiveHorizontal | 0 |
PerspectiveRotate | 0.0 |
PerspectiveScale | 100 |
PerspectiveVertical | 0 |
PostCropVignetteAmount | 0 |
ProcessVersion | 6.7 |
ProfileDescription | sRGB IEC61966-2.1 |
Rating | 1 |
RedHue | 0 |
RedSaturation | 0 |
Rights | Robin Strand |
Saturation (1) | +12 |
Saturation | Normal |
SaturationAdjustmentAqua | 0 |
SaturationAdjustmentBlue | 0 |
SaturationAdjustmentGreen | 0 |
SaturationAdjustmentMagenta | 0 |
SaturationAdjustmentOrange | 0 |
SaturationAdjustmentPurple | 0 |
SaturationAdjustmentRed | 0 |
SaturationAdjustmentYellow | 0 |
ScaleFactor35efl | 1.0 |
SceneCaptureType | Landscape |
SceneType | Directly photographed |
SensingMethod | One-chip color area |
SensitivityType | Recommended Exposure Index |
SerialNumber | 6039675 |
Shadows2012 | 0 |
ShadowTint | 0 |
SharpenDetail | 50 |
SharpenEdgeMasking | 10 |
SharpenRadius | +0.7 |
Sharpness (1) | 60 |
Sharpness | Normal |
ShutterSpeed | 1/750 |
ShutterSpeedValue | 1/750 |
Software | Adobe Photoshop Lightroom 4.2 (Windows) |
SplitToningBalance | 0 |
SplitToningHighlightHue | 0 |
SplitToningHighlightSaturation | 0 |
SplitToningShadowHue | 0 |
SplitToningShadowSaturation | 0 |
Subject | bergen, bergensbilde, bergensbilder, bilder, bilder fra bergen, bilder fra norge, images, norge, norway, photos, vestlandet, vågen, western norway |
SubjectDistanceRange | Unknown |
Tint | 0 |
ToneCurveName2012 | Custom |
ToneCurvePV2012 | 0, 0, 17, 11, 34, 27, 51, 45, 68, 63, 85, 81, 102, 99, 119, 118, 136, 137, 153, 156, 170, 175, 187, 193, 204, 210, 221, 226, 238, 241, 255, 255 |
ToneCurvePV2012Blue | 0, 0, 255, 255 |
ToneCurvePV2012Green | 0, 0, 255, 255 |
ToneCurvePV2012Red | 0, 0, 255, 255 |
Version | 7.2 |
Vibrance | +54 |
VignetteAmount | 0 |
WhiteBalance (1) | Custom |
WhiteBalance | Auto |
Whites2012 | -10 |