Felt | Verdi |
AlreadyApplied | True |
Artist | Sigurd Rage |
AutoLateralCA | 0 |
BitsPerSample | 8 |
Blacks2012 | -9 |
BlueHue | 0 |
BlueSaturation | 0 |
By-line | Sigurd Rage |
CameraProfile | Embedded |
Caption-Abstract | Possible barrow of Dale-Gudbrand. From Sør-Fron, Gudbrandsdalen. Site also contain iron-age bautas. |
Clarity2012 | +8 |
ColorComponents | 3 |
ColorNoiseReduction | 0 |
Contrast2012 | 0 |
ConvertToGrayscale | False |
Copyright | Sigurd Rage 2012 |
CopyrightNotice | Sigurd Rage 2012 |
Country | Norway |
Country-PrimaryLocationName | Norway |
CreateDate (1) | 2012:11:18 12:36:16.92 |
CreateDate | 2012:11:18 12:36:16 |
Creator | Sigurd Rage |
CreatorTool | Adobe Photoshop Lightroom 4.2 (Windows) |
CropAngle | -0.536368 |
CropBottom | 0.818403 |
CropConstrainToWarp | 0 |
CropHeight | 800 |
CropLeft | 0.162403 |
CropRight | 0.988767 |
CropTop | 0.107428 |
CropUnit | pixels |
CropWidth | 1600 |
DateCreated (1) | 2012:11:18 |
DateCreated | 2012:11:18 12:36:16.92 |
DateTimeOriginal | 2012:11:18 12:36:16 |
DefringeGreenAmount | 0 |
DefringeGreenHueHi | 60 |
DefringeGreenHueLo | 40 |
DefringePurpleAmount | 0 |
DefringePurpleHueHi | 70 |
DefringePurpleHueLo | 30 |
Description | Possible barrow of Dale-Gudbrand. From Sør-Fron, Gudbrandsdalen. Site also contain iron-age bautas. |
Exposure2012 | -0.40 |
Format | image/jpeg |
GPSLatitude (1) | 61 deg 32' 55.33" |
GPSLatitude | 61 deg 32' 55.33" N |
GPSLatitudeRef | North |
GPSLongitude (1) | 9 deg 58' 9.04" |
GPSLongitude | 9 deg 58' 9.04" E |
GPSLongitudeRef | East |
GPSPosition | 61 deg 32' 55.33" N, 9 deg 58' 9.04" E |
GPSVersionID | 2.2.0.0 |
GradientBasedCorrActive | true |
GradientBasedCorrAmount | 1.000000 |
GradientBasedCorrBrightness | 0.000000 |
GradientBasedCorrClarity2012 | 0.000000 |
GradientBasedCorrContrast2012 | 0.000000 |
GradientBasedCorrDefringe | 0.000000 |
GradientBasedCorrExposure2012 | -0.195500 |
GradientBasedCorrHighlights2012 | 0.000000 |
GradientBasedCorrHue | 0.000000 |
GradientBasedCorrLuminanceNoise | 0.000000 |
GradientBasedCorrMaskFullX | 0.669141 |
GradientBasedCorrMaskFullY | 0.432611 |
GradientBasedCorrMaskValue | 1.000000 |
GradientBasedCorrMaskWhat | Mask/Gradient |
GradientBasedCorrMaskZeroX | 0.655306 |
GradientBasedCorrMaskZeroY | 0.706343 |
GradientBasedCorrMoire | 0.000000 |
GradientBasedCorrSaturation | 0.000000 |
GradientBasedCorrShadows2012 | 0.000000 |
GradientBasedCorrSharpness | 0.000000 |
GradientBasedCorrTemperature | 0.000000 |
GradientBasedCorrTint | 0.000000 |
GradientBasedCorrWhat | Correction |
GrainAmount | 0 |
GreenHue | 0 |
GreenSaturation | 0 |
HasCrop | True |
HasSettings | True |
Highlights2012 | 0 |
HueAdjustmentAqua | 0 |
HueAdjustmentBlue | 0 |
HueAdjustmentGreen | 0 |
HueAdjustmentMagenta | 0 |
HueAdjustmentOrange | 0 |
HueAdjustmentPurple | 0 |
HueAdjustmentRed | 0 |
HueAdjustmentYellow | 0 |
ImageDescription | Possible barrow of Dale-Gudbrand. From Sør-Fron, Gudbrandsdalen. Site also contain iron-age bautas. |
ImageHeight | 800 |
ImageSize | 1600x800 |
ImageWidth | 1600 |
IncrementalTemperature | -2 |
IncrementalTint | 0 |
Keywords | barrow, dale-gudbrand, grav, grave, gravhaug, gudbrandsdalen, hundorp, norge, norway, oppland, sør-fron |
LensManualDistortionAmount | +21 |
LensProfileEnable | 0 |
LensProfileSetup | LensDefaults |
LuminanceAdjustmentAqua | 0 |
LuminanceAdjustmentBlue | 0 |
LuminanceAdjustmentGreen | 0 |
LuminanceAdjustmentMagenta | 0 |
LuminanceAdjustmentOrange | 0 |
LuminanceAdjustmentPurple | 0 |
LuminanceAdjustmentRed | 0 |
LuminanceAdjustmentYellow | 0 |
LuminanceSmoothing | 0 |
Megapixels | 1.3 |
ModifyDate (1) | 2012:11:19 16:51:27+01:00 |
ModifyDate | 2012:11:19 16:51:27 |
ObjectName | Dale-Gudbrand and the Barrow-Wights |
ParametricDarks | 0 |
ParametricHighlights | 0 |
ParametricHighlightSplit | 75 |
ParametricLights | 0 |
ParametricMidtoneSplit | 50 |
ParametricShadows | 0 |
ParametricShadowSplit | 25 |
PerspectiveHorizontal | 0 |
PerspectiveRotate | 0.0 |
PerspectiveScale | 100 |
PerspectiveVertical | 0 |
PostCropVignetteAmount | 0 |
ProcessVersion | 6.7 |
ProfileDescription | sRGB IEC61966-2.1 |
Province-State | Oppland |
RedHue | 0 |
RedSaturation | 0 |
Rights | Sigurd Rage 2012 |
Saturation | -5 |
SaturationAdjustmentAqua | 0 |
SaturationAdjustmentBlue | 0 |
SaturationAdjustmentGreen | 0 |
SaturationAdjustmentMagenta | 0 |
SaturationAdjustmentOrange | 0 |
SaturationAdjustmentPurple | 0 |
SaturationAdjustmentRed | 0 |
SaturationAdjustmentYellow | 0 |
Shadows2012 | +30 |
ShadowTint | 0 |
SharpenDetail | 25 |
SharpenEdgeMasking | 0 |
SharpenRadius | +1.0 |
Sharpness | 0 |
Software | Adobe Photoshop Lightroom 4.2 (Windows) |
SplitToningBalance | 0 |
SplitToningHighlightHue | 0 |
SplitToningHighlightSaturation | 0 |
SplitToningShadowHue | 0 |
SplitToningShadowSaturation | 0 |
State | Oppland |
Subject | barrow, dale-gudbrand, grav, grave, gravhaug, gudbrandsdalen, hundorp, norge, norway, oppland, sør-fron |
Title | Dale-Gudbrand and the Barrow-Wights |
ToneCurveName2012 | Linear |
ToneCurvePV2012 | 0, 0, 255, 255 |
ToneCurvePV2012Blue | 0, 0, 255, 255 |
ToneCurvePV2012Green | 0, 0, 255, 255 |
ToneCurvePV2012Red | 0, 0, 255, 255 |
Version | 7.2 |
Vibrance | 0 |
VignetteAmount | 0 |
WhiteBalance | Custom |
Whites2012 | +7 |