Felt | Verdi |
AlreadyApplied | True |
Aperture | 16.0 |
ApertureValue | 16.0 |
AutoLateralCA | 0 |
BitsPerSample | 8 |
Blacks2012 | -7 |
BlueHue | 0 |
BlueSaturation | 0 |
Brightness | +50 |
CameraProfile | Adobe Standard |
Caption-Abstract | OLYMPUS DIGITAL CAMERA |
CFAPattern | [Red,Green][Green,Blue] |
CircleOfConfusion | 0.015 mm |
Clarity | 0 |
Clarity2012 | +32 |
ColorComponents | 1 |
ColorNoiseReduction | 25 |
ColorNoiseReductionDetail | 50 |
ColorTemperature | 4708 |
Contrast (1) | +25 |
Contrast | Normal |
Contrast2012 | 0 |
ConvertToGrayscale | True |
CreateDate | 2012:11:03 14:25:34 |
CreatorTool | Adobe Photoshop Lightroom 4.0 (Windows) |
CropAngle | 0 |
CropBottom | 0.988764 |
CropConstrainToWarp | 0 |
CropHeight | 1763 |
CropLeft | 0.485954 |
CropRight | 0.969101 |
CropTop | 0.344568 |
CropUnit | pixels |
CropWidth | 1763 |
CustomRendered | Custom |
DateCreated (1) | 2012:11:03 |
DateCreated | 2012:11:03 14:25:34 |
DateTimeOriginal | 2012:11:03 14:25:34 |
Defringe | 0 |
Description | OLYMPUS DIGITAL CAMERA |
DigitalZoomRatio | 1 |
Exposure | 0.00 |
Exposure2012 | +0.27 |
ExposureCompensation | -0.3 |
ExposureMode | Manual |
ExposureProgram | Aperture-priority AE |
ExposureTime | 1 |
FillLight | 0 |
Flash | Auto, Did not fire |
FlashCompensation | 0 |
FNumber | 16.0 |
FocalLength | 11.0 mm |
FocalLength35efl | 11.0 mm (35 mm equivalent: 22.0 mm) |
FocalLengthIn35mmFormat | 22 mm |
Format | image/jpeg |
FOV | 78.6 deg |
GainControl | Low gain up |
GrainAmount | 0 |
GrayMixerAqua | +38 |
GrayMixerBlue | 0 |
GrayMixerGreen | +30 |
GrayMixerMagenta | 0 |
GrayMixerOrange | +38 |
GrayMixerPurple | 0 |
GrayMixerRed | +25 |
GrayMixerYellow | +40 |
GreenHue | 0 |
GreenSaturation | 0 |
HasCrop | True |
HasSettings | True |
HighlightRecovery | 0 |
Highlights2012 | -56 |
HyperfocalDistance | 0.50 m |
ImageDescription | OLYMPUS DIGITAL CAMERA |
ImageHeight | 1763 |
ImageSize | 1763x1763 |
ImageWidth | 1763 |
ISO | 125 |
Keywords | Horten. Karljohansvern |
Lens | 10.0-20.0 mm f/4.0-5.6 |
LensInfo | 10-20mm f/4-5.6 |
LensManualDistortionAmount | 0 |
LensModel | 10.0-20.0 mm f/4.0-5.6 |
LensProfileEnable | 0 |
LensProfileSetup | LensDefaults |
LensSerialNumber | 000000000 |
LightSource | Unknown |
LightValue | 7.7 |
LuminanceNoiseReductionContrast | 0 |
LuminanceNoiseReductionDetail | 50 |
LuminanceSmoothing | 24 |
Make | OLYMPUS IMAGING CORP. |
MaxApertureValue | 4.0 |
Megapixels | 3.1 |
MeteringMode | Multi-segment |
Model | E-3 |
ModifyDate (1) | 2012:11:06 21:47:01+01:00 |
ModifyDate | 2012:11:06 21:47:01 |
PaintCorrectionActive | true |
PaintCorrectionAmount | 1.000000 |
PaintCorrectionBrightness | 0.000000 |
PaintCorrectionClarity2012 (3) | -1.000000 |
PaintCorrectionClarity2012 | 0.000000 |
PaintCorrectionContrast2012 (3) | -0.600000 |
PaintCorrectionContrast2012 | -0.035290 |
PaintCorrectionExposure2012 (1) | -0.553000 |
PaintCorrectionExposure2012 (10) | 0.435250 |
PaintCorrectionExposure2012 (2) | -0.435250 |
PaintCorrectionExposure2012 (3) | 0.011750 |
PaintCorrectionExposure2012 (5) | 0.153000 |
PaintCorrectionExposure2012 (6) | -0.200000 |
PaintCorrectionExposure2012 (7) | 0.294000 |
PaintCorrectionExposure2012 (8) | -0.506000 |
PaintCorrectionExposure2012 (9) | -0.764750 |
PaintCorrectionExposure2012 | -0.223500 |
PaintCorrectionHighlights2012 | -0.129410 |
PaintCorrectionHue | 0.000000 |
PaintCorrectionLuminanceNoise | 0.000000 |
PaintCorrectionMaskCenterWeight | 0.026854 |
PaintCorrectionMaskFlow | 0.545000 |
PaintCorrectionMaskRadius (10) | 0.081542 |
PaintCorrectionMaskRadius (11) | 0.023016 |
PaintCorrectionMaskRadius (12) | 0.007524 |
PaintCorrectionMaskRadius (2) | 0.207600 |
PaintCorrectionMaskRadius (5) | 0.028961 |
PaintCorrectionMaskRadius (6) | 0.041903 |
PaintCorrectionMaskRadius (7) | 0.011497 |
PaintCorrectionMaskRadius (8) | 0.026189 |
PaintCorrectionMaskRadius (9) | 0.013094 |
PaintCorrectionMaskRadius | 0.049074 |
PaintCorrectionMaskValue | 0.701000 |
PaintCorrectionMaskWhat | Mask/Paint |
PaintCorrectionMoire | 0.000000 |
PaintCorrectionSaturation | 0.000000 |
PaintCorrectionShadows2012 | 0.000000 |
PaintCorrectionSharpness (3) | -1.000000 |
PaintCorrectionSharpness | -0.058820 |
PaintCorrectionTemperature | 0.000000 |
PaintCorrectionTint | 0.000000 |
PaintCorrectionWhat | Correction |
ParametricDarks | 0 |
ParametricHighlights | 0 |
ParametricHighlightSplit | 75 |
ParametricLights | 0 |
ParametricMidtoneSplit | 50 |
ParametricShadows | 0 |
ParametricShadowSplit | 25 |
PerspectiveHorizontal | +100 |
PerspectiveRotate | 0.0 |
PerspectiveScale | 100 |
PerspectiveVertical | 0 |
PostCropVignetteAmount | -27 |
PostCropVignetteFeather | 50 |
PostCropVignetteHighlightContrast | 0 |
PostCropVignetteMidpoint | 50 |
PostCropVignetteRoundness | 0 |
PostCropVignetteStyle | 1 |
ProcessVersion | 6.7 |
ProfileDescription | sRGB IEC61966-2.1 |
RedHue | 0 |
RedSaturation | 0 |
Saturation | High |
ScaleFactor35efl | 2.0 |
SceneCaptureType | Standard |
SerialNumber | D70518049 |
Shadows | 5 |
Shadows2012 | +88 |
ShadowTint | 0 |
SharpenDetail | 25 |
SharpenEdgeMasking | 0 |
SharpenRadius | +1.0 |
Sharpness (1) | 25 |
Sharpness | Hard |
ShutterSpeed | 1 |
ShutterSpeedValue | 1 |
Software | Adobe Photoshop Lightroom 4.0 (Windows) |
SplitToningBalance | 0 |
SplitToningHighlightHue | 0 |
SplitToningHighlightSaturation | 0 |
SplitToningShadowHue | 0 |
SplitToningShadowSaturation | 0 |
Subject | Horten. Karljohansvern |
Tint | -28 |
ToneCurve | 0, 0, 255, 255 |
ToneCurveBlue | 0, 0, 255, 255 |
ToneCurveGreen | 0, 0, 255, 255 |
ToneCurveName | Linear |
ToneCurveName2012 | Linear |
ToneCurvePV2012 | 0, 0, 255, 255 |
ToneCurvePV2012Blue | 0, 0, 255, 255 |
ToneCurvePV2012Green | 0, 0, 255, 255 |
ToneCurvePV2012Red | 0, 0, 255, 255 |
ToneCurveRed | 0, 0, 255, 255 |
Version | 7.0 |
VignetteAmount | 0 |
WhiteBalance (1) | Custom |
WhiteBalance | Manual |
Whites2012 | 0 |