Felt | Verdi |
AlreadyApplied | True |
Aperture | 4.5 |
ApertureValue | 4.5 |
ApproximateFocusDistance | 4294967295 |
Artist | Sigurd Rage |
AutoLateralCA | 0 |
BitsPerSample | 8 |
Blacks2012 | -43 |
BlueHue | 0 |
BlueSaturation | 0 |
By-line | Sigurd Rage |
CameraProfile | Adobe Standard |
Caption-Abstract | Heavy snowfall today, up to half a metre in a day. I enjoy these days tremendosly - thanks to my unstoppable Subaru Forester and my military offroad training. In any case, I stopped by my old friend and had an idea to snap a long exposure with a weak flash burst to capture the snow. I got two versions, one with and one without. |
CFAPattern | [Red,Green][Green,Blue] |
CircleOfConfusion | 0.030 mm |
Clarity2012 | 0 |
ColorComponents | 3 |
ColorNoiseReduction | 25 |
ColorNoiseReductionDetail | 50 |
ColorTemperature | 2433 |
Contrast | Normal |
Contrast2012 | 0 |
ConvertToGrayscale | False |
Copyright | Sigurd Rage 2012 |
CopyrightFlag | True |
CopyrightNotice | Sigurd Rage 2012 |
Country | Norway |
Country-PrimaryLocationName | Norway |
CreateDate (1) | 2012:12:15 17:52:10.00 |
CreateDate | 2012:12:15 17:52:10 |
Creator | Sigurd Rage |
CreatorCountry | Norway |
CreatorTool | Adobe Photoshop Lightroom 4.3 (Windows) |
CreatorWorkEmail | sigurd.rage@gmail.com |
CreatorWorkTelephone | (+47) 92038253 |
CreatorWorkURL | http://www.flickr.com/sigurdr |
CropAngle | -1.25205 |
CropBottom | 0.943145 |
CropConstrainToWarp | 0 |
CropHeight | 900 |
CropLeft | 0.01481 |
CropRight | 0.962371 |
CropTop | 0.182611 |
CropUnit | pixels |
CropWidth | 1600 |
CustomRendered | Custom |
DateCreated (1) | 2012:12:15 |
DateCreated | 2012:12:15 17:52:10.00 |
DateTimeOriginal | 2012:12:15 17:52:10 |
DefringeGreenAmount | 0 |
DefringeGreenHueHi | 60 |
DefringeGreenHueLo | 40 |
DefringePurpleAmount | 0 |
DefringePurpleHueHi | 70 |
DefringePurpleHueLo | 30 |
Description | Heavy snowfall today, up to half a metre in a day. I enjoy these days tremendosly - thanks to my unstoppable Subaru Forester and my military offroad training. In any case, I stopped by my old friend and had an idea to snap a long exposure with a weak flash burst to capture the snow. I got two versions, one with and one without. |
DigitalZoomRatio | 1 |
DOF | inf (2.96 m - inf) |
Exposure2012 | 0.00 |
ExposureCompensation | 0 |
ExposureMode | Manual |
ExposureProgram | Manual |
ExposureTime | 8 |
Flash | On, Return detected |
FNumber | 4.5 |
FocalLength | 20.0 mm |
FocalLength35efl | 20.0 mm (35 mm equivalent: 20.0 mm) |
FocalLengthIn35mmFormat | 20 mm |
Format | image/jpeg |
FOV | 84.0 deg |
GainControl | None |
GPSLatitude (1) | 59 deg 39' 51.35" |
GPSLatitude | 59 deg 39' 51.35" N |
GPSLatitudeRef | North |
GPSLongitude (1) | 10 deg 46' 17.76" |
GPSLongitude | 10 deg 46' 17.76" E |
GPSLongitudeRef | East |
GPSPosition | 59 deg 39' 51.35" N, 10 deg 46' 17.76" E |
GPSVersionID | 2.2.0.0 |
GrainAmount | 0 |
GreenHue | 0 |
GreenSaturation | 0 |
HasCrop | True |
HasSettings | True |
Highlights2012 | -2 |
HueAdjustmentAqua | 0 |
HueAdjustmentBlue | 0 |
HueAdjustmentGreen | 0 |
HueAdjustmentMagenta | 0 |
HueAdjustmentOrange | 0 |
HueAdjustmentPurple | 0 |
HueAdjustmentRed | 0 |
HueAdjustmentYellow | 0 |
HyperfocalDistance | 2.96 m |
ImageDescription | Heavy snowfall today, up to half a metre in a day. I enjoy these days tremendosly - thanks to my unstoppable Subaru Forester and my military offroad training. In any case, I stopped by my old friend and had an idea to snap a long exposure with a weak flash burst to capture the snow. I got two versions, one with and one without. |
ImageHeight | 900 |
ImageNumber | 19467 |
ImageSize | 1600x900 |
ImageWidth | 1600 |
ISO | 200 |
Keywords | 2012, 24-120mmF4VR, december, eik, eika, nikkor, nikon, oak, snow, tre, tree, umb, winter, ås |
Lens | 20.0 mm f/2.8 |
LensID (1) | 55 |
LensID | AF Nikkor 20mm f/2.8D |
LensInfo | 20mm f/2.8 |
LensManualDistortionAmount | 0 |
LensModel | 20.0 mm f/2.8 |
LensProfileChromaticAberrationScale | 100 |
LensProfileDistortionScale | 100 |
LensProfileEnable | 1 |
LensProfileFilename | NIKON D3X (Nikon AF NIKKOR 20mm f2.8D) - RAW.lcp |
LensProfileName | Adobe (Nikon AF NIKKOR 20mm f/2.8D) |
LensProfileSetup | LensDefaults |
LensProfileVignettingScale | 100 |
LightSource | Unknown |
LightValue | 0.3 |
LuminanceAdjustmentAqua | 0 |
LuminanceAdjustmentBlue | 0 |
LuminanceAdjustmentGreen | 0 |
LuminanceAdjustmentMagenta | 0 |
LuminanceAdjustmentOrange | 0 |
LuminanceAdjustmentPurple | 0 |
LuminanceAdjustmentRed | 0 |
LuminanceAdjustmentYellow | 0 |
LuminanceSmoothing | 0 |
Make | NIKON CORPORATION |
Marked | True |
MaxApertureValue | 2.8 |
Megapixels | 1.4 |
MeteringMode | Multi-segment |
Model | NIKON D700 |
ModifyDate (1) | 2012:12:15 23:11:00+01:00 |
ModifyDate | 2012:12:15 23:11:00 |
ObjectName | Snowy Winter Oak |
ParametricDarks | 0 |
ParametricHighlights | 0 |
ParametricHighlightSplit | 75 |
ParametricLights | 0 |
ParametricMidtoneSplit | 50 |
ParametricShadows | 0 |
ParametricShadowSplit | 25 |
PerspectiveHorizontal | 0 |
PerspectiveRotate | 0.0 |
PerspectiveScale | 100 |
PerspectiveVertical | 0 |
PostCropVignetteAmount | 0 |
ProcessVersion | 6.7 |
ProfileDescription | sRGB IEC61966-2.1 |
Province-State | Akershus |
RedHue | 0 |
RedSaturation | 0 |
Rights | Sigurd Rage 2012 |
Saturation (1) | 0 |
Saturation | Normal |
SaturationAdjustmentAqua | 0 |
SaturationAdjustmentBlue | -100 |
SaturationAdjustmentGreen | 0 |
SaturationAdjustmentMagenta | 0 |
SaturationAdjustmentOrange | -100 |
SaturationAdjustmentPurple | 0 |
SaturationAdjustmentRed | -100 |
SaturationAdjustmentYellow | 0 |
ScaleFactor35efl | 1.0 |
SceneCaptureType | Standard |
SceneType | Directly photographed |
SensingMethod | One-chip color area |
SerialNumber | 2449790 |
Shadows2012 | 0 |
ShadowTint | 0 |
SharpenDetail | 25 |
SharpenEdgeMasking | 0 |
SharpenRadius | +1.0 |
Sharpness (1) | 25 |
Sharpness | Normal |
ShutterSpeed | 8 |
ShutterSpeedValue | 8 |
Software | Adobe Photoshop Lightroom 4.3 (Windows) |
SplitToningBalance | 0 |
SplitToningHighlightHue | 0 |
SplitToningHighlightSaturation | 0 |
SplitToningShadowHue | 0 |
SplitToningShadowSaturation | 0 |
State | Akershus |
Subject | 2012, 24-120mmF4VR, december, eik, eika, nikkor, nikon, oak, snow, tre, tree, umb, winter, ås |
SubjectDistanceRange | Unknown |
Tint | -3 |
Title | Snowy Winter Oak |
ToneCurveName2012 | Linear |
ToneCurvePV2012 | 0, 0, 255, 255 |
ToneCurvePV2012Blue | 0, 0, 255, 255 |
ToneCurvePV2012Green | 0, 0, 255, 255 |
ToneCurvePV2012Red | 0, 0, 255, 255 |
UsageTerms | Do not use without permission |
Version | 7.3 |
Vibrance | 0 |
VignetteAmount | 0 |
WhiteBalance (1) | Custom |
WhiteBalance | Auto |
Whites2012 | -100 |