Felt | Verdi |
AlreadyApplied | True |
Aperture | 4.5 |
ApertureValue | 4.5 |
BitsPerSample | 8 |
BlackClip | 0.006250 |
BlueHue | 0 |
BlueSaturation | 0 |
Brightness | 0 |
CameraProfile | Embedded |
ChromaticAberrationB | 0 |
ChromaticAberrationR | 0 |
Clarity | +93 |
ColorComponents | 3 |
ColorMode | RGB |
ColorNoiseReduction | 0 |
ColorSaturation | 40.0 |
ColorSpace | Uncalibrated |
ColorTemperature | 0.0 |
Contrast | 0 |
ConvertToGrayscale | False |
CreateDate | 2012:11:29 21:26:58+01:00 |
DateCreated (1) | 2012:11:29 |
DateCreated | 2012:11:29 21:26:58 |
DateTimeOriginal | 2012:11:29 21:26:58 |
Defringe | 0 |
DerivedFrom | |
ExifImageHeight | 2845 |
ExifImageWidth | 4265 |
Exposure | 0.00 |
ExposureTime | 25 |
FillLight | 21 |
FNumber | 4.5 |
FocalLength | 10.0 mm |
FocalLength35efl | 10.0 mm |
Format | image/jpeg |
Gamma | 1.00 |
GrainAmount | 0 |
GreenHue | 0 |
GreenSaturation | 0 |
HasCrop | False |
HasSettings | True |
HighlightRecovery | 0 |
HighlightsSmoothing | 100.0 |
HueAdjustmentAqua | 0 |
HueAdjustmentBlue | 0 |
HueAdjustmentGreen | 0 |
HueAdjustmentMagenta | 0 |
HueAdjustmentOrange | 0 |
HueAdjustmentPurple | 0 |
HueAdjustmentRed | 0 |
HueAdjustmentYellow | 0 |
ICCProfileName | Adobe RGB (1998) |
ImageHeight | 2845 |
ImageSize | 4265x2845 |
ImageWidth | 4265 |
IncrementalTemperature | 0 |
IncrementalTint | 0 |
ISO | 400 |
IsPano360 | No |
LightValue | -2.3 |
LuminanceAdjustmentAqua | 0 |
LuminanceAdjustmentBlue | 0 |
LuminanceAdjustmentGreen | 0 |
LuminanceAdjustmentMagenta | 0 |
LuminanceAdjustmentOrange | 0 |
LuminanceAdjustmentPurple | 0 |
LuminanceAdjustmentRed | 0 |
LuminanceAdjustmentYellow | 0 |
LuminanceSmoothing | 0 |
Luminosity | 0.8 |
Megapixels | 12.1 |
Method | Details Enhancer |
Microcontrast | -2.0 |
Microsmoothing | 30.0 |
Model | Canon EOS 1100D |
ModifyDate (1) | 2012:12:15 20:00:16+01:00 |
ModifyDate | 2012:12:15 20:00:16 |
Orientation | Horizontal (normal) |
ParametricDarks | 0 |
ParametricHighlights | -1 |
ParametricHighlightSplit | 75 |
ParametricLights | 0 |
ParametricMidtoneSplit | 50 |
ParametricShadows | 0 |
ParametricShadowSplit | 25 |
PostCropVignetteAmount | 0 |
ProcessVersion | 5.7 |
ProfileDescription | Adobe RGB (1998) |
Rating | 0 |
RawFileName | IMG_0168_69_70_tonemapped.jpg |
RedHue | 0 |
RedSaturation | 0 |
Saturation | 0 |
SaturationAdjustmentAqua | 0 |
SaturationAdjustmentBlue | 0 |
SaturationAdjustmentGreen | 0 |
SaturationAdjustmentMagenta | 0 |
SaturationAdjustmentOrange | 0 |
SaturationAdjustmentPurple | 0 |
SaturationAdjustmentRed | 0 |
SaturationAdjustmentYellow | 0 |
SaturationHighlights | -2.0 |
SaturationShadows | 0.0 |
Shadows | 0 |
ShadowsClipping | 0.0 |
ShadowsSmoothing | 0.0 |
ShadowTint | 0 |
SharpenDetail | 25 |
SharpenEdgeMasking | 0 |
SharpenRadius | +1.0 |
Sharpness | 0 |
ShutterSpeed | 25 |
ShutterSpeedValue | 25 |
Smoothing | 10.0 |
SmoothingMode | Slider |
Software | Adobe Photoshop CS5 Macintosh |
SplitToningBalance | 0 |
SplitToningHighlightHue | 0 |
SplitToningHighlightSaturation | 0 |
SplitToningShadowHue | 0 |
SplitToningShadowSaturation | 0 |
Strength | 97.0 |
ToneCurve | 0, 0, 255, 255 |
ToneCurveName | Linear |
URL_List | |
Version (1) | 4.1 |
Version | 6.0 |
Vibrance | 0 |
VignetteAmount | 0 |
WhiteBalance | As Shot |
WhiteClip | 0.000200 |