Felt | Verdi |
AlreadyApplied | True |
Aperture | 11.0 |
ApertureValue | 11.0 |
ApproximateFocusDistance | 4 |
Artist | Alexander Evensen |
AutoLateralCA | 1 |
BitsPerSample | 8 |
Blacks2012 | +27 |
BlueHue | 0 |
BlueSaturation | 0 |
By-line | Alexander Evensen |
CameraProfile | Embedded |
Caption-Abstract | Hurtigruten Kong Harald photographed while it arrives then leaves Kjøllefjord at the night arrival going south/west. |
CircleOfConfusion | 0.020 mm |
City | Kjøllefjord |
Clarity2012 | 0 |
ColorComponents | 3 |
ColorMode | RGB |
ColorNoiseReduction | 0 |
ColorSpace | sRGB |
ColorTemperature | 5500 |
Contrast | Normal |
Contrast2012 | 0 |
ConvertToGrayscale | False |
Copyright | Alexander Evensen |
CopyrightNotice | Alexander Evensen |
Country | Norway |
Country-PrimaryLocationName | Norway |
CreateDate | 2010:06:30 03:17:28 |
Creator | Alexander Evensen |
CreatorAddress | Altaveien 226 |
CreatorCity | Alta |
CreatorCountry | Norway |
CreatorPostalCode | 9515 |
CreatorRegion | Finnmark |
CreatorTool | K-x Ver 1.01 |
CreatorWorkEmail | alexander.evensen@gmail.com |
CreatorWorkTelephone | +4747231808 |
CreatorWorkURL | http://netrex.deviantart.com/ |
CustomRendered | Normal |
DateCreated (1) | 2010:06:30 |
DateCreated | 2010:06:30 03:17:28+02:00 |
DateTimeOriginal | 2010:06:30 03:17:28 |
DefringeGreenAmount | 0 |
DefringeGreenHueHi | 60 |
DefringeGreenHueLo | 40 |
DefringePurpleAmount | 0 |
DefringePurpleHueHi | 70 |
DefringePurpleHueLo | 30 |
Description | Hurtigruten Kong Harald photographed while it arrives then leaves Kjøllefjord at the night arrival going south/west. |
DOF | inf (1.08 m - inf) |
ExifImageHeight | 850 |
ExifImageWidth | 1280 |
Exposure2012 | 0.00 |
ExposureCompensation | 0 |
ExposureMode | Manual |
ExposureProgram | Manual |
ExposureTime | 1/25 |
Flash | Off, Did not fire |
FNumber | 11.0 |
FocalLength | 18.0 mm |
FocalLength35efl | 18.0 mm (35 mm equivalent: 27.0 mm) |
FocalLengthIn35mmFormat | 27 mm |
Format | image/jpeg |
FOV | 67.4 deg |
GradientBasedCorrActive | true |
GradientBasedCorrAmount | 1.000000 |
GradientBasedCorrBrightness | 0.000000 |
GradientBasedCorrClarity | 0.000000 |
GradientBasedCorrClarity2012 | 0.000000 |
GradientBasedCorrContrast | 0.000000 |
GradientBasedCorrContrast2012 | 0.000000 |
GradientBasedCorrDefringe | 0.000000 |
GradientBasedCorrExposure | 0.000000 |
GradientBasedCorrExposure2012 | -0.137500 |
GradientBasedCorrHighlights2012 | -0.300000 |
GradientBasedCorrHue | 0.000000 |
GradientBasedCorrLuminanceNoise | 0.000000 |
GradientBasedCorrMaskFullX | 0.494036 |
GradientBasedCorrMaskFullY | -0.016021 |
GradientBasedCorrMaskValue | 1.000000 |
GradientBasedCorrMaskWhat | Mask/Gradient |
GradientBasedCorrMaskZeroX | 0.493959 |
GradientBasedCorrMaskZeroY | 0.213343 |
GradientBasedCorrMoire | 0.000000 |
GradientBasedCorrSaturation | 0.000000 |
GradientBasedCorrShadows2012 | 0.000000 |
GradientBasedCorrSharpness | 0.000000 |
GradientBasedCorrTemperature | 0.000000 |
GradientBasedCorrTint | 0.000000 |
GradientBasedCorrWhat | Correction |
GrainAmount | 0 |
GreenHue | 0 |
GreenSaturation | 0 |
HasCrop | False |
HasSettings | True |
Highlights2012 | 0 |
HueAdjustmentAqua | 0 |
HueAdjustmentBlue | 0 |
HueAdjustmentGreen | 0 |
HueAdjustmentMagenta | 0 |
HueAdjustmentOrange | 0 |
HueAdjustmentPurple | 0 |
HueAdjustmentRed | 0 |
HueAdjustmentYellow | 0 |
HyperfocalDistance | 1.47 m |
ICCProfileName | sRGB IEC61966-2.1 |
ImageDescription | Hurtigruten Kong Harald photographed while it arrives then leaves Kjøllefjord at the night arrival going south/west. |
ImageHeight | 850 |
ImageSize | 1280x850 |
ImageWidth | 1280 |
ISO | 200 |
Keywords | hurtigruten, kong harald, kjøllefjord, arrival, leaving |
Lens | smc PENTAX-DA 18-55mm F3.5-5.6 AL II |
LensID (1) | 7 222 |
LensID | smc PENTAX-DA L 18-55mm F3.5-5.6 |
LensInfo | 18-55mm f/3.5-5.6 |
LensManualDistortionAmount | 0 |
LensModel | smc PENTAX-DA 18-55mm F3.5-5.6 AL II |
LensProfileChromaticAberrationScale | 100 |
LensProfileDistortionScale | 100 |
LensProfileEnable | 1 |
LensProfileFilename | PENTAX (smc PENTAX-DA 18-55mm F3.5-5.6 AL II) - RAW.lcp |
LensProfileName | Adobe (smc PENTAX-DA 18-55mm F3.5-5.6 AL II) |
LensProfileSetup | Custom |
LensProfileVignettingScale | 100 |
LightValue | 10.6 |
Location | Mountainside |
LuminanceAdjustmentAqua | 0 |
LuminanceAdjustmentBlue | 0 |
LuminanceAdjustmentGreen | 0 |
LuminanceAdjustmentMagenta | 0 |
LuminanceAdjustmentOrange | 0 |
LuminanceAdjustmentPurple | 0 |
LuminanceAdjustmentRed | 0 |
LuminanceAdjustmentYellow | 0 |
LuminanceSmoothing | 0 |
Make | PENTAX |
Megapixels | 1.1 |
MeteringMode | Multi-segment |
Model | PENTAX K-x |
ModifyDate (1) | 2012:12:29 13:45:26+01:00 |
ModifyDate | 2012:12:29 13:45:26 |
Orientation | Horizontal (normal) |
ParametricDarks | 0 |
ParametricHighlights | 0 |
ParametricHighlightSplit | 75 |
ParametricLights | 0 |
ParametricMidtoneSplit | 50 |
ParametricShadows | 0 |
ParametricShadowSplit | 25 |
PerspectiveHorizontal | 0 |
PerspectiveRotate | 0.0 |
PerspectiveScale | 100 |
PerspectiveVertical | 0 |
PostCropVignetteAmount | 0 |
ProcessVersion | 6.7 |
ProfileDescription | sRGB IEC61966-2.1 |
Province-State | Finnmark |
Rating | 0 |
RawFileName | _IGP7496.DNG |
RedHue | 0 |
RedSaturation | 0 |
Rights | Alexander Evensen |
Saturation (1) | 0 |
Saturation | Normal |
SaturationAdjustmentAqua | 0 |
SaturationAdjustmentBlue | 0 |
SaturationAdjustmentGreen | 0 |
SaturationAdjustmentMagenta | 0 |
SaturationAdjustmentOrange | 0 |
SaturationAdjustmentPurple | 0 |
SaturationAdjustmentRed | 0 |
SaturationAdjustmentYellow | 0 |
ScaleFactor35efl | 1.5 |
SceneCaptureType | Standard |
SensingMethod | One-chip color area |
Shadows2012 | +65 |
ShadowTint | 0 |
SharpenDetail | 25 |
SharpenEdgeMasking | 0 |
SharpenRadius | +1.0 |
Sharpness (1) | 0 |
Sharpness | Normal |
ShutterSpeed | 1/25 |
ShutterSpeedValue | 1/25 |
Software | Adobe Photoshop CS6 (Windows) |
SplitToningBalance | 0 |
SplitToningHighlightHue | 0 |
SplitToningHighlightSaturation | 0 |
SplitToningShadowHue | 0 |
SplitToningShadowSaturation | 0 |
State | Finnmark |
Sub-location | Mountainside |
Subject | hurtigruten, kong harald, kjøllefjord, arrival, leaving |
SubjectDistanceRange | Distant |
Tint | +10 |
ToneCurveName2012 | Custom |
ToneCurvePV2012 | 0, 0, 32, 11, 173, 189, 255, 255 |
ToneCurvePV2012Blue | 0, 0, 255, 255 |
ToneCurvePV2012Green | 0, 0, 255, 255 |
ToneCurvePV2012Red | 0, 0, 255, 255 |
URL_List | |
Version | 7.3 |
Vibrance | 0 |
VignetteAmount | 0 |
WhiteBalance (1) | Daylight |
WhiteBalance | Manual |
Whites2012 | -21 |