Felt | Verdi |
AlreadyApplied | True |
BitsPerSample | 8 |
Blacks2012 | 0 |
Brightness | +50 |
CircleOfConfusion | 0.030 mm |
Clarity | 0 |
Clarity2012 | 0 |
ColorComponents | 1 |
ColorMode | Grayscale |
ColorSpace | Uncalibrated |
Contrast | +39 |
Contrast2012 | 0 |
CreateDate | 2013:01:30 18:21:40 |
CreatorTool | 0.017 |
CropAngle | 1.88478 |
CropBottom | 0.896716 |
CropConstrainToWarp | 1 |
CropHeight | 3 |
CropLeft | 0.037512 |
CropRight | 0.871697 |
CropTop | 0 |
CropUnit | Unknown (3) |
CropWidth | 2 |
DateCreated (1) | 2013:01:30 |
DateCreated | 2013:01:30 18:21:40 |
DateTimeOriginal | 2013:01:30 18:21:40 |
DigitalZoomRatio | 0 |
ExifImageHeight | 854 |
ExifImageWidth | 1280 |
Exposure | 0.00 |
Exposure2012 | 0.00 |
ExposureCompensation | +0.664 |
ExposureMode | Manual |
ExposureProgram | Aperture-priority AE |
ExposureTime | 1/125 |
FillLight | 15 |
Flash | No Flash |
FocalLength | 35.0 mm |
FocalLength35efl | 35.0 mm (35 mm equivalent: 35.0 mm) |
FocalLengthIn35mmFormat | 35 mm |
Format | image/jpeg |
FOV | 54.4 deg |
GrainAmount | 0 |
HasCrop | True |
HasSettings | True |
HighlightRecovery | 24 |
Highlights2012 | 0 |
ICCProfileName | Gray Gamma 2.2 |
ImageHeight | 854 |
ImageSize | 1280x854 |
ImageWidth | 1280 |
ISO | 6400 |
LensManualDistortionAmount | 0 |
LensProfileEnable | 0 |
LensProfileSetup | LensDefaults |
LightSource | Unknown |
LuminanceNoiseReductionContrast | 0 |
LuminanceNoiseReductionDetail | 50 |
LuminanceSmoothing | 23 |
Make | Leica Camera AG |
MakerNoteSafety | Safe |
MaxApertureValue | 2.0 |
Megapixels | 1.1 |
MeteringMode | Center-weighted average |
Model | M Monochrom |
ModifyDate (1) | 2013:01:30 19:54:43+01:00 |
ModifyDate | 2013:01:30 19:54:43 |
Orientation | Horizontal (normal) |
ParametricDarks | 0 |
ParametricHighlights | 0 |
ParametricHighlightSplit | 75 |
ParametricLights | 0 |
ParametricMidtoneSplit | 50 |
ParametricShadows | 0 |
ParametricShadowSplit | 25 |
PerspectiveHorizontal | 0 |
PerspectiveRotate | 0.0 |
PerspectiveScale | 100 |
PerspectiveVertical | 0 |
PostCropVignetteAmount | 0 |
ProcessVersion | 5.7 |
ProfileDescription | Gray Gamma 2.2 |
Rating | 0 |
RawFileName | L1001738.DNG |
ScaleFactor35efl | 1.0 |
SceneCaptureType | Standard |
SceneType | Directly photographed |
SerialNumber | 4344474 |
Shadows | 5 |
Shadows2012 | 0 |
SharpenDetail | 25 |
SharpenEdgeMasking | 53 |
SharpenRadius | +1.0 |
Sharpness | 49 |
ShutterSpeed | 1/125 |
ShutterSpeedValue | 1/125 |
Software | Adobe Photoshop CS5 Macintosh |
SplitToningBalance | 0 |
SplitToningHighlightHue | 0 |
SplitToningHighlightSaturation | 0 |
SplitToningShadowHue | 0 |
SplitToningShadowSaturation | 0 |
ToneCurve | 0, 0, 32, 22, 64, 56, 128, 128, 192, 196, 255, 255 |
ToneCurveBlue | 0, 0, 255, 255 |
ToneCurveGreen | 0, 0, 255, 255 |
ToneCurveName | Medium Contrast |
ToneCurveName2012 | Linear |
ToneCurvePV2012 | 0, 0, 255, 255 |
ToneCurvePV2012Blue | 0, 0, 255, 255 |
ToneCurvePV2012Green | 0, 0, 255, 255 |
ToneCurvePV2012Red | 0, 0, 255, 255 |
ToneCurveRed | 0, 0, 255, 255 |
URL_List | |
Version | 6.7 |
VignetteAmount | 0 |
Whites2012 | 0 |