Felt | Verdi |
AlreadyApplied | True |
BitsPerSample | 8 |
BlueHue | +13 |
BlueSaturation | -25 |
Brightness | 0 |
CameraProfile | Embedded |
ChromaticAberrationB | 0 |
ChromaticAberrationR | 0 |
Clarity | +69 |
ColorComponents | 1 |
ColorNoiseReduction | 0 |
Contrast | 0 |
ConvertToGrayscale | True |
CreateDate | 2009:06:01 21:43:55 |
CreatorTool | Adobe Photoshop Lightroom |
DateTimeDigitized | 2009:06:01 21:43:55+02:00 |
Defringe | 0 |
ExifImageHeight | 1536 |
ExifImageWidth | 2269 |
Exposure | -0.08 |
FillLight | 0 |
GrayMixerAqua | -19 |
GrayMixerBlue | +8 |
GrayMixerGreen | -26 |
GrayMixerMagenta | +5 |
GrayMixerOrange | -17 |
GrayMixerPurple | +15 |
GrayMixerRed | -2 |
GrayMixerYellow | -21 |
GreenHue | -6 |
GreenSaturation | +6 |
HasCrop | False |
HasSettings | True |
HighlightRecovery | 30 |
ImageHeight | 1536 |
ImageSize | 2269x1536 |
ImageWidth | 2269 |
IncrementalTemperature | -23 |
IncrementalTint | 0 |
LuminanceSmoothing | 0 |
Make | Plustek |
Megapixels | 3.5 |
Model | OpticFilm 7200 |
ModifyDate (1) | 2012:12:06 16:55:34+01:00 |
ModifyDate | 2012:12:06 16:55:34 |
ParametricDarks | -52 |
ParametricHighlights | -25 |
ParametricHighlightSplit | 75 |
ParametricLights | +23 |
ParametricMidtoneSplit | 50 |
ParametricShadows | -21 |
ParametricShadowSplit | 25 |
PostCropVignetteAmount | -8 |
PostCropVignetteFeather | 50 |
PostCropVignetteMidpoint | 50 |
PostCropVignetteRoundness | 0 |
ProfileDescription | sRGB IEC61966-2.1 |
Rating | 5 |
RedHue | -19 |
RedSaturation | -35 |
Shadows | 19 |
ShadowTint | +54 |
SharpenDetail | 25 |
SharpenEdgeMasking | 0 |
SharpenRadius | +1.0 |
Sharpness | 0 |
Software | SilverFast 6.6.0r2 |
SplitToningBalance | 0 |
SplitToningHighlightHue | 0 |
SplitToningHighlightSaturation | 0 |
SplitToningShadowHue | 0 |
SplitToningShadowSaturation | 0 |
ToneCurve | 0, 0, 255, 255 |
ToneCurveName | Linear |
Version | 5.7 |
VignetteAmount | -54 |
VignetteMidpoint | 42 |
WhiteBalance | Custom |