Felt | Verdi |
AlreadyApplied | True |
Aperture | 13.0 |
ApertureValue | 13.0 |
AutoLateralCA | 0 |
BitsPerSample | 8 |
Blacks2012 | -7 |
BlueHue | 0 |
BlueSaturation | 0 |
Brightness | +50 |
CameraProfile | Adobe Standard |
Caption-Abstract | OLYMPUS DIGITAL CAMERA |
CFAPattern | [Red,Green][Green,Blue] |
CircleOfConfusion | 0.015 mm |
Clarity | 0 |
Clarity2012 | +24 |
ColorComponents | 1 |
ColorNoiseReduction | 25 |
ColorNoiseReductionDetail | 50 |
ColorTemperature | 6150 |
Contrast (1) | +25 |
Contrast | Normal |
Contrast2012 | +17 |
ConvertToGrayscale | True |
CreateDate | 2013:07:04 21:24:54 |
CreatorTool | Adobe Photoshop Lightroom 4.0 (Windows) |
CropAngle | 0 |
CropBottom | 0.920723 |
CropConstrainToWarp | 0 |
CropHeight | 2148 |
CropLeft | 0.108146 |
CropRight | 0.991572 |
CropTop | 0.135455 |
CropUnit | pixels |
CropWidth | 3223 |
CustomRendered | Custom |
DateCreated (1) | 2013:07:04 |
DateCreated | 2013:07:04 21:24:54 |
DateTimeOriginal | 2013:07:04 21:24:54 |
Defringe | 0 |
Description | OLYMPUS DIGITAL CAMERA |
DigitalZoomRatio | 1 |
Exposure | 0.00 |
Exposure2012 | +0.24 |
ExposureCompensation | -0.7 |
ExposureMode | Manual |
ExposureProgram | Aperture-priority AE |
ExposureTime | 1/8 |
FillLight | 0 |
Flash | Auto, Did not fire |
FlashCompensation | 0 |
FNumber | 13.0 |
FocalLength | 22.0 mm |
FocalLength35efl | 22.0 mm (35 mm equivalent: 44.0 mm) |
FocalLengthIn35mmFormat | 44 mm |
Format | image/jpeg |
FOV | 44.5 deg |
GainControl | None |
GrainAmount | 0 |
GrayMixerAqua | +38 |
GrayMixerBlue | 0 |
GrayMixerGreen | +30 |
GrayMixerMagenta | 0 |
GrayMixerOrange | +38 |
GrayMixerPurple | 0 |
GrayMixerRed | +25 |
GrayMixerYellow | +40 |
GreenHue | 0 |
GreenSaturation | 0 |
HasCrop | True |
HasSettings | True |
HighlightRecovery | 0 |
Highlights2012 | +22 |
HyperfocalDistance | 2.48 m |
ImageDescription | OLYMPUS DIGITAL CAMERA |
ImageHeight | 2148 |
ImageSize | 3223x2148 |
ImageWidth | 3223 |
ISO | 100 |
Lens | 14.0-54.0 mm f/2.8-3.5 |
LensInfo | 14-54mm f/2.8-3.5 |
LensManualDistortionAmount | 0 |
LensModel | 14.0-54.0 mm f/2.8-3.5 |
LensProfileEnable | 0 |
LensProfileSetup | LensDefaults |
LensSerialNumber | 310102488 |
LightSource | Unknown |
LightValue | 10.4 |
LuminanceNoiseReductionContrast | 0 |
LuminanceNoiseReductionDetail | 50 |
LuminanceSmoothing | 13 |
Make | OLYMPUS IMAGING CORP. |
MaxApertureValue | 2.8 |
Megapixels | 6.9 |
MeteringMode | Multi-segment |
Model | E-3 |
ModifyDate (1) | 2013:07:04 22:33:47+02:00 |
ModifyDate | 2013:07:04 22:33:47 |
PaintCorrectionActive | true |
PaintCorrectionAmount | 1.000000 |
PaintCorrectionBrightness | 0.000000 |
PaintCorrectionClarity2012 | 0.000000 |
PaintCorrectionContrast2012 | -0.035290 |
PaintCorrectionExposure2012 (1) | 0.176500 |
PaintCorrectionExposure2012 (2) | -0.553000 |
PaintCorrectionExposure2012 (3) | -0.223500 |
PaintCorrectionExposure2012 (4) | -0.717750 |
PaintCorrectionExposure2012 (5) | -0.647000 |
PaintCorrectionExposure2012 | 0.082250 |
PaintCorrectionHighlights2012 | -0.129410 |
PaintCorrectionHue | 0.000000 |
PaintCorrectionLuminanceNoise | 0.000000 |
PaintCorrectionMaskCenterWeight | 0.000000 |
PaintCorrectionMaskFlow | 0.533000 |
PaintCorrectionMaskRadius (1) | 0.058825 |
PaintCorrectionMaskRadius (10) | 0.011269 |
PaintCorrectionMaskRadius (12) | 0.011238 |
PaintCorrectionMaskRadius (13) | 0.011234 |
PaintCorrectionMaskRadius (14) | 0.011318 |
PaintCorrectionMaskRadius (15) | 0.011239 |
PaintCorrectionMaskRadius (16) | 0.011219 |
PaintCorrectionMaskRadius (17) | 0.011244 |
PaintCorrectionMaskRadius (18) | 0.011250 |
PaintCorrectionMaskRadius (19) | 0.145865 |
PaintCorrectionMaskRadius (2) | 0.058325 |
PaintCorrectionMaskRadius (20) | 0.133236 |
PaintCorrectionMaskRadius (21) | 0.058838 |
PaintCorrectionMaskRadius (22) | 0.059236 |
PaintCorrectionMaskRadius (3) | 0.058574 |
PaintCorrectionMaskRadius (4) | 0.058336 |
PaintCorrectionMaskRadius (5) | 0.058304 |
PaintCorrectionMaskRadius (6) | 0.172266 |
PaintCorrectionMaskRadius (7) | 0.007950 |
PaintCorrectionMaskRadius (8) | 0.011288 |
PaintCorrectionMaskRadius (9) | 0.011306 |
PaintCorrectionMaskRadius | 0.058914 |
PaintCorrectionMaskValue | 0.586000 |
PaintCorrectionMaskWhat | Mask/Paint |
PaintCorrectionMoire | 0.000000 |
PaintCorrectionSaturation | 0.000000 |
PaintCorrectionShadows2012 | 0.000000 |
PaintCorrectionSharpness | 0.000000 |
PaintCorrectionTemperature | 0.000000 |
PaintCorrectionTint | 0.000000 |
PaintCorrectionWhat | Correction |
ParametricDarks | 0 |
ParametricHighlights | 0 |
ParametricHighlightSplit | 75 |
ParametricLights | 0 |
ParametricMidtoneSplit | 50 |
ParametricShadows | 0 |
ParametricShadowSplit | 25 |
PerspectiveHorizontal | 0 |
PerspectiveRotate | 0.0 |
PerspectiveScale | 100 |
PerspectiveVertical | +7 |
PostCropVignetteAmount | -15 |
PostCropVignetteFeather | 50 |
PostCropVignetteHighlightContrast | 0 |
PostCropVignetteMidpoint | 50 |
PostCropVignetteRoundness | 0 |
PostCropVignetteStyle | 1 |
ProcessVersion | 6.7 |
ProfileDescription | sRGB IEC61966-2.1 |
RedHue | 0 |
RedSaturation | 0 |
Saturation | High |
ScaleFactor35efl | 2.0 |
SceneCaptureType | Standard |
SerialNumber | D70518049 |
Shadows | 5 |
Shadows2012 | +15 |
ShadowTint | 0 |
SharpenDetail | 25 |
SharpenEdgeMasking | 0 |
SharpenRadius | +1.0 |
Sharpness (1) | 25 |
Sharpness | Hard |
ShutterSpeed | 1/8 |
ShutterSpeedValue | 1/8 |
Software | Adobe Photoshop Lightroom 4.0 (Windows) |
SplitToningBalance | 0 |
SplitToningHighlightHue | 0 |
SplitToningHighlightSaturation | 0 |
SplitToningShadowHue | 0 |
SplitToningShadowSaturation | 0 |
Tint | 0 |
ToneCurve | 0, 0, 255, 255 |
ToneCurveBlue | 0, 0, 255, 255 |
ToneCurveGreen | 0, 0, 255, 255 |
ToneCurveName | Linear |
ToneCurveName2012 | Linear |
ToneCurvePV2012 | 0, 0, 255, 255 |
ToneCurvePV2012Blue | 0, 0, 255, 255 |
ToneCurvePV2012Green | 0, 0, 255, 255 |
ToneCurvePV2012Red | 0, 0, 255, 255 |
ToneCurveRed | 0, 0, 255, 255 |
Version | 7.0 |
VignetteAmount | -27 |
VignetteMidpoint | 50 |
WhiteBalance (1) | Auto |
WhiteBalance | Manual |
Whites2012 | 0 |