Felt | Verdi |
AlreadyApplied | True |
Aperture | 2.8 |
ApertureValue | 2.8 |
ApproximateFocusDistance | 4294967295 |
Artist | Tom E Felberg |
AutoLateralCA | 0 |
BitsPerSample | 8 |
Blacks2012 | +73 |
BlueHue | 0 |
BlueSaturation | 0 |
By-line | Tom E Felberg |
CameraProfile | Adobe Standard |
CFAPattern | [Red,Green][Green,Blue] |
CircleOfConfusion | 0.020 mm |
Clarity2012 | +28 |
ColorComponents | 3 |
ColorMode | RGB |
ColorNoiseReduction | 25 |
ColorNoiseReductionDetail | 50 |
ColorSpace | sRGB |
ColorTemperature | 7500 |
Contrast | Normal |
Contrast2012 | +22 |
ConvertToGrayscale | False |
Copyright | Tom E. Felberg |
CopyrightNotice | Tom E. Felberg |
CreateDate | 2013:09:18 20:13:35 |
Creator | Tom E Felberg, Tom E. Felberg |
CreatorTool | Ver.1.10 |
CustomRendered | Normal |
DateCreated (1) | 2013:09:18 |
DateCreated | 2013:09:18 20:13:35.086+02:00 |
DateTimeOriginal | 2013:09:18 20:13:35 |
DefringeGreenAmount | 0 |
DefringeGreenHueHi | 60 |
DefringeGreenHueLo | 40 |
DefringePurpleAmount | 0 |
DefringePurpleHueHi | 70 |
DefringePurpleHueLo | 30 |
DigitalZoomRatio | 1 |
DOF | inf (12.84 m - inf) |
ExifImageHeight | 664 |
ExifImageWidth | 1000 |
Exposure2012 | -1.05 |
ExposureCompensation | 0 |
ExposureMode | Auto |
ExposureProgram | Aperture-priority AE |
ExposureTime | 1.6 |
Flash | No Flash |
FNumber | 2.8 |
FocalLength | 27.0 mm |
FocalLength35efl | 27.0 mm (35 mm equivalent: 40.0 mm) |
FocalLengthIn35mmFormat | 40 mm |
Format | image/jpeg |
FOV | 48.5 deg |
GainControl | High gain up |
GrainAmount | 0 |
GreenHue | 0 |
GreenSaturation | 0 |
HasCrop | False |
HasSettings | True |
Highlights2012 | 0 |
HueAdjustmentAqua | 0 |
HueAdjustmentBlue | 0 |
HueAdjustmentGreen | 0 |
HueAdjustmentMagenta | 0 |
HueAdjustmentOrange | 0 |
HueAdjustmentPurple | 0 |
HueAdjustmentRed | 0 |
HueAdjustmentYellow | 0 |
HyperfocalDistance | 12.84 m |
ICCProfileName | sRGB IEC61966-2.1 |
ImageHeight | 664 |
ImageNumber | 39609 |
ImageSize | 1000x664 |
ImageWidth | 1000 |
ISO | 2000 |
Lens | 17.0-50.0 mm f/2.8 |
LensID (1) | 157 |
LensID | Sigma 17-50mm F2.8 EX DC OS HSM |
LensInfo | 17-50mm f/2.8 |
LensManualDistortionAmount | 0 |
LensModel | 17.0-50.0 mm f/2.8 |
LensProfileChromaticAberrationScale | 100 |
LensProfileDistortionScale | 100 |
LensProfileEnable | 1 |
LensProfileFilename | NIKON CORPORATION (SIGMA 17-50mm F2.8 EX DC OS HSM) - RAW.lcp |
LensProfileName | Adobe (SIGMA 17-50mm F2.8 EX DC OS HSM, NIKON CORPORATION) |
LensProfileSetup | LensDefaults |
LensProfileVignettingScale | 100 |
LightSource | Unknown |
LightValue | -2.0 |
LuminanceAdjustmentAqua | 0 |
LuminanceAdjustmentBlue | 0 |
LuminanceAdjustmentGreen | 0 |
LuminanceAdjustmentMagenta | 0 |
LuminanceAdjustmentOrange | 0 |
LuminanceAdjustmentPurple | 0 |
LuminanceAdjustmentRed | 0 |
LuminanceAdjustmentYellow | 0 |
LuminanceNoiseReductionContrast | 0 |
LuminanceNoiseReductionDetail | 50 |
LuminanceSmoothing | 31 |
Make | NIKON CORPORATION |
MaxApertureValue | 2.8 |
Megapixels | 0.664 |
MeteringMode | Multi-segment |
Model | NIKON D300 |
ModifyDate (1) | 2013:09:18 21:43:22+02:00 |
ModifyDate | 2013:09:18 21:43:22 |
Orientation | Horizontal (normal) |
ParametricDarks | 0 |
ParametricHighlights | 0 |
ParametricHighlightSplit | 75 |
ParametricLights | 0 |
ParametricMidtoneSplit | 50 |
ParametricShadows | 0 |
ParametricShadowSplit | 25 |
PerspectiveHorizontal | 0 |
PerspectiveRotate | 0.0 |
PerspectiveScale | 100 |
PerspectiveVertical | 0 |
PostCropVignetteAmount | 0 |
ProcessVersion | 6.7 |
ProfileDescription | sRGB IEC61966-2.1 |
Rating | 0 |
RawFileName | 20130918_4611.NEF |
RedHue | 0 |
RedSaturation | 0 |
Rights | Tom E. Felberg |
Saturation (1) | +19 |
Saturation | Normal |
SaturationAdjustmentAqua | 0 |
SaturationAdjustmentBlue | 0 |
SaturationAdjustmentGreen | 0 |
SaturationAdjustmentMagenta | 0 |
SaturationAdjustmentOrange | 0 |
SaturationAdjustmentPurple | 0 |
SaturationAdjustmentRed | 0 |
SaturationAdjustmentYellow | 0 |
ScaleFactor35efl | 1.5 |
SceneCaptureType | Standard |
SceneType | Directly photographed |
SensingMethod | One-chip color area |
SerialNumber | 4164031 |
Shadows2012 | 0 |
ShadowTint | 0 |
SharpenDetail | 25 |
SharpenEdgeMasking | 0 |
SharpenRadius | +1.0 |
Sharpness (1) | 25 |
Sharpness | Hard |
ShutterSpeed | 1.6 |
ShutterSpeedValue | 1.6 |
Software | Adobe Photoshop CS6 (Windows) |
SplitToningBalance | 0 |
SplitToningHighlightHue | 0 |
SplitToningHighlightSaturation | 0 |
SplitToningShadowHue | 0 |
SplitToningShadowSaturation | 0 |
SubjectDistanceRange | Unknown |
Tint | +10 |
ToneCurveName2012 | Linear |
ToneCurvePV2012 | 0, 0, 255, 255 |
ToneCurvePV2012Blue | 0, 0, 255, 255 |
ToneCurvePV2012Green | 0, 0, 255, 255 |
ToneCurvePV2012Red | 0, 0, 255, 255 |
URL_List | |
Version | 7.3 |
Vibrance | 0 |
VignetteAmount | 0 |
WhiteBalance (1) | Shade |
WhiteBalance | Auto |
Whites2012 | 0 |