Felt | Verdi |
AlreadyApplied | True |
Aperture | 1.4 |
ApertureValue | 1.4 |
ApproximateFocusDistance | 1.29 |
AutoLateralCA | 0 |
AutoWhiteVersion | 134348800 |
BitsPerSample | 8 |
Blacks2012 | 0 |
BlueHue | 0 |
BlueSaturation | 0 |
CameraProfile | Embedded |
CircleOfConfusion | 0.019 mm |
Clarity2012 | +38 |
ColorComponents | 1 |
ColorNoiseReduction | 0 |
ColorSpace | sRGB |
Contrast2012 | +64 |
ConvertToGrayscale | True |
CreateDate (1) | 2013:11:06 10:34:18.00 |
CreateDate | 2013:11:06 10:34:18 |
CreatorTool | Adobe Photoshop Lightroom 5.0 (Macintosh) |
CustomRendered | Normal |
DateCreated (1) | 2013:11:06 |
DateCreated | 2013:11:06 10:34:18.00 |
DateTimeOriginal | 2013:11:06 10:34:18 |
DOF | 0.03 m (1.27 - 1.31 m) |
Exposure2012 | 0.00 |
ExposureCompensation | 0 |
ExposureMode | Auto |
ExposureProgram | Aperture-priority AE |
ExposureTime | 1/640 |
Firmware | 1.0.9 |
Flash | Off, Did not fire |
FlashCompensation | 0 |
FNumber | 1.4 |
FocalLength | 50.0 mm |
FocalLength35efl | 50.0 mm (35 mm equivalent: 78.6 mm) |
Format | image/jpeg |
FOV | 25.8 deg |
GrainAmount | 0 |
GrayMixerAqua | -17 |
GrayMixerBlue | +11 |
GrayMixerGreen | -27 |
GrayMixerMagenta | +3 |
GrayMixerOrange | -19 |
GrayMixerPurple | +16 |
GrayMixerRed | -10 |
GrayMixerYellow | -23 |
GreenHue | 0 |
GreenSaturation | 0 |
HasCrop | False |
HasSettings | True |
Highlights2012 | -44 |
HyperfocalDistance | 93.47 m |
ImageHeight | 3456 |
ImageNumber | 0 |
ImageSize | 5184x3456 |
ImageWidth | 5184 |
IncrementalTemperature | 0 |
IncrementalTint | 0 |
ISO | 100 |
Lens | 50mm |
LensID (1) | 169 |
LensID | Sigma 50mm f/1.4 EX DG HSM |
LensInfo | 50mm f/? |
LensManualDistortionAmount | 0 |
LensModel | 50mm |
LensProfileEnable | 0 |
LensProfileSetup | LensDefaults |
LightValue | 10.3 |
LuminanceSmoothing | 0 |
Make | Canon |
MaxApertureValue | 1.4 |
Megapixels | 17.9 |
MeteringMode | Spot |
Model | Canon EOS 550D |
ModifyDate (1) | 2013:11:16 00:17:38+01:00 |
ModifyDate | 2013:11:16 00:17:38 |
ParametricDarks | 0 |
ParametricHighlights | 0 |
ParametricHighlightSplit | 75 |
ParametricLights | 0 |
ParametricMidtoneSplit | 50 |
ParametricShadows | 0 |
ParametricShadowSplit | 25 |
PerspectiveAspect | 0 |
PerspectiveHorizontal | 0 |
PerspectiveRotate | 0.0 |
PerspectiveScale | 100 |
PerspectiveUpright | 0 |
PerspectiveVertical | 0 |
PostCropVignetteAmount | 0 |
ProcessVersion | 6.7 |
ProfileDescription | sRGB IEC61966-2.1 |
RedHue | 0 |
RedSaturation | 0 |
ScaleFactor35efl | 1.6 |
SceneCaptureType | Standard |
SerialNumber | 1935018132 |
Shadows2012 | +73 |
ShadowTint | 0 |
SharpenDetail | 25 |
SharpenEdgeMasking | 0 |
SharpenRadius | +1.0 |
Sharpness | 60 |
ShutterSpeed | 1/640 |
ShutterSpeedValue | 1/640 |
Software | Adobe Photoshop Lightroom 5.0 (Macintosh) |
SplitToningBalance | 0 |
SplitToningHighlightHue | 0 |
SplitToningHighlightSaturation | 0 |
SplitToningShadowHue | 0 |
SplitToningShadowSaturation | 0 |
ToneCurveName2012 | Linear |
ToneCurvePV2012 | 0, 0, 255, 255 |
ToneCurvePV2012Blue | 0, 0, 255, 255 |
ToneCurvePV2012Green | 0, 0, 255, 255 |
ToneCurvePV2012Red | 0, 0, 255, 255 |
Version | 8.2 |
VignetteAmount | 0 |
WhiteBalance (1) | As Shot |
WhiteBalance | Auto |
Whites2012 | 0 |