Felt | Verdi |
AlreadyApplied | True |
Aperture | 3.5 |
ApertureValue | 3.5 |
ApproximateFocusDistance | 4294967295 |
AutoLateralCA | 1 |
AutoWhiteVersion | 134348800 |
BitsPerSample | 8 |
Blacks2012 | -21 |
BlueHue | -5 |
BlueSaturation | +25 |
CameraProfile | Fuji Velvia 100 - N |
CFAPattern | [Red,Green][Green,Blue] |
CircleOfConfusion | 0.020 mm |
Clarity2012 | 0 |
ColorComponents | 3 |
ColorNoiseReduction | 25 |
ColorNoiseReductionDetail | 75 |
ColorNoiseReductionSmoothness | 50 |
ColorTemperature | 3250 |
Contrast | Normal |
Contrast2012 | 0 |
ConvertToGrayscale | False |
CreateDate (1) | 2013:06:05 15:34:17.10 |
CreateDate | 2013:06:05 15:34:17 |
CreatorTool | Adobe Photoshop Lightroom 5.0 (Windows) |
CropAngle | 0 |
CropBottom | 0.985507 |
CropConstrainToWarp | 0 |
CropLeft | 0.039855 |
CropRight | 1 |
CropTop | 0.025362 |
CustomRendered | Normal |
DateCreated (1) | 2013:06:05 |
DateCreated | 2013:06:05 15:34:17.10 |
DateTimeOriginal | 2013:06:05 15:34:17 |
DefringeGreenAmount | 0 |
DefringeGreenHueHi | 80 |
DefringeGreenHueLo | 15 |
DefringePurpleAmount | 0 |
DefringePurpleHueHi | 70 |
DefringePurpleHueLo | 39 |
DigitalZoomRatio | 1 |
DOF | inf (4.04 m - inf) |
Exposure2012 | 0.00 |
ExposureCompensation | -2/3 |
ExposureMode | Auto |
ExposureProgram | Aperture-priority AE |
ExposureTime | 1/40 |
Flash | No Flash |
FNumber | 3.5 |
FocalLength | 17.0 mm |
FocalLength35efl | 17.0 mm (35 mm equivalent: 25.0 mm) |
FocalLengthIn35mmFormat | 25 mm |
Format | image/jpeg |
FOV | 71.5 deg |
GainControl | Low gain up |
GrainAmount | 0 |
GreenHue | +10 |
GreenSaturation | -10 |
HasCrop | True |
HasSettings | True |
Highlights2012 | -25 |
HueAdjustmentAqua | +10 |
HueAdjustmentBlue | +20 |
HueAdjustmentGreen | +10 |
HueAdjustmentMagenta | +15 |
HueAdjustmentOrange | -5 |
HueAdjustmentPurple | +30 |
HueAdjustmentRed | +12 |
HueAdjustmentYellow | +5 |
HyperfocalDistance | 4.04 m |
ImageHeight | 4732 |
ImageNumber | 19051 |
ImageSize | 3134x4732 |
ImageWidth | 3134 |
ISO | 800 |
Lens | 17.0-50.0 mm f/2.8 |
LensID (1) | 143 |
LensID | Sigma 17-50mm F2.8 EX DC OS HSM |
LensInfo | 17-50mm f/2.8 |
LensManualDistortionAmount | 0 |
LensModel | 17.0-50.0 mm f/2.8 |
LensProfileEnable | 0 |
LensProfileSetup | LensDefaults |
LightSource | Unknown |
LightValue | 5.9 |
LuminanceAdjustmentAqua | +24 |
LuminanceAdjustmentBlue | -10 |
LuminanceAdjustmentGreen | 0 |
LuminanceAdjustmentMagenta | -15 |
LuminanceAdjustmentOrange | -10 |
LuminanceAdjustmentPurple | +3 |
LuminanceAdjustmentRed | -20 |
LuminanceAdjustmentYellow | 0 |
LuminanceSmoothing | 0 |
Make | NIKON CORPORATION |
MaxApertureValue | 2.8 |
Megapixels | 14.8 |
MeteringMode | Center-weighted average |
Model | NIKON D5100 |
ModifyDate (1) | 2013:09:18 01:45:51+02:00 |
ModifyDate | 2013:09:18 01:45:51 |
ParametricDarks | 0 |
ParametricHighlights | 0 |
ParametricHighlightSplit | 75 |
ParametricLights | 0 |
ParametricMidtoneSplit | 58 |
ParametricShadows | +74 |
ParametricShadowSplit | 21 |
PerspectiveAspect | 0 |
PerspectiveHorizontal | +5 |
PerspectiveRotate | 0.0 |
PerspectiveScale | 100 |
PerspectiveUpright | 0 |
PerspectiveVertical | 0 |
PostCropVignetteAmount | 0 |
ProcessVersion | 6.7 |
ProfileDescription | sRGB IEC61966-2.1 |
RedHue | +10 |
RedSaturation | +10 |
Saturation (1) | +5 |
Saturation | Normal |
SaturationAdjustmentAqua | +48 |
SaturationAdjustmentBlue | +27 |
SaturationAdjustmentGreen | +32 |
SaturationAdjustmentMagenta | -15 |
SaturationAdjustmentOrange | -5 |
SaturationAdjustmentPurple | -6 |
SaturationAdjustmentRed | -10 |
SaturationAdjustmentYellow | +58 |
ScaleFactor35efl | 1.5 |
SceneCaptureType | Standard |
SceneType | Directly photographed |
SensingMethod | One-chip color area |
SensitivityType | Recommended Exposure Index |
SerialNumber | 6768598 |
Shadows2012 | +88 |
ShadowTint | 0 |
SharpenDetail | 25 |
SharpenEdgeMasking | 39 |
SharpenRadius | +1.0 |
Sharpness (1) | 40 |
Sharpness | Normal |
ShutterSpeed | 1/40 |
ShutterSpeedValue | 1/40 |
Software | Adobe Photoshop Lightroom 5.0 (Windows) |
SplitToningBalance | 0 |
SplitToningHighlightHue | 220 |
SplitToningHighlightSaturation | 10 |
SplitToningShadowHue | 0 |
SplitToningShadowSaturation | 0 |
SubjectDistanceRange | Unknown |
Tint | -1 |
ToneCurveName2012 | Custom |
ToneCurvePV2012 | 0, 0, 255, 255 |
ToneCurvePV2012Blue | 0, 0, 46, 23, 110, 125, 171, 207, 255, 255 |
ToneCurvePV2012Green | 0, 0, 49, 22, 113, 122, 174, 200, 255, 255 |
ToneCurvePV2012Red | 0, 0, 46, 19, 115, 121, 179, 201, 255, 255 |
UserComment | (c) Fredrik R. Hansen |
Version | 8.2 |
Vibrance | 0 |
VignetteAmount | 0 |
WhiteBalance (1) | As Shot |
WhiteBalance | Auto |
Whites2012 | 0 |