Felt | Verdi |
AlreadyApplied | True |
Aperture | 2.8 |
ApertureValue | 2.8 |
Artist | Edvin Urkedal Koppen |
AutoLateralCA | 0 |
BitsPerSample | 8 |
Blacks2012 | -36 |
BlueHue | 0 |
BlueSaturation | 0 |
By-line | Edvin Urkedal Koppen |
CameraProfile | Camera Standard |
CircleOfConfusion | 0.019 mm |
Clarity2012 | +33 |
ColorComponents | 3 |
ColorNoiseReduction | 25 |
ColorNoiseReductionDetail | 50 |
ColorTemperature | 3786 |
Contrast2012 | +38 |
ConvertToGrayscale | False |
Copyright | Edvin Urkedal Koppen |
CopyrightNotice | Edvin Urkedal Koppen |
CreateDate (1) | 2013:11:17 12:59:06.86 |
CreateDate | 2013:11:17 12:59:06 |
Creator | Edvin Urkedal Koppen |
CreatorTool | Adobe Photoshop Lightroom 4.1 (Windows) |
CropAngle | 0.506 |
CropBottom | 1 |
CropConstrainToWarp | 0 |
CropHeight | 3411 |
CropLeft | 0.009442 |
CropRight | 0.990558 |
CropTop | 0 |
CropUnit | pixels |
CropWidth | 5116 |
CustomRendered | Normal |
DateCreated (1) | 2013:11:17 |
DateCreated | 2013:11:17 12:59:06.86 |
DateTimeOriginal | 2013:11:17 12:59:06 |
DefringeGreenAmount | 0 |
DefringeGreenHueHi | 60 |
DefringeGreenHueLo | 40 |
DefringePurpleAmount | 0 |
DefringePurpleHueHi | 70 |
DefringePurpleHueLo | 30 |
Exposure2012 | +0.60 |
ExposureCompensation | 0 |
ExposureMode | Manual |
ExposureProgram | Manual |
ExposureTime | 1/40 |
Firmware | 2.0.3 |
Flash | Off, Did not fire |
FlashCompensation | 0 |
FNumber | 2.8 |
FocalLength | 26.0 mm |
FocalLength35efl | 26.0 mm (35 mm equivalent: 40.8 mm) |
Format | image/jpeg |
FOV | 47.6 deg |
GrainAmount | 0 |
GreenHue | 0 |
GreenSaturation | 0 |
HasCrop | True |
HasSettings | True |
Highlights2012 | -62 |
HueAdjustmentAqua | 0 |
HueAdjustmentBlue | 0 |
HueAdjustmentGreen | 0 |
HueAdjustmentMagenta | 0 |
HueAdjustmentOrange | 0 |
HueAdjustmentPurple | 0 |
HueAdjustmentRed | 0 |
HueAdjustmentYellow | 0 |
HyperfocalDistance | 12.62 m |
ImageHeight | 3411 |
ImageNumber | 0 |
ImageSize | 5116x3411 |
ImageWidth | 5116 |
ISO | 1600 |
Lens | 17-50mm |
LensID (1) | 161 |
LensID | Tamron AF 17-50mm f/2.8 Di-II LD Aspherical |
LensInfo | 17-50mm f/? |
LensManualDistortionAmount | 0 |
LensModel | 17-50mm |
LensProfileEnable | 0 |
LensProfileSetup | LensDefaults |
LightValue | 4.3 |
LuminanceAdjustmentAqua | 0 |
LuminanceAdjustmentBlue | 0 |
LuminanceAdjustmentGreen | 0 |
LuminanceAdjustmentMagenta | 0 |
LuminanceAdjustmentOrange | 0 |
LuminanceAdjustmentPurple | 0 |
LuminanceAdjustmentRed | 0 |
LuminanceAdjustmentYellow | 0 |
LuminanceNoiseReductionContrast | 0 |
LuminanceNoiseReductionDetail | 50 |
LuminanceSmoothing | 21 |
Make | Canon |
MaxApertureValue | 2.8 |
Megapixels | 17.5 |
MeteringMode | Multi-segment |
Model | Canon EOS 7D |
ModifyDate (1) | 2014:03:01 21:44:04+01:00 |
ModifyDate | 2014:03:01 21:44:04 |
ParametricDarks | 0 |
ParametricHighlights | 0 |
ParametricHighlightSplit | 75 |
ParametricLights | 0 |
ParametricMidtoneSplit | 50 |
ParametricShadows | 0 |
ParametricShadowSplit | 25 |
PerspectiveHorizontal | 0 |
PerspectiveRotate | 0.0 |
PerspectiveScale | 100 |
PerspectiveVertical | 0 |
PostCropVignetteAmount | -24 |
PostCropVignetteFeather | 50 |
PostCropVignetteHighlightContrast | 0 |
PostCropVignetteMidpoint | 27 |
PostCropVignetteRoundness | 0 |
PostCropVignetteStyle | 1 |
ProcessVersion | 6.7 |
ProfileDescription | sRGB IEC61966-2.1 |
RecommendedExposureIndex | 1600 |
RedHue | 0 |
RedSaturation | 0 |
Rights | Edvin Urkedal Koppen |
Saturation | 0 |
SaturationAdjustmentAqua | 0 |
SaturationAdjustmentBlue | 0 |
SaturationAdjustmentGreen | 0 |
SaturationAdjustmentMagenta | 0 |
SaturationAdjustmentOrange | -18 |
SaturationAdjustmentPurple | 0 |
SaturationAdjustmentRed | 0 |
SaturationAdjustmentYellow | 0 |
ScaleFactor35efl | 1.6 |
SceneCaptureType | Standard |
SensitivityType | Recommended Exposure Index |
SerialNumber | 1580814015 |
Shadows2012 | +60 |
ShadowTint | 0 |
SharpenDetail | 25 |
SharpenEdgeMasking | 0 |
SharpenRadius | +1.0 |
Sharpness | 25 |
ShutterSpeed | 1/40 |
ShutterSpeedValue | 1/40 |
Software | Adobe Photoshop Lightroom 4.1 (Windows) |
SplitToningBalance | 0 |
SplitToningHighlightHue | 0 |
SplitToningHighlightSaturation | 0 |
SplitToningShadowHue | 0 |
SplitToningShadowSaturation | 0 |
Tint | +4 |
ToneCurveName2012 | Linear |
ToneCurvePV2012 | 0, 0, 255, 255 |
ToneCurvePV2012Blue | 0, 0, 255, 255 |
ToneCurvePV2012Green | 0, 0, 255, 255 |
ToneCurvePV2012Red | 0, 0, 255, 255 |
Version | 7.1 |
Vibrance | 0 |
VignetteAmount | 0 |
WhiteBalance (1) | Custom |
WhiteBalance | Auto |
Whites2012 | 0 |