Felt | Verdi |
AlreadyApplied | True |
Aperture | 11.0 |
ApertureValue | 11.0 |
AutoLateralCA | 0 |
AutoWhiteVersion | 134348800 |
BitsPerSample | 8 |
Blacks2012 | +23 |
BlueHue | 0 |
BlueSaturation | 0 |
CameraProfile | Adobe Standard |
CircleOfConfusion | 0.031 mm |
Clarity2012 | +62 |
ColorComponents | 3 |
ColorMode | RGB |
ColorNoiseReduction | 25 |
ColorNoiseReductionDetail | 50 |
ColorNoiseReductionSmoothness | 50 |
ColorSpace | Uncalibrated |
ColorTemperature | 5400 |
Contrast2012 | 0 |
ConvertToGrayscale | True |
CreateDate | 2014:03:29 16:18:02 |
CropAngle | 1.26197 |
CropBottom | 0.898035 |
CropConstrainToWarp | 0 |
CropLeft | 0.012904 |
CropRight | 0.585784 |
CropTop | 0 |
CustomRendered | Normal |
DateCreated (1) | 2014:03:29 |
DateCreated | 2014:03:29 16:18:02.043 |
DateTimeOriginal | 2014:03:29 16:18:02 |
ExifImageHeight | 3291 |
ExifImageWidth | 3291 |
Exposure2012 | -0.10 |
ExposureCompensation | 0 |
ExposureMode | Manual |
ExposureProgram | Manual |
ExposureTime | 1/320 |
Firmware | 2.0.7 |
Flash | Off, Did not fire |
FlashCompensation | 0 |
FNumber | 11.0 |
FocalLength | 18.0 mm |
FocalLength35efl | 18.0 mm (35 mm equivalent: 17.6 mm) |
Format | image/jpeg |
FOV | 91.4 deg |
GradientBasedCorrActive | true |
GradientBasedCorrAmount | 1.000000 |
GradientBasedCorrBrightness | 0.000000 |
GradientBasedCorrClarity | 0.000000 |
GradientBasedCorrClarity2012 | 0.000000 |
GradientBasedCorrContrast | 0.000000 |
GradientBasedCorrContrast2012 | 0.000000 |
GradientBasedCorrDefringe | 0.000000 |
GradientBasedCorrExposure | 0.000000 |
GradientBasedCorrExposure2012 (1) | -0.629916 |
GradientBasedCorrExposure2012 (2) | 0.000000 |
GradientBasedCorrExposure2012 | -0.071805 |
GradientBasedCorrHighlights2012 (2) | 1.000000 |
GradientBasedCorrHighlights2012 | 0.000000 |
GradientBasedCorrHue | 240.000000 |
GradientBasedCorrLuminanceNoise | 0.000000 |
GradientBasedCorrMaskFullX (1) | 0.448027 |
GradientBasedCorrMaskFullX (2) | 0.318221 |
GradientBasedCorrMaskFullX | -0.070049 |
GradientBasedCorrMaskFullY (1) | 0.100926 |
GradientBasedCorrMaskFullY (2) | 0.803436 |
GradientBasedCorrMaskFullY | 0.490313 |
GradientBasedCorrMaskValue | 1.000000 |
GradientBasedCorrMaskWhat | Mask/Gradient |
GradientBasedCorrMaskZeroX (1) | 0.014936 |
GradientBasedCorrMaskZeroX (2) | 0.297294 |
GradientBasedCorrMaskZeroX | 0.398401 |
GradientBasedCorrMaskZeroY (1) | 0.998454 |
GradientBasedCorrMaskZeroY (2) | 0.509699 |
GradientBasedCorrMaskZeroY | 0.507403 |
GradientBasedCorrMoire | 0.000000 |
GradientBasedCorrSaturation | 0.000000 |
GradientBasedCorrShadows2012 (1) | 1.000000 |
GradientBasedCorrShadows2012 (2) | 0.000000 |
GradientBasedCorrShadows2012 | -0.312061 |
GradientBasedCorrSharpness | 0.000000 |
GradientBasedCorrTemperature | 0.000000 |
GradientBasedCorrTint | 0.000000 |
GradientBasedCorrWhat | Correction |
GrainAmount | 0 |
GrayMixerAqua | -18 |
GrayMixerBlue | +11 |
GrayMixerGreen | -27 |
GrayMixerMagenta | +4 |
GrayMixerOrange | -19 |
GrayMixerPurple | +16 |
GrayMixerRed | -10 |
GrayMixerYellow | -23 |
GreenHue | 0 |
GreenSaturation | 0 |
HasCrop | True |
HasSettings | True |
Highlights2012 | +63 |
HyperfocalDistance | 0.96 m |
ICCProfileName | ProPhoto RGB |
ImageHeight | 3291 |
ImageNumber | 0 |
ImageSize | 3291x3291 |
ImageWidth | 3291 |
ISO | 100 |
Label | |
Lens | Zeiss Distagon T* 3.5/18 ZE |
LensID (1) | 33 |
LensID | Carl Zeiss Distagon T* 18mm f/3.5 ZE |
LensInfo | 18mm f/? |
LensManualDistortionAmount | 0 |
LensModel | Zeiss Distagon T* 3.5/18 ZE |
LensProfileEnable | 0 |
LensProfileSetup | LensDefaults |
LightValue | 15.2 |
LuminanceSmoothing | 0 |
Make | Canon |
MaxApertureValue | 3.5 |
Megapixels | 10.8 |
MeteringMode | Center-weighted average |
Model | Canon EOS 5D Mark II |
ModifyDate (1) | 2014:03:30 16:58:29+02:00 |
ModifyDate | 2014:03:30 16:58:29 |
Orientation | Horizontal (normal) |
ParametricDarks | 0 |
ParametricHighlights | 0 |
ParametricHighlightSplit | 75 |
ParametricLights | 0 |
ParametricMidtoneSplit | 50 |
ParametricShadows | 0 |
ParametricShadowSplit | 25 |
PerspectiveAspect | 0 |
PerspectiveHorizontal | 0 |
PerspectiveRotate | 0.0 |
PerspectiveScale | 100 |
PerspectiveUpright | 0 |
PerspectiveVertical | 0 |
PostCropVignetteAmount | 0 |
ProcessVersion | 6.7 |
ProfileDescription | ProPhoto RGB |
Rating | 0 |
RawFileName | _MG_8839.CR2 |
RedHue | 0 |
RedSaturation | 0 |
ScaleFactor35efl | 1.0 |
SceneCaptureType | Standard |
SerialNumber | 2331316328 |
Shadows2012 | +2 |
ShadowTint | 0 |
SharpenDetail | 25 |
SharpenEdgeMasking | 0 |
SharpenRadius | +1.0 |
Sharpness | 25 |
ShutterSpeed | 1/320 |
ShutterSpeedValue | 1/320 |
Software | Adobe Photoshop CS6 (Macintosh) |
SplitToningBalance | 0 |
SplitToningHighlightHue | 0 |
SplitToningHighlightSaturation | 0 |
SplitToningShadowHue | 0 |
SplitToningShadowSaturation | 0 |
Tint | +9 |
ToneCurveName2012 | Linear |
ToneCurvePV2012 | 0, 0, 255, 255 |
ToneCurvePV2012Blue | 0, 0, 255, 255 |
ToneCurvePV2012Green | 0, 0, 255, 255 |
ToneCurvePV2012Red | 0, 0, 255, 255 |
URL_List | |
Version | 8.3 |
VignetteAmount | 0 |
WhiteBalance (1) | As Shot |
WhiteBalance | Auto |
Whites2012 | +85 |